Workbook

Sheet Főösszesítő
A1: Móri Radnóti M. Ált. Iskola Magyaralmási Tagiskolájának tetőhéjazat cseréje és homlokzati felújítása, építőmesteri és szakipari munkák - Magyaralmás, Iskola utca 9.
A5: Költségvetés főösszesítő
A6: Megnevezés | C6: Anyagköltség | D6: Díjköltség
A7: 1 Építmény közvetlen költségei | C7: =+'Fejezet összesítő'!C5+'Fejezet összesítő'!C8+'Fejezet összesítő'!C11 -> 0 | D7: =+'Fejezet összesítő'!D5+'Fejezet összesítő'!D8+'Fejezet összesítő'!D11 -> 0
A8: 2.1 ÁFA vetítési alap | C8: =ROUND(C7+D7,0) -> 0
A9: 2.2 ÁFA | B9: 0.27 | C9: =ROUND(C8*B9,0) -> 0
A10: 3 A munka ára (HUF) | C10: =ROUND(C9+C8,0) -> 0
C17: Aláírás

Sheet Fejezet összesítő
A1: Ssz. | B1: Fejezet megnevezés | C1: Anyagköltség | D1: Díjköltség
A2: Építész
A3: 1 | B3: I. Elszámolható költségek | C3: ='Építész munkanem összesítő'!C20 -> 0 | D3: =+'Építész munkanem összesítő'!D20 -> 0
A4: 2 | B4: II. Kapcsolódó költségek | C4: ='Építész munkanem összesítő'!C31 -> 0 | D4: ='Építész munkanem összesítő'!D31 -> 0
B5: Összes fejezet (HUF) | C5: =ROUND(SUM(C3:C4),0) -> 0 | D5: =ROUND(SUM(D3:D4),0) -> 0
A6: Gépész
A7: 1 | B7: I. Elszámolható költségek | C7: =+'Gépész munkanem összesítő'!C8 -> 0 | D7: =+'Gépész munkanem összesítő'!D8 -> 0
B8: Összes fejezet (HUF) | C8: =ROUND(SUM(C7:C7),0) -> 0 | D8: =ROUND(SUM(D7:D7),0) -> 0
A9: Elektromos
A10: 1 | B10: I. Elszámolható költségek | C10: =+'Elektromos munkanem összesítő'!C9 -> 0 | D10: =+'Elektromos munkanem összesítő'!D9 -> 0
B11: Összes fejezet (HUF) | C11: =ROUND(SUM(C10:C10),0) -> 0 | D11: =ROUND(SUM(D10:D10),0) -> 0

Sheet Építész munkanem összesítő
A1: Ssz. | B1: Megnevezés | C1: Anyagköltség | D1: Díjköltség
A2: I. Elszámolható költségek
A3: 2 | B3: Bontás, építőanyagok újrahasznosítása | C3: ='1-2'!H4 -> 0 | D3: ='1-2'!I4 -> 0
A4: 9 | B4: Akadálymentesítés | C4: =+'1-9'!H6 -> 0 | D4: =+'1-9'!I6 -> 0
A5: 12 | B5: Felvonulási létesítmények | C5: ='1-12'!H7 -> 0 | D5: ='1-12'!I7 -> 0
A6: 15 | B6: Zsaluzás és állványozás | C6: ='1-15'!H3 -> 0 | D6: ='1-15'!I3 -> 0
A7: 21 | B7: Irtás, föld- és sziklamunka | C7: =+'1-21'!H5 -> 0 | D7: ='1-21'!I5 -> 0
A8: 23 | B8: Síkalapozás | C8: =SUM('1-23'!H3) -> 0 | D8: =SUM('1-23'!I3) -> 0
A9: 31 | B9: Helyszíni beton és vasbeton munkák | C9: ='1-31'!H5 -> 0 | D9: ='1-31'!I5 -> 0
A10: 32 | B10: Előregyártott épületszerkezeti elem elhelyezése és szerelése | C10: ='1-32'!H3 -> 0 | D10: ='1-32'!I3 -> 0
A11: 33 | B11: Falazás és egyéb kőműves munkák | C11: ='1-33'!H4 -> 0 | D11: ='1-33'!I4 -> 0
A12: 34 | B12: Fém- és könnyű épületszerkezetek szerelése | C12: ='1-34'!H3 -> 0 | D12: ='1-34'!I3 -> 0
A13: 35 | B13: Ácsmunka | C13: ='1-35'!H13 -> 0 | D13: ='1-35'!I13 -> 0
A14: 36 | B14: Vakolás és rabicolás | C14: ='1-36'!H18 -> 0 | D14: ='1-36'!I18 -> 0
A15: 39 | B15: Szárazépítés | C15: ='1-39'!H3 -> 0 | D15: ='1-39'!I3 -> 0
A16: 41 | B16: Tetőfedés | C16: ='1-41'!H13 -> 0 | D16: ='1-41'!I13 -> 0
A17: 43 | B17: Bádogozás | C17: ='1-43'!H13 -> 0 | D17: ='1-43'!I13 -> 0
A18: 44 | B18: Fa- és műanyag szerkezet elhelyezése | C18: ='1-44'!H16 -> 0 | D18: ='1-44'!I16 -> 0
A19: 48 | B19: Szigetelés | C19: ='1-48'!H30 -> 0 | D19: ='1-48'!I30 -> 0
B20: I. Fejezet munkanemei összesen (HUF) | C20: =ROUND(SUM(C3:C19),0) -> 0 | D20: =ROUND(SUM(D3:D19),0) -> 0
A21: II. Kapcsolódó költségek
A22: 15 | B22: Zsaluzás és állványozás | C22: =SUM('2-15'!H3) -> 0 | D22: =SUM('2-15'!I3) -> 0
A23: 21 | B23: Irtás, föld- és sziklamunka | C23: =SUM('2-21'!H3) -> 0 | D23: =SUM('2-21'!I3) -> 0
A24: 22 | B24: Szivárgó építés, alagcsövezés | C24: ='2-22'!H3 -> 0 | D24: ='2-22'!I3 -> 0
A25: 37 | B25: Égéstermék-elvezető berendezések | C25: ='2-37'!H3 -> 0 | D25: ='2-37'!I3 -> 0
A26: 39 | B26: Szárazépítés | C26: =SUM('2-39'!H3) -> 0 | D26: =SUM('2-39'!I3) -> 0
A27: 45 | B27: Fém nyílászáró és épületlakatos szerkezet elhelyezése | C27: ='2-45'!H3 -> 0 | D27: ='2-45'!I3 -> 0
A28: 47 | B28: Felületképzés | C28: ='2-47'!H10 -> 0 | D28: ='2-47'!I10 -> 0
A29: 61 | B29: Útburkolat alap és makadámburkolat készítése | C29: ='2-61'!H3 -> 0 | D29: ='2-61'!I3 -> 0
A30: 62 | B30: Kőburkolat készítése | C30: ='2-62'!H6 -> 0 | D30: ='2-62'!I6 -> 0
B31: II. Fejezet munkanemei összesen (HUF) | C31: =SUM(C22:C30) -> 0 | D31: =SUM(D22:D30) -> 0

Sheet 1-2
A1: Ssz. | B1: Tételszám | C1: Tétel szövege | D1: Menny. | E1: Egység | F1: Anyag egységár | G1: Díj egységre | H1: Anyag összesen | I1: Díj összesen | J1: Megjegyzés | K1: ÉNGY kód | L1: K. jelző | M1: Munkanem
A2: 1 | B2: 02-030-9.1-0134522 | C2: Bontott veszélyes hulladék elszállítása, tetőfedő anyagok, veszélyes hulladék (síkpala) elszállítása jóváhagyott hulladéklerakó telepre, ártalmatlanítási díjjal | D2: 6001.87 | E2: kg | F2: 0 | G2: 0 | H2: =ROUND(F2*D2,0) -> 0 | I2: =ROUND(G2*D2,0) -> 0 | M2: 2
A3: 2 | B3: 02-030-8.1 | C3: Bontott veszélyes hulladék berakása minősített konténerbe, gépi erővel, kiegészítő kézi munkával | D3: 38.41 | E3: m3 | F3: 0 | G3: 0 | H3: =ROUND(F3*D3,0) -> 0 | I3: =ROUND(G3*D3,0) -> 0 | M3: 2
C4: Munkanem összesen (HUF) | H4: =ROUND(SUM(H2:H3),0) -> 0 | I4: =ROUND(SUM(I2:I3),0) -> 0

Sheet 1-9
A1: Ssz. | B1: Tételszám | C1: Tétel szövege | D1: Menny. | E1: Egység | F1: Anyag egységár | G1: Díj egységre | H1: Anyag összesen | I1: Díj összesen | J1: Megjegyzés | K1: ÉNGY kód | L1: K. jelző | M1: Munkanem
A2: 1 | B2: 45-000-2.2 | C2: Rácsok, korlátok, kerítések bontása, csőkorlát | D2: 6.7 | E2: m | F2: 0 | G2: 0 | H2: =ROUND(F2*D2,0) -> 0 | I2: =ROUND(D2*G2,0) -> 0
A3: 2 | B3: 45-051-11.1.4.2 | C3: Festett, horganyzott acél korlát és fogódzó elhelyezése akadálymentes műleírás szerinti kialakításban, 4,45 + 3,75 m hosszban, 0,95 m magasságban | D3: 1 | E3: db | F3: 0 | G3: 0 | H3: =ROUND(F3*D3,0) -> 0 | I3: =ROUND(D3*G3,0) -> 0 | J3: Konszign.jel: LK-01 és LK-02 | M3: 9
A4: 3 | B4: 42-070-1.2.1.4.1-0414271 | C4: Akadálymentes burkolati figyelmeztető jelzések elhelyezése kültérben, taktilis vezetősávok, soronként négy vezetősáv esetén, ragasztható kivitelben, Induct Trade taktilis vezetősáv kül- és beltérre vakok és gyengénlátók számára, ragasztható kivitelben, poliuretán, méret: 35x500 mm, fekete, szürke, piros, sárga, kávé, narancs, kék színben, Cikkszám: IT PP1-F | D4: 17.5 | E4: m | F4: 0 | G4: 0 | H4: =ROUND(F4*D4,0) -> 0 | I4: =ROUND(D4*G4,0) -> 0
A5: 4 | B5: 42-070--1.2.6.1-0414291 | C5: Akadálymentes burkolati figyelmeztető jelzések elhelyezése kültérben, figyelmeztető jelzőkorongok, ragasztható kivitelben, Induct Trade taktilis figyelmeztető jelzés kül- és beltérre vakok és gyengénlátók számára, ragasztható kivitelben, 35 mm átmérőjű, mintázott felületű, csúszásmentes korong, 3 mm magas kivitelben, poliuretán, 7 cm-es tengelytávolsággal diagonálisan padlóburkolatba elhelyezve, fekete, szürke, piros, sárga, kávé, narancs, kék színben, Cikkszám: IT PU1 | D5: 0.18 | E5: m2 | F5: 0 | G5: 0 | H5: =ROUND(F5*D5,0) -> 0 | I5: =ROUND(D5*G5,0) -> 0
C6: Munkanem összesen (HUF) | H6: =ROUND(SUM(H2:H5),0) -> 0 | I6: =ROUND(SUM(I2:I5),0) -> 0

Sheet 1-12
A1: Ssz. | B1: Tételszám | C1: Tétel szövege | D1: Menny. | E1: Egység | F1: Anyag egységár | G1: Díj egységre | H1: Anyag összesen | I1: Díj összesen | J1: Megjegyzés | K1: ÉNGY kód | L1: K. jelző | M1: Munkanem
A2: 1 | B2: 12-011-1.1-0025031 | C2: Mobil WC bérleti díj elszámolása, szállítással, heti tisztítással, karbantartással, Mobil WC kézmosós, bérleti díj/hó | D2: 12 | E2: db | F2: 0 | G2: 0 | H2: =ROUND(F2*D2,0) -> 0 | I2: =ROUND(G2*D2,0) -> 0 | K2: 120115062316 | L2: ÖN | M2: 12
A3: 2 | B3: 12-012-1.2.2-0025006 | C3: Konténer bérleti díj elszámolása, iroda konténer 10,01-20,00 m² alapterület között, Iroda konténer, 10,01 - 20,00 m² között, bérleti díj/hó | D3: 12 | E3: db | F3: 0 | G3: 0 | H3: =ROUND(F3*D3,0) -> 0 | I3: =ROUND(G3*D3,0) -> 0
A4: 3 | B4: 12-004-4.1-0220233 | C4: Vízellátás szövetbetétes gumitömlővel 1/2-3/4" méretig, Szövetbetétes víztömlő, 1 MPa 18 mm | D4: 50 | E4: m | F4: 0 | G4: 0 | H4: =ROUND(F4*D4,0) -> 0 | I4: =ROUND(G4*D4,0) -> 0
A5: 4 | B5: 12-005-8.1 | C5: Felvonulási csatlakozóhely főkapcsolóval világítási és erőátviteli mérőhely részére | D5: 1 | E5: db | F5: 0 | G5: 0 | H5: =ROUND(F5*D5,0) -> 0 | I5: =ROUND(G5*D5,0) -> 0
A6: 5 | B6: 12-021-1.1-0137471 | C6: Ideiglenes kerítés, mobil kerítés elhelyezése DIRICKX M 300 mobilkerítés elem rögzítő bilinccsel, egyéb tartozékokkal, szemméret: 100 x 250 mm, szélesség: 3500 mm, magasság: 2000 mm | D6: 188.8 | E6: m | F6: 0 | G6: 0 | H6: =ROUND(F6*D6,0) -> 0 | I6: =ROUND(G6*D6,0) -> 0 | K6: 120212051585 | L6: ÖN | M6: 12
C7: Munkanem összesen (HUF) | H7: =ROUND(SUM(H2:H6),0) -> 0 | I7: =ROUND(SUM(I2:I6),0) -> 0

Sheet 1-15
A1: Ssz. | B1: Tételszám | C1: Tétel szövege | D1: Menny. | E1: Egység | F1: Anyag egységár | G1: Díj egységre | H1: Anyag összesen | I1: Díj összesen | J1: Megjegyzés | K1: ÉNGY kód | L1: K. jelző | M1: Munkanem
A2: 1 | B2: 15-012-21.1-0023003 | C2: Homlokzati keretállványok, fém keretvázból, szintenkénti pallóterítéssel, korláttal, lábdeszkával, 0,75-1,20 m padlószélességgel, munkapadló távolság 2,50 m, 2,00 kN/m² terhelhetőséggel, állványépítés MSZ és alkalmazástechnikai kézikönyv szerint, 6,00 m munkapadló magasságig, KRAUSE Stabilo homlokzati keretállvány 0,75 m padlószélességgel, 6,00 m munkapadló magasságig | D2: 514.83 | E2: m2 | F2: 0 | G2: 0 | H2: =ROUND(F2*D2,0) -> 0 | I2: =ROUND(G2*D2,0) -> 0 | K2: 150120012602 | L2: ÖN | M2: 15
C3: Munkanem összesen (HUF) | H3: =ROUND(SUM(H2:H2),0) -> 0 | I3: =ROUND(SUM(I2:I2),0) -> 0

Sheet 1-21
A1: Ssz. | B1: Tételszám | C1: Tétel szövege | D1: Menny. | E1: Egység | F1: Anyag egységár | G1: Díj egységre | H1: Anyag összesen | I1: Díj összesen | J1: Megjegyzés | K1: ÉNGY kód | L1: K. jelző | M1: Munkanem
A2: 1 | B2: 21-011-12 | C2: Munkahelyi depóniából építési törmelék konténerbe rakása, kézi erővel, önálló munka esetén elszámolva, konténer szállítás nélkül | D2: 42 | E2: m3 | F2: 0 | G2: 0 | H2: =ROUND(F2*D2,0) -> 0 | I2: =ROUND(G2*D2,0) -> 0 | K2: 210110016825 | L2: ÖN | M2: 21
A3: 2 | B3: 21-011-11.5 | C3: Építési törmelék konténeres elszállítása, lerakása, lerakóhelyi díjjal, 7,0 m³-es konténerbe | D3: 11 | E3: db | F3: 0 | G3: 0 | H3: =ROUND(F3*D3,0) -> 0 | I3: =ROUND(G3*D3,0) -> 0 | K3: 210110016786 | L3: ÖN | M3: 21
A4: 3 | B4: 21-003-5.1.1.1 | C4: Munkaárok földkiemelése közművesített területen, kézi erővel, bármely konzisztenciájú talajban, dúcolás nélkül, 2,0 m² szelvényig, I-II. talajosztály | D4: 1.16 | E4: m3 | F4: 0 | G4: 0 | H4: =ROUND(F4*D4,0) -> 0 | I4: =ROUND(G4*D4,0) -> 0 | J4: Kazánház falazat alap | K4: 210030014705
C5: Munkanem összesen (HUF) | H5: =ROUND(SUM(H2:H4),0) -> 0 | I5: =ROUND(SUM(I2:I4),0) -> 0

Sheet 1-23
A1: Ssz. | B1: Tételszám | C1: Tétel szövege | D1: Menny. | E1: Egység | F1: Anyag egységár | G1: Díj egységre | H1: Anyag összesen | I1: Díj összesen | J1: Megjegyzés | K1: ÉNGY kód | L1: K. jelző | M1: Munkanem
A2: 1 | B2: 23-003-3-0222210 | C2: Vasbeton sáv-, talp-, lemez- vagy gerendaalap készítése helyszínen kevert .....minőségű betonból, C16/20 - X0v(H) - 16 - F3 - CEM 32,5, m = 6,6 finomsági modulussal | D2: 1.16 | E2: m3 | F2: 0 | G2: 0 | H2: =ROUND(F2*D2,0) -> 0 | I2: =ROUND(G2*D2,0) -> 0 | J2: Kazánház falazat alapozása | M2: 22
C3: Munkanem összesen (HUF) | H3: =ROUND(SUM(H2:H2),0) -> 0 | I3: =ROUND(SUM(I2:I2),0) -> 0

Sheet 1-31
A1: Ssz. | B1: Tételszám | C1: Tétel szövege | D1: Menny. | E1: Egység | F1: Anyag egységár | G1: Díj egységre | H1: Anyag összesen | I1: Díj összesen | J1: Megjegyzés | K1: ÉNGY kód | L1: K. jelző | M1: Munkanem
A2: 1 | B2: 31-000-14.1 | C2: Beton aljzatok, járdák bontása 10 cm vastagság felett, könnyűbetonból, salakbetonból | D2: 12.15 | E2: m3 | F2: 0 | G2: 0 | H2: =ROUND(F2*D2,0) -> 0 | I2: =ROUND(G2*D2,0) -> 0 | J2: Lapostető lejtésképző beton | K2: 310000034863 | L2: ÖN | M2: 31
A3: 2 | B3: 31-000-14.2 | C3: Beton járdák bontása épület lábazatnál, kavicságyazattal együtt | D3: 30.47 | E3: m3 | F3: 0 | G3: 0 | H3: =ROUND(F3*D3,0) -> 0 | I3: =ROUND(G3*D3,0) -> 0 | M3: 31
A4: 3 | B4: 31-051-6.2.1-0121110 | C4: Leier finombeton lábzati kúpos fedlap elhelyezése AJ-02 bejáratnál lévő mellvédfalak tetején, 49x35x4 cm elemekkel, ágyazóhabarcsba fektetve | D4: 1.75 | E4: m² | F4: 0 | G4: 0 | H4: =ROUND(F4*D4,0) -> 0 | I4: =ROUND(G4*D4,0) -> 0 | M4: 31
C5: Munkanem összesen (HUF) | H5: =ROUND(SUM(H2:H4),0) -> 0 | I5: =ROUND(SUM(I2:I4),0) -> 0

Sheet 1-32
A1: Ssz. | B1: Tételszám | C1: Tétel szövege | D1: Menny. | E1: Egység | F1: Anyag egységár | G1: Díj egységre | H1: Anyag összesen | I1: Díj összesen | J1: Megjegyzés | K1: ÉNGY kód | L1: K. jelző | M1: Munkanem
A2: 1 | B2: 32-002-2.1.1-0120003 | C2: Előregyártott nyomottöv nélküli nyílásáthidaló elhelyezése, tartószerkezetre, csomóponti kötés nélkül,falazat szélességű áthidaló elemekből vagy több elem egymás mellé sorolásával, a teherhordó falváll előkészítésével, az áthidaló elemek ideiglenes alátámasztásával, kiegészítő hőszigetelés elhelyezése nélkül, 0,07 t/db tömegig, égetett agyag-kerámia köpenyes nyílásáthidaló gerenda, POROTHERM A-12 kerámia burkolatú nyílásáthidaló, 1,50 m | D2: 2 | E2: db | F2: 0 | G2: 0 | H2: =ROUND(F2*D2,0) -> 0 | I2: =ROUND(G2*D2,0) -> 0 | K2: 320020072271 | L2: ÖN | M2: 9
C3: Munkanem összesen (HUF) | H3: =ROUND(SUM(H2:H2),0) -> 0 | I3: =ROUND(SUM(I2:I2),0) -> 0

Sheet 1-33
A1: Ssz. | B1: Tételszám | C1: Tétel szövege | D1: Menny. | E1: Egység | F1: Anyag egységár | G1: Díj egységre | H1: Anyag összesen | I1: Díj összesen | J1: Megjegyzés | K1: ÉNGY kód | L1: K. jelző | M1: Munkanem
A2: 1 | B2: 33-001-1.1.2.3.1.2.1-0127465 | C2: Teherhordó és kitöltő falazat készítése, égetett agyag-kerámia termékekből, nútféderes elemekből, 300 mm falvastagságban, 300x250x238-240 mm-es méretű kézi falazóblokkból, falazó, cementes mészhabarcsba falazva, POROTHERM 30 N+F Neo nútféderes kézi falazóblokk, 300x250x238 mm, M 1 (Hf10-mc) falazó, cementes mészhabarcs | D2: 7.18 | E2: m² | F2: 0 | G2: 0 | H2: =ROUND(F2*D2,0) -> 0 | I2: =ROUND(G2*D2,0) -> 0 | K2: 330013683550 | L2: ÖN | M2: 33
A3: 2 | B3: 33-K | C3: LEIER zsaluzóelem ZS 30, 30/50/23 cm, Bordás betonacél, szálban, B 60.50 10 mm C16/20 - X0v(H) - 16 - F2 - CEM 32,5, m = 6,6 finomsági modulussal; kitüskézve, kiegyenlítő betonnal; zsaluzattal és porszórt alumínium attikalefedéssel | D3: 2.18 | E3: m² | F3: 0 | G3: 0 | H3: =ROUND(F3*D3,0) -> 0 | I3: =ROUND(G3*D3,0) -> 0 | J3: Lapostetőn 1,45 m2, kazánháznál 0,73 m2 | K3: 330010089873 | L3: ÖN | M3: 9
C4: Munkanem összesen (HUF) | H4: =ROUND(SUM(H2:H3),0) -> 0 | I4: =ROUND(SUM(I2:I3),0) -> 0

Sheet 1-34
A1: Ssz. | B1: Tételszám | C1: Tétel szövege | D1: Menny. | E1: Egység | F1: Anyag egységár | G1: Díj egységre | H1: Anyag összesen | I1: Díj összesen | J1: Megjegyzés | K1: ÉNGY kód | L1: K. jelző | M1: Munkanem
A2: 1 | B2: 34-001-8.1 | C2: Első osztályú előtető alumínium vízelvezető profillal, erős tömör műanyag konzollal, áttetsző bronz színű polikarbonát fedéssel, 1 db 240x120 cm-es, illetve 2 db 240x120 cm-es, egymás mellé sorolt elem felhasználásával - a tétel tartalmazza a régi előtetők leszerelését. | D2: 8.64 | E2: m² | F2: 0 | G2: 0 | H2: =ROUND(F2*D2,0) -> 0 | I2: =ROUND(G2*D2,0) -> 0 | M2: 34
C3: Munkanem összesen (HUF) | H3: =ROUND(SUM(H2:H2),0) -> 0 | I3: =ROUND(SUM(I2:I2),0) -> 0

Sheet 1-35
A1: Ssz. | B1: Tételszám | C1: Tétel szövege | D1: Menny. | E1: Egység | F1: Anyag egységár | G1: Díj egységre | H1: Anyag összesen | I1: Díj összesen | J1: Megjegyzés | K1: ÉNGY kód | L1: K. jelző | M1: Munkanem
A2: 1 | B2: 35-000-2.1 | C2: Tetőlécezés bontása bármely egyszeres hornyolt cserépfedés alatt | D2: 960.3 | E2: m2 | F2: 0 | G2: 0 | H2: =ROUND(F2*D2,0) -> 0 | I2: =ROUND(G2*D2,0) -> 0 | K2: 350000108132 | L2: ÖN | M2: 35
A3: 2 | B3: 35-005-1.1.2-0211005 | C3: Ereszburkolat készítés 5x5 stafni vázzal, 15 mm vtg OSB lemezzel, vágott (nútolatlan) kivitelben, függőleges és vízszintes felületen | D3: 52.5 | E3: m2 | F3: 0 | G3: 0 | H3: =ROUND(F3*D3,0) -> 0 | I3: =ROUND(G3*D3,0) -> 0 | M3: 35
A4: 3 | B4: 35-002-4.3-0996263 | C4: Páraáteresztő, szabadon fekvő, szélzáró, vízzáró, vízhatlan alátétfólia, alátétfedés vagy alátétszigetelés terítése 15 cm-es átfedéssel (ellenléc külön tételben számolandó) öntapadó szegéllyel folytonosítva, Gerard Extreme alátéthéjazat 75 m2 (50x1,50 m tekercs) | D4: 960.3 | E4: m2 | F4: 0 | G4: 0 | H4: =ROUND(F4*D4,0) -> 0 | I4: =ROUND(G4*D4,0) -> 0 | K4: 350021673823 | L4: ÖN | M4: 35
A5: 4 | B5: 35-003-1.6 | C5: Tetőlécezés tetőfelület ellenlécezésének elkészítése | D5: 1392.43 | E5: m | F5: 0 | G5: 0 | H5: =ROUND(F5*D5,0) -> 0 | I5: =ROUND(G5*D5,0) -> 0 | K5: 350030108830 | L5: ÖN | M5: 35
A6: 5 | B6: 35-003-1.5-0410051 | C6: Tetőlécezés betoncserép alá, 5/4-es lécből, BRAMAC tetőléc 2-6,5 m hosszú 30/32x48/50 mm | D6: 960.3 | E6: m2 | F6: 0 | G6: 0 | H6: =ROUND(F6*D6,0) -> 0 | I6: =ROUND(G6*D6,0) -> 0 | K6: 350030108801 | L6: ÖN | M6: 35
A7: 6 | B7: 35-080-5.1 | C7: Deszkázás cseréje, ereszdeszkázás gyalult, hornyolt kivitelben | D7: 10.18 | E7: m2 | F7: 0 | G7: 0 | H7: =ROUND(F7*D7,0) -> 0 | I7: =ROUND(G7*D7,0) -> 0 | K7: 350800110014 | L7: ÖN | M7: 35
A8: 7 | B8: 35-080-5.3 | C8: Deszkázás cseréje, oromdeszka | D8: 33.92 | E8: m | F8: 0 | G8: 0 | H8: =ROUND(F8*D8,0) -> 0 | I8: =ROUND(G8*D8,0) -> 0 | K8: 350800110031 | L8: ÖN | M8: 35
A9: 8 | B9: 35-002-9-0113024 | C9: Belső oldali páratechnikai rendszer készítése, 15 cm-es átfedéssel, MASTERPLAST Isoflex Alu-LP PE belső oldali párafékező, párazáró, metalizált hővisszaverő felülettel, W1, Cikkszám: 0211-01000060 | D9: 17 | E9: m² | F9: 0 | G9: 0 | H9: =ROUND(F9*D9,0) -> 0 | I9: =ROUND(G9*D9,0) -> 0 | K9: 350024288280 | L9: ÖN | M9: 35
A10: 9 | B10: 35-005-1.1.2-0211007 | C10: Mérsékelten vízálló, műgyantával stabilizált OSB lap elhelyezése vágott (nútolatlan) kivitelben, függőleges vagy vízszintes felületen, Mérsékelten vízálló OSB-3 lap, 2500x1250x22 mm méretű | D10: 20.17 | E10: m2 | F10: 0 | G10: 0 | H10: =ROUND(F10*D10,0) -> 0 | I10: =ROUND(G10*D10,0) -> 0 | J10: Attika fedés aljzata
A11: 10 | B11: 35-005-1.1.2-0211008 | C11: Mérsékelten vízálló, műgyantával stabilizált OSB lap elhelyezése vágott (nútolatlan) kivitelben, függőleges vagy vízszintes felületen, Mérsékelten vízálló OSB-3 lap, 2500x1250x25 mm méretű | D11: 8.38 | E11: m² | F11: 0 | G11: 0 | H11: =ROUND(F11*D11,0) -> 0 | I11: =ROUND(G11*D11,0) -> 0 | J11: Padlás járófelület | K11: 350050109143 | L11: ÖN | M11: 35
A12: 11 | B12: 35-005-1.1.2-0211007 | C12: Kétirányú 5/15 cm k.metszetű fa palló váz | D12: 8.38 | E12: m2 | F12: 0 | G12: 0 | H12: =ROUND(F12*D12,0) -> 0 | I12: =ROUND(G12*D12,0) -> 0 | J12: Padlás járófelület | M12: 35
C13: Munkanem összesen (HUF) | H13: =ROUND(SUM(H2:H12),0) -> 0 | I13: =ROUND(SUM(I2:I12),0) -> 0

Sheet 1-36
A1: Ssz. | B1: Tételszám | C1: Tétel szövege | D1: Menny. | E1: Egység | F1: Anyag egységár | G1: Díj egységre | H1: Anyag összesen | I1: Díj összesen | J1: Megjegyzés | K1: ÉNGY kód | L1: K. jelző | M1: Munkanem
A2: 1 | B2: 36-090-1.2.2-0550090 | C2: Vakolatjavítás homlokzaton, a meglazult, sérült vakolat előzetes leverésével, durva, sima kivitelben, hiánypótlás 5-25% között, CS I-W1 (Hvh10-mc) kültéri, vakoló cementes mészhabarcs mészpéppel | D2: 104.38 | E2: m2 | F2: 0 | G2: 0 | H2: =ROUND(F2*D2,0) -> 0 | I2: =ROUND(G2*D2,0) -> 0 | K2: 360900130042 | L2: ÖN | M2: 36
A3: 2 | B3: 36-90-2.1.3 | C3: Vakolatok pótlása, keskenyvakolatok pótlása oldalfalon, 21-40 cm szélesség között | D3: 293 | E3: m | F3: 0 | G3: 0 | H3: =ROUND(F3*D3,0) -> 0 | I3: =ROUND(G3*D3,0) -> 0 | J3: Nyílászáró cserék utáni vakolatjavítások
A4: 3 | B4: 36-051-6.11-0149065 | C4: Kültéri vakolóprofilok elhelyezése, horganyzott acélból, alumíniumból, rozsdamentes acélból, PVC-ből, 6 - 23 mm vakolatvastagsághoz, pozitív sarkokra, MASTERPLAST Thermomaster PVC élvédő 10+15 cm üvegszövet hálóval, Cikkszám: 0107-10150000 | D4: 315.79 | E4: m | F4: 0 | G4: 0 | H4: =ROUND(F4*D4,0) -> 0 | I4: =ROUND(G4*D4,0) -> 0 | K4: 360512395885 | L4: ÖN | M4: 36
A5: 4 | B5: 36-011-6-0391213 | C5: Üvegszövet háló elhelyezése, függőleges, vízszintes, ferde vagy íves felületen, Baumit felirat nélküli üvegszövet, Cikkszám: 956191 | D5: 544.64 | E5: m2 | F5: 0 | G5: 0 | H5: =ROUND(F5*D5,0) -> 0 | I5: =ROUND(G5*D5,0) -> 0 | K5: 360110124646 | L5: ÖN | M5: 36
A6: 5 | B6: 36-011-7-0415946 | C6: Üvegszövet háló beágyazása, függőleges, vízszintes, ferde vagy íves felületen, Baumit DuoContact - ragasztótapasz EPS lemezekhez, Cikkszám: 156107 | D6: 544.64 | E6: m2 | F6: 0 | G6: 0 | H6: =ROUND(F6*D6,0) -> 0 | I6: =ROUND(G6*D6,0) -> 0 | K6: 360114029841 | L6: ÖN | M6: 36
A7: 6 | B7: 36-002-4-0415917 | C7: Vékonyvakolat alapozók felhordása, kézi erővel, Baumit UniPrimer - univerzális vékonyvakolat alapozó, Cikkszám: 255400, vakolt felületre | D7: 544.64 | E7: m2 | F7: 0 | G7: 0 | H7: =ROUND(F7*D7,0) -> 0 | I7: =ROUND(G7*D7,0) -> 0 | K7: 360020112194 | L7: ÖN | M7: 36
A8: 7 | B8: 36-007-9.2-0415421 | C8: Lábazati vakolatok; díszítő és lábazati műgyanta kötőanyagú vakolatréteg felhordása,kézi erővel, vödrös kiszerelésű anyagból, Baumit MosaikTop (Baumit Mozaik) vakolat 2 mm-es szemcseméret, akadálymentességi leírás szerinti színben, Cikkszám: 255201 | D8: 62.21 | E8: m2 | F8: 0 | G8: 0 | H8: =ROUND(F8*D8,0) -> 0 | I8: =ROUND(G8*D8,0) -> 0 | J8: Épület lábazaton 54,21 m2, előlépcső mellvédein 8 m2 | K8: 360070123293 | L8: ÖN | M8: 36
A9: 8 | B9: 36-005-21.2.2.2-0415310 | C9: Vékonyvakolatok, színvakolatok felhordása alapozott, előkészített felületre, vödrös kiszerelésű anyagból, vizes bázisú, műgyanta kötőanyagú vékonyvakolat készítése, egy rétegben, 1,5-2,5 mm-es szemcsemérettel, Baumit GranoporTop (Baumit Granopor) vakolat, kapart 1,5 mm, fehér színcsoport (0018, 0019), Cikkszám: 255103 | D9: 490.43 | E9: m2 | F9: 0 | G9: 0 | H9: =ROUND(F9*D9,0) -> 0 | I9: =ROUND(G9*D9,0) -> 0 | K9: 360050118725 | L9: ÖN | M9: 36
A10: 9 | B10: 36-000-1.1.1 | C10: Vakolat leverése oldalfalról vagy mennyezetről 1,5 cm vastagságig falazó, cementes mészhabarcs | D10: 101.56 | E10: m² | F10: 0 | G10: 0 | H10: =ROUND(F10*D10,0) -> 0 | I10: =ROUND(G10*D10,0) -> 0 | J10: Külső főfalak belső és homlokzati felületén, padlótól mért 60 cm magasságig | K10: 360000110595 | L10: ÖN | M10: 36
A11: 10 | B11: 36-012-2.2.1.1-0414901 | C11: Szellőző, falszárító felújító vakolat készítése, erős (magas) só és nedvességtartalom esetén WTA rendszerben, kézi felhordással, szárazhabarcsból, felületelőkészítéssel (alapozó, előfröcskölő, gúz), alsó, felső vakolatréteggel, összesen 3 cm vastagságban, Cemix WTA EUROSAN OP/WTA Eurosan felújító felsővakolat, kézi,Cikkszám: K00551401 + Cemix WTA EUROSAN UP/WTA Eurosan felújító alsóvakolat, kézi, Csz: K00551301 + Cemix EUROSAN VS/WTA Eurosan gúzolóanyag kézi és gépi, Csz: K00551101 | D11: 101.56 | E11: m² | F11: 0 | G11: 0 | H11: =ROUND(F11*D11,0) -> 0 | I11: =ROUND(G11*D11,0) -> 0 | J11: Külső főfalak belső és homlokzati felületén, padlótól mért 60 cm magasságig | K11: 360120125350 | L11: ÖN | M11: 36
A12: 11 | B12: 36-003-1.1.1.1.1-0414710 | C12: Oldalfalvakolat készítése, kézi felhordással, zsákos kiszerelésű szárazhabarcsból, sima, normál mész-cement vakolat, 1 cm vastagságban, Cemix PRÉMIUM kézi alapvakolat, Cikkszám: K00215011 | D12: 7.18 | E12: m² | F12: 0 | G12: 0 | H12: =ROUND(F12*D12,0) -> 0 | I12: =ROUND(G12*D12,0) -> 0 | K12: 360030112472 | L12: ÖN | M12: 36
A13: 12 | B13: 36-011-6-0391213 | C13: Üvegszövet háló elhelyezése, függőleges, vízszintes, ferde vagy íves felületen, Baumit felirat nélküli üvegszövet, Cikkszám: 956191 | D13: 75.57 | E13: m2 | F13: 0 | G13: 0 | H13: =ROUND(F13*D13,0) -> 0 | I13: =ROUND(G13*D13,0) -> 0 | J13: Pince mennyezet hőszigetelésen | K13: 360110124646 | L13: ÖN | M13: 36
A14: 13 | B14: 36-011-7-0415946 | C14: Üvegszövet háló beágyazása, függőleges, vízszintes, ferde vagy íves felületen, Baumit DuoContact - ragasztótapasz EPS lemezekhez, Cikkszám: 156107 | D14: 75.57 | E14: m2 | F14: 0 | G14: 0 | H14: =ROUND(F14*D14,0) -> 0 | I14: =ROUND(G14*D14,0) -> 0 | J14: Pince mennyezet hőszigetelésen | K14: 360114029841 | L14: ÖN | M14: 36
A15: 14 | B15: 36-000-1.3 | C15: Vakolat leverése homlokzatról 2,5 cm vastagságig | D15: 8 | E15: m² | F15: 0 | G15: 0 | H15: =ROUND(F15*D15,0) -> 0 | I15: =ROUND(G15*D15,0) -> 0 | J15: AJ-02 bejárat előlépcső mellvéd | K15: 360000110610 | L15: ÖN | M15: 36
A16: 15 | B16: 36-002-11.1-0414764 | C16: Tapadóhíd képzése gyári zsákos gúzanyaggal, kézi erővel, Cemix KONTAKT VS PLUS (Kontakt VS Squash) gúzoló, Csz: K00225211 | D16: 8 | E16: m² | F16: 0 | G16: 0 | H16: =ROUND(F16*D16,0) -> 0 | I16: =ROUND(G16*D16,0) -> 0 | J16: AJ-02 bejárat előlépcső mellvéd | K16: 360020112291 | L16: ÖN | M16: 36
A17: 16 | B17: 36-007-9.1.1-0414722 | C17: Lábazati vakolatok; lábazati alapvakolat felhordása kézi erővel, 2 cm vastagságban, Cemix SOCKELPUTZ/Lábazati alapvakolat, fagyálló, Cikkszám: K00212111 | D17: 8 | E17: m² | F17: 0 | G17: 0 | H17: =ROUND(F17*D17,0) -> 0 | I17: =ROUND(G17*D17,0) -> 0 | K17: 360070123126 | L17: ÖN | M17: 36
C18: Munkanem összesen (HUF) | H18: =ROUND(SUM(H2:H17),0) -> 0 | I18: =ROUND(SUM(I2:I17),0) -> 0

Sheet 1-39
A1: Ssz. | B1: Tételszám | C1: Tétel szövege | D1: Menny. | E1: Egység | F1: Anyag egységár | G1: Díj egységre | H1: Anyag összesen | I1: Díj összesen | J1: Megjegyzés | K1: ÉNGY kód | L1: K. jelző | M1: Munkanem
A2: 1 | B2: 39-003-6.1.7.2-0210202 | C2: Tetőtéri borítás készítése, ferde vagy vízszintes kivitelben, szigetelés nélkül, csavarfejek és illesztések alapglettelve (Q2 minőségben), szarufákhoz rögzítve, fa lécvázra, 2 rtg. tűzgátló 12,5 mm vtg. gipszkarton lemezből, KNAUF F 13 tűzgátló építőlemez, 12,5 mm HRAK 1250/2000, Cikkszám: 00491484_0110 | D2: 17 | E2: m² | F2: 0 | G2: 0 | H2: =ROUND(F2*D2,0) -> 0 | I2: =ROUND(G2*D2,0) -> 0 | K2: 390034166176 | L2: ÖN | M2: 39
C3: Munkanem összesen (HUF) | H3: =ROUND(SUM(H2:H2),0) -> 0 | I3: =ROUND(SUM(I2:I2),0) -> 0

Sheet 1-41
A1: Ssz. | B1: Tételszám | C1: Tétel szövege | D1: Menny. | E1: Egység | F1: Anyag egységár | G1: Díj egységre | H1: Anyag összesen | I1: Díj összesen | J1: Megjegyzés | K1: ÉNGY kód | L1: K. jelző | M1: Munkanem
A2: 1 | B2: 41-000-1 | C2: Síkpala fedés bontása (bármely rendszerű) | D2: 960.3 | E2: m2 | F2: 0 | G2: 0 | H2: =ROUND(F2*D2,0) -> 0 | I2: =ROUND(G2*D2,0) -> 0
A3: 2 | B3: 41-006-51.1.2-0996021 | C3: Sajtolt cserép mintázatú acéllemez-fedések, színes kő granulátum bevonatú horganyzott acél cserepeslemez fedés készítése, 15 - 90° tetőhajlásszög között, tagolt és sátortetőnél, Gerard Klasszikus tetőcserép, hasznos hossz: 1265 mm, hasznos lejtés irányú méret: 369 mm, standard színben | D3: 960.3 | E3: m2 | F3: 0 | G3: 0 | H3: =ROUND(F3*D3,0) -> 0 | I3: =ROUND(G3*D3,0) -> 0 | M3: 41
A4: 3 | B4: 41-006-59.1.1-0996041 | C4: Sajtolt cserép mintázatú acéllemezfedésnél, gerincfedés készítése, egytagos íves kúpcseréppel, Gerard íves kúpcserép, hasznos hossz: 405 mm, standard színben | D4: 130.18 | E4: m | F4: 0 | G4: 0 | H4: =ROUND(F4*D4,0) -> 0 | I4: =ROUND(G4*D4,0) -> 0 | K4: 410024405032 | L4: ÖN | M4: 41
A5: 4 | B5: 41-006-59.1.5-0996051 | C5: Sajtolt cserép mintázatú acéllemezfedésnél, gerincfedés készítése, kezdő kúpcserép elhelyezése, Gerard formázott végelem íves kúpcseréphez, hasznos hossz: 400 mm, standard színben | D5: 8 | E5: db | F5: 0 | G5: 0 | H5: =ROUND(F5*D5,0) -> 0 | I5: =ROUND(G5*D5,0) -> 0
A6: 5 | B6: 41-006-59.1.2-0996061 | C6: Sajtolt cserép mintázatú acéllemezfedésnél, gerincfedés készítése, háromtagos kúpcseréppel, Gerard kontyelem íves kúpcseréphez 30-45°, standard színben | D6: 6 | E6: db | F6: 0 | G6: 0 | H6: =ROUND(F6*D6,0) -> 0 | I6: =ROUND(G6*D6,0) -> 0
A7: 6 | B7: 41-006-59.9-0966091 | C7: Sajtolt cserép mintázatú acéllemezfedésnél, ereszszegély elhelyezése, Gerard ereszszegély, hasznos hossz: 1900 mm, standard színben | D7: 148.35 | E7: m | F7: 0 | G7: 0 | H7: =ROUND(F7*D7,0) -> 0 | I7: =ROUND(G7*D7,0) -> 0
A8: 7 | B8: 41-006-59.5-0996077 | C8: Sajtolt cserép mintázatú acéllemezfedésnél, oromzati lezárás kialakítása, oromszegély elemmel vagy oromszegély lappal (jobbos-balos), Gerard univerzális fogazott oromszegély (bal/jobb), hasznos hossz: 1100 mm, standard színben | D8: 34.56 | E8: m | F8: 0 | G8: 0 | H8: =ROUND(F8*D8,0) -> 0 | I8: =ROUND(G8*D8,0) -> 0
A9: 8 | B9: 41-006-59.17 | C9: Sajtolt cserép mintázatú acéllemezfedésnél, fém hóvágó elhelyezése | D9: 1105 | E9: db | F9: 0 | G9: 0 | H9: =ROUND(F9*D9,0) -> 0 | I9: =ROUND(G9*D9,0) -> 0
A10: 9 | B10: 41-006-59.19-0991127 | C10: Sajtolt cserép mintázatú acéllemezfedésnél, tetőkibúvó ablak elhelyezése, LINDAB LTK tetőkibúvó 65x65 cm | D10: 1 | E10: db | F10: 0 | G10: 0 | H10: =ROUND(F10*D10,0) -> 0 | I10: =ROUND(G10*D10,0) -> 0
A11: 10 | B11: 41-011-3.1.1-0996253 | C11: Tetőjárda elhelyezése gerinccel párhuzamos szerelési iránynál, trapéz-, cserepes-, sinushullám mintázatú acéllemezfedésnél, Gerard kéményseprő járda elhelyezése, 800 mm hosszú | D11: 1.6 | E11: m | F11: 0 | G11: 0 | H11: =ROUND(F11*D11,0) -> 0 | I11: =ROUND(G11*D11,0) -> 0
A12: 11 | B12: 41-003-29.22-0350006 | C12: Ki-, beszellőztetés, szellőző szalag elhelyezése, MASTERPLAST Roofbond AC perforált szellőző szalag, UV álló PVC (10 cm x 5 m), eresz dobozolásban elhelyezve | D12: 148.35 | E12: m | F12: 0 | G12: 0 | H12: =ROUND(F12*D12,0) -> 0 | I12: =ROUND(G12*D12,0) -> 0 | M12: 41
C13: Munkanem összesen (HUF) | H13: =ROUND(SUM(H2:H12),0) -> 0 | I13: =ROUND(SUM(I2:I12),0) -> 0

Sheet 1-43
A1: Ssz. | B1: Tételszám | C1: Tétel szövege | D1: Menny. | E1: Egység | F1: Anyag egységár | G1: Díj egységre | H1: Anyag összesen | I1: Díj összesen | J1: Megjegyzés | K1: ÉNGY kód | L1: K. jelző | M1: Munkanem
A2: 1 | B2: 43-000-1 | C2: Függőereszcsatorna bontása, 50 cm kiterített szélességig | D2: 148.35 | E2: m | F2: 0 | G2: 0 | H2: =ROUND(F2*D2,0) -> 0 | I2: =ROUND(G2*D2,0) -> 0 | K2: 430000330732 | L2: ÖN | M2: 43
A3: 2 | B3: 43-000-5 | C3: Lefolyó csatorna bontása 50 cm kiterített szélességig | D3: 36.55 | E3: m | F3: 0 | G3: 0 | H3: =ROUND(F3*D3,0) -> 0 | I3: =ROUND(G3*D3,0) -> 0 | K3: 430000330773 | L3: ÖN | M3: 43
A4: 3 | B4: 43-000-7 | C4: Szegélyek, párkány könyöklő bontása, 100 cm kiterített szélességig | D4: 32.68 | E4: m | F4: 0 | G4: 0 | H4: =ROUND(F4*D4,0) -> 0 | I4: =ROUND(G4*D4,0) -> 0 | J4: Lapostetőnél | K4: 430000330790 | L4: ÖN | M4: 43
A5: 4 | B5: 43-002-1.5-0149455 | C5: Függőereszcsatorna szerelése, félkörszelvényű, bármilyen kiterített szélességben, alumínium lemezből vagy porfestett alumínium lemezből, PREFA függő ereszcsatorna 33-as bevonatos alumínium antracit színben, 0,7mm/6m | D5: 148.35 | E5: m | F5: 0 | G5: 0 | H5: =ROUND(F5*D5,0) -> 0 | I5: =ROUND(G5*D5,0) -> 0
A6: 5 | B6: 43-002-11.5-0149467 | C6: Lefolyócső szerelése kör keresztmetszettel, bármilyen kiterített szélességgel, alumínium lemezből, PREFA lefolyócső Ø100 körszelvényű, bevonatos alumínium 0,7/3000, antracit színekben | D6: 44.05 | E6: m | F6: 0 | G6: 0 | H6: =ROUND(F6*D6,0) -> 0 | I6: =ROUND(G6*D6,0) -> 0
A7: 6 | B7: 43-003-7.1.3.1-0993010 | C7: Hajlatbádogozás korcolt kivitelben, kiselemes vagy táblás tetőfedő rendszerhez, egyenes kivitelben, horganyzott acéllemezből, 50-65 cm kiterített szélességgel, LINDAB Seamline FOP szegély tűzihorganyzott acél + Z 275 bevonat, 0,5 mm vtg., kiterített szélesség: 451-500 mm | D7: 25.77 | E7: m | F7: 0 | G7: 0 | H7: =ROUND(F7*D7,0) -> 0 | I7: =ROUND(G7*D7,0) -> 0 | K7: 430030344423 | L7: ÖN | M7: 43
A8: 7 | B8: 43-004-1.1-0113810 | C8: Tetőkibúvó szerelése keményhéjalású tetőn, Tetőkibúvó alumínium lemezből, kombinált | D8: 2 | E8: db | F8: 0 | G8: 0 | H8: =ROUND(F8*D8,0) -> 0 | I8: =ROUND(G8*D8,0) -> 0 | K8: 430042627631 | L8: ÖN | M8: 43
A9: 8 | B9: 43-003-10.1.3.2-0149673 | C9: Kétvízorros falfedés, egyenesvonalú kivitelben, bevonatos alumínium lemezből, 51-100 cm kiterített szélességig, PREFA kétoldali poliészter bevonatos alumínium lemezből szegély 0,7 mm vtg., kiterített szélesség: 100, standard színekben | D9: 34.77 | E9: m | F9: 0 | G9: 0 | H9: =ROUND(F9*D9,0) -> 0 | I9: =ROUND(G9*D9,0) -> 0 | J9: Attika fedés | K9: 430034573804 | L9: ÖN | M9: 43
A10: 9 | B10: 43-002-2.11-0994018 | C10: Függőereszcsatorna kiegészítő szerelvények elhelyezése, félkörszelvényű, bármilyen kiterített szélességben, levélrács vagy cseppentő lemez elhelyezése félkör alakú csatornákhoz, alumínium vagy horganyzott acéllemezből, TERRÁN cseppentőlemez (acél), natúr/horganyzott | D10: 32.68 | E10: m | F10: 0 | G10: 0 | H10: =ROUND(F10*D10,0) -> 0 | I10: =ROUND(G10*D10,0) -> 0 | K10: 430025098682 | L10: ÖN | M10: 43
A11: 10 | B11: 43-002-12.2.4-0149423 | C11: Lefolyócső kiegészítő szerelvények elhelyezése, kör keresztmetszettel, bármilyen kiterített szélességgel, vízgyűjtő tölcsér, vízgyűjtő üst, vízlopó stb. alumínium lemezből, PREFA vízgyűjtő üst Ø100 standard színekben | D11: 4 | E11: db | F11: 0 | G11: 0 | H11: =ROUND(F11*D11,0) -> 0 | I11: =ROUND(G11*D11,0) -> 0
A12: 11 | B12: 43-003-8.3.1-0149665 | C12: Ablak- vagy szemöldökpárkány bevonatos alumínium lemezből, 50 cm kiterített szélességig, PREFA kétoldali poliészter bevonatos alumínium lemezből szegély 0,7 mm vtg., kiterített szélesség: 33, standard színekben | D12: 65.22 | E12: m | F12: 0 | G12: 0 | H12: =ROUND(F12*D12,0) -> 0 | I12: =ROUND(G12*D12,0) -> 0 | K12: 430034067951 | L12: ÖN | M12: 43
C13: Munkanem összesen (HUF) | H13: =ROUND(SUM(H2:H12),0) -> 0 | I13: =ROUND(SUM(I2:I12),0) -> 0

Sheet 1-44
A1: Ssz. | B1: Tételszám | C1: Tétel szövege | D1: Menny. | E1: Egység | F1: Anyag egységár | G1: Díj egységre | H1: Anyag összesen | I1: Díj összesen | J1: Megjegyzés | K1: ÉNGY kód | L1: K. jelző | M1: Munkanem
A2: 1 | B2: 44-000-1.1 | C2: Fa vagy műanyag nyílászáró szerkezetek bontása, ajtó, ablak vagy kapu, 2,00 m²-ig | D2: 6.3 | E2: m² | F2: 0 | G2: 0 | H2: =ROUND(F2*D2,0) -> 0 | I2: =ROUND(G2*D2,0) -> 0 | K2: 440000355513 | L2: ÖN | M2: 44
A3: 2 | B3: 44-000-1.2 | C3: Fa vagy műanyag nyílászáró szerkezetek bontása, ajtó, ablak vagy kapu, 2,01-4,00 m² között | D3: 84.39 | E3: m² | F3: 0 | G3: 0 | H3: =ROUND(F3*D3,0) -> 0 | I3: =ROUND(G3*D3,0) -> 0 | K3: 440000355525 | L3: ÖN | M3: 44
A4: 3 | B4: 44-000-1.3 | C4: Fa vagy műanyag nyílászáró szerkezetek bontása, ajtó, ablak vagy kapu, 4,01-6,00 m² között | D4: 49.4 | E4: m² | F4: 0 | G4: 0 | H4: =ROUND(F4*D4,0) -> 0 | I4: =ROUND(G4*D4,0) -> 0 | K4: 440000355530 | L4: ÖN | M4: 44
A5: 4 | B5: 44-011-1.1.1-0168401 | C5: 3 rétegű, hőszigetelő üvegezésű (low E+gáz u=1,0 W/m2K), 6-7 kamrás műanyag nyílászáró elhelyezése fehér színben: 100x210 cm bejárati ajtó, konszignáció szerinti kialakítással. | D5: 1 | E5: db | F5: 0 | G5: 0 | H5: =ROUND(F5*D5,0) -> 0 | I5: =ROUND(G5*D5,0) -> 0 | J5: Konszig.jel: AJ-03 | M5: 44
A6: 5 | B6: 44-011-1.1.2-0168518 | C6: 3 rétegű, hőszigetelő üvegezésű (low E+gáz u=1,0 W/m2K), 6-7 kamrás műanyag nyílászáró elhelyezése fehér színben: 140x295 cm bejárati ajtó, konszignáció szerinti kialakítással. | D6: 1 | E6: db | F6: 0 | G6: 0 | H6: =ROUND(F6*D6,0) -> 0 | I6: =ROUND(G6*D6,0) -> 0 | J6: Konszig.jel: AJ-02 | M6: 44
A7: 6 | B7: 44-011-1.1.2-0168519 | C7: 3 rétegű, hőszigetelő üvegezésű (low E+gáz u=1,0 W/m2K), 6-7 kamrás műanyag nyílászáró elhelyezése fehér színben: 470x260 cm bejárati ajtó, konszignáció szerinti kialakítással. | D7: 1 | E7: db | F7: 0 | G7: 0 | H7: =ROUND(F7*D7,0) -> 0 | I7: =ROUND(G7*D7,0) -> 0 | J7: Konszig.jel: AJ-01 | M7: 44
A8: 7 | B8: 44-012-1.1.1.3.2-0168054 | C8: 3 rétegű, hőszigetelő üvegezésű (low E+gáz u=1,0 W/m2K), 6-7 kamrás műanyag nyílászáró elhelyezése fehér színben: 110x50 cm ablak, konszignáció szerinti kialakítással. | D8: 7 | E8: db | F8: 0 | G8: 0 | H8: =ROUND(F8*D8,0) -> 0 | I8: =ROUND(G8*D8,0) -> 0 | J8: Konszig.jel: AB-06 | M8: 44
A9: 8 | B9: 44-012-1.1.2.6.2-0168164 | C9: 3 rétegű, hőszigetelő üvegezésű (low E+gáz u=1,0 W/m2K), 6-7 kamrás műanyag nyílászáró elhelyezése fehér színben: 105x200 cm ablak, konszignáció szerinti kialakítással | D9: 19 | E9: db | F9: 0 | G9: 0 | H9: =ROUND(F9*D9,0) -> 0 | I9: =ROUND(G9*D9,0) -> 0 | J9: Konszig.jel: AB-02 | M9: 44
A10: 9 | B10: 44-012-1.1.2.6.2-0168166 | C10: 3 rétegű, hőszigetelő üvegezésű (low E+gáz u=1,0 W/m2K), 6-7 kamrás műanyag nyílászáró elhelyezése fehér színben: 165x130 cm ablak, konszignáció szerinti kialakítással | D10: 2 | E10: db | F10: 0 | G10: 0 | H10: =ROUND(F10*D10,0) -> 0 | I10: =ROUND(G10*D10,0) -> 0 | J10: Konszig.jel: AB-04 | M10: 44
A11: 10 | B11: 44-012-1.1.2.6.6-0168162 | C11: 3 rétegű, hőszigetelő üvegezésű (low E+gáz u=1,0 W/m2K), 6-7 kamrás műanyag nyílászáró elhelyezése fehér színben: 165x165 cm ablak, konszignáció szerinti kialakítással | D11: 9 | E11: db | F11: 0 | G11: 0 | H11: =ROUND(F11*D11,0) -> 0 | I11: =ROUND(G11*D11,0) -> 0 | J11: Konszig.jel: AB-05 | M11: 44
A12: 11 | B12: 44-012-1.1.2.6.2-0168170 | C12: 3 rétegű, hőszigetelő üvegezésű (low E+gáz u=1,0 W/m2K), 6-7 kamrás műanyag nyílászáró elhelyezése fehér színben: 250x165 cm ablak, konszignáció szerinti kialakítással | D12: 8 | E12: db | F12: 0 | G12: 0 | H12: =ROUND(F12*D12,0) -> 0 | I12: =ROUND(G12*D12,0) -> 0 | J12: Konszig.jel: AB-01 | M12: 44
A13: 12 | B13: 44-012-1.1.2.6.2-0168164 | C13: 3 rétegű, hőszigetelő üvegezésű (low E+gáz u=1,0 W/m2K), 6-7 kamrás műanyag nyílászáró elhelyezése fehér színben: 95x200 cm ablak, konszignáció szerinti kialakítással | D13: 1 | E13: db | F13: 0 | G13: 0 | H13: =ROUND(F13*D13,0) -> 0 | I13: =ROUND(G13*D13,0) -> 0 | J13: Konszig.jel: AB-03 | M13: 44
A14: 13 | B14: 44-012-1.1.2.6.2-0168164 | C14: 3 rétegű, hőszigetelő üvegezésű (low E+gáz u=1,0 W/m2K), 6-7 kamrás műanyag nyílászáró elhelyezése fehér színben: 50x200 cm ablak, konszignáció szerinti kialakítással | D14: 1 | E14: db | F14: 0 | G14: 0 | H14: =ROUND(F14*D14,0) -> 0 | I14: =ROUND(G14*D14,0) -> 0 | J14: Konszig.jel: AB-07 | M14: 44
A15: 14 | B15: 44-012-1.1.2.6.6-0168164 | C15: 3 rétegű, hőszigetelő üvegezésű (low E+gáz u=1,0 W/m2K), 6-7 kamrás műanyag nyílászáró elhelyezése fehér színben: 260x50 cm ablak, konszignáció szerinti kialakítással | D15: 1 | E15: db | F15: 0 | G15: 0 | H15: =ROUND(F15*D15,0) -> 0 | I15: =ROUND(G15*D15,0) -> 0 | J15: Konszig.jel: AB-08 | M15: 44
C16: Munkanem összesen (HUF) | H16: =ROUND(SUM(H2:H15),0) -> 0 | I16: =ROUND(SUM(I2:I15),0) -> 0

Sheet 1-48
A1: Ssz. | B1: Tételszám | C1: Tétel szövege | D1: Menny. | E1: Egység | F1: Anyag egységár | G1: Díj egységre | H1: Anyag összesen | I1: Díj összesen | J1: Megjegyzés | K1: ÉNGY kód | L1: K. jelző | M1: Munkanem
A2: 0 | B2: 48-002-1.1.1.2.1-0313069 | C2: Talajnedvesség elleni szigetelés; Bitumenes lemez szigetelés aljzatának kellősítése, egy rétegben, függőleges felületen, oldószeres hideg bitumenmázzal (száraz felületen), MAPEI Polyprimer oldószeres bitumenes kellősítő, Csz: 7261220 | D2: 157.26 | E2: m2 | F2: 0 | G2: 0 | H2: =ROUND(F2*D2,0) -> 0 | I2: =ROUND(G2*D2,0) -> 0 | M2: 48
A3: 2 | B3: 48-002-1.4.1.2-0313062 | C3: Talajnedvesség elleni szigetelés; Lábazatszigetelés terepcsatlakozás felett 30 cm magasságig felvezetve, egy rétegben, minimum 3,5 mm vastag elasztomerbitumenes (SBS modifikált) lemezzel, az aljzathoz teljes felületű lángolvasztásos ragasztással, az átlapolásoknál teljes felületű hegesztéssel fektetve (rögzítés külön tételben), MAPEI Antiradice Flex P 4 mm, FLL minősített gyökérálló, poliészterbetétes, SBS modifikált bitumen alapú elasztomer vízszig.lemez, Csz:76302040001 | D3: 157.26 | E3: m2 | F3: 0 | G3: 0 | H3: =ROUND(F3*D3,0) -> 0 | I3: =ROUND(G3*D3,0) -> 0 | M3: 48
A4: 1 | B4: 48-007-51.3.2.1-0094630 | C4: Hőhidak hőszigetelése; hőhídmentes csatlakozások kialakítása homlokzati nyílászáróknál, 50 mm vtg XPS lemezzel | D4: 77.44 | E4: m2 | F4: 0 | G4: 0 | H4: =ROUND(F4*D4,0) -> 0 | I4: =ROUND(G4*D4,0) -> 0 | M4: 48
A5: 2 | B5: 48-007-21.21.1-0113284 | C5: Külső fal; Hőszigetelések épületlábazaton vagy koszorún, ragasztva (rögzítés külön tételben), extrudált polisztirolhab lemezzel, AUSTROTHERM XPS TOP P extrudált polisztirolhab hőszigetelő lemez, 600x1250x120 mm | D5: 71.96 | E5: m2 | F5: 0 | G5: 0 | H5: =ROUND(F5*D5,0) -> 0 | I5: =ROUND(G5*D5,0) -> 0 | J5: pozitív lábazaton | K5: 480072304092 | L5: ÖN | M5: 48
A6: 3 | B6: 48-007-21.21.1-0113286 | C6: Külső fal; Hőszigetelések épületlábazaton vagy koszorún, ragasztva (rögzítés külön tételben), extrudált polisztirolhab lemezzel, AUSTROTHERM XPS TOP P extrudált polisztirolhab hőszigetelő lemez, 600x1250x160 mm | D6: 160.66 | E6: m2 | F6: 0 | G6: 0 | H6: =ROUND(F6*D6,0) -> 0 | I6: =ROUND(G6*D6,0) -> 0 | J6: lábazaton | K6: 480072304114 | L6: ÖN | M6: 48
A7: 4 | B7: 48-007-21.21.1-0113283 | C7: Külső fal; Hőszigetelések épületlábazaton vagy koszorún, ragasztva (rögzítés külön tételben), extrudált polisztirolhab lemezzel, AUSTROTHERM XPS TOP P extrudált polisztirolhab hőszigetelő lemez, 600x1250x100 mm | D7: 16.77 | E7: m2 | F7: 0 | G7: 0 | H7: =ROUND(F7*D7,0) -> 0 | I7: =ROUND(G7*D7,0) -> 0 | K7: 480072304080 | L7: ÖN | M7: 48
A8: 5 | B8: 48-010-1.1.2.1-0113313 | C8: Homlokzati hőszigetelés, üvegszövetháló-erősítéssel,(mechanikai rögzítés, felületi zárás valamint kiegészítő profilok külön tételben szerepelnek), egyenes vagy lépcsős élképzésű, normál homlokzati EPS hőszigetelő lapokkal, ragasztóporból képzett ragasztóba, tagolatlan, sík, függőleges falon, AUSTROTHERM AT H80 homlokzati hőszigetelő lemez,1000x500x160 mm | D8: 490.43 | E8: m2 | F8: 0 | G8: 0 | H8: =ROUND(F8*D8,0) -> 0 | I8: =ROUND(G8*D8,0) -> 0 | K8: 480102309504 | L8: ÖN | M8: 48
A9: 6 | B9: 48-007-41.1.2.1-0092009 | C9: Födém; Padló hő-, hangszigetelő anyag elhelyezése, vízszintes felületen, párnafák vagy álpadló tartószerkezet közé, szálas szigetelő anyaggal (üveggyapot, kőzetgyapot), ROCKWOOL Multirock Super többcélú kőzetgyapot lemez, 1000x610x150 mm | D9: 805.59 | E9: m2 | F9: 0 | G9: 0 | H9: =ROUND(F9*D9,0) -> 0 | I9: =ROUND(G9*D9,0) -> 0 | J9: Zárófödémen | L9: ÖN | M9: 48
A10: 7 | B10: 48-007-41.1.2.1-0092025 | C10: Födém; Padló hő-, hangszigetelő anyag elhelyezése, vízszintes felületen, párnafák vagy álpadló tartószerkezet közé, szálas szigetelő anyaggal (üveggyapot, kőzetgyapot), ROCKWOOL Multirock Super többcélú kőzetgyapot lemez, 1000x610x100 mm | D10: 692.47 | E10: m2 | F10: 0 | G10: 0 | H10: =ROUND(F10*D10,0) -> 0 | I10: =ROUND(G10*D10,0) -> 0 | J10: Zárófödémen | L10: ÖN | M10: 48
A11: 8 | B11: 48-021-1.51.2.2.1-0500125 | C11: Szigetelések rögzítése; Hőszigetelő táblák pontszerű mechanikai rögzítése, homlokzaton, beton aljzatszerkezethez, műanyag vagy fém beütőszeges/csavaros műanyag beütődübelekkel, EJOT H4 eco 215 mm univerzális, acél feszítő-, műanyag beütőelemes dübel optimalizált feszítőzónával, Cikkszám: 8748215460 | D11: 3410 | E11: db | F11: 0 | G11: 0 | H11: =ROUND(F11*D11,0) -> 0 | I11: =ROUND(G11*D11,0) -> 0 | J11: Homlokzaton 2950 db, pince mennyezeten 460 db | K11: 480214810634 | L11: ÖN | M11: 48
A12: 9 | B12: 48-000-2.1 | C12: Teljes felületen hegesztett, olvasztott vagy ragasztott bitumenes lemez szigetelés bontása, kettő vagy több réteg lemez esetén, vízszintes felületről | D12: 161.96 | E12: m2 | F12: 0 | G12: 0 | H12: =ROUND(F12*D12,0) -> 0 | I12: =ROUND(G12*D12,0) -> 0 | K12: 480000514951 | L12: ÖN | M12: 48
A13: 10 | B13: 48-000-26 | C13: Leterheléssel rögzített vagy rögzítés nélküli hőszigetelő lemezek bontása, vízszintes felületről | D13: 161.96 | E13: m2 | F13: 0 | G13: 0 | H13: =ROUND(F13*D13,0) -> 0 | I13: =ROUND(G13*D13,0) -> 0 | K13: 480000515275 | L13: ÖN | M13: 48
A14: 11 | B14: 48-007-11.12.7-0113782 | C14: Lapostető hő- és hangszigetelése; Egyenes rétegrendű lapostetők lejtésképzése (rögzítés külön tételben), expandált polisztirol keményhab lejtésképző elemmel, AUSTROTHERM Lejtésképzés AT-N150 LK | D14: 8.1 | E14: m3 | F14: 0 | G14: 0 | H14: =ROUND(F14*D14,0) -> 0 | I14: =ROUND(G14*D14,0) -> 0 | K14: 480074408973 | L14: ÖN | M14: 48
A15: 12 | B15: 48-007-11.1.1.1-0113070 | C15: Lapostető hő- és hangszigetelése; Egyenes rétegrendű nem járható lapostetőn vagy extenzív zöldtetőn, vízszintes és függőleges felületen (rögzítés külön tételben), egy rétegben, expandált polisztirolhab hőszigetelő lemezzel, AUSTROTHERM AT-N150 expandált polisztirolhab hőszigetelő lemez, 1000x500x100 mm | D15: 161.96 | E15: m2 | F15: 0 | G15: 0 | H15: =ROUND(F15*D15,0) -> 0 | I15: =ROUND(G15*D15,0) -> 0 | K15: 480074304881 | L15: ÖN | M15: 48
A16: 13 | B16: 48-007-11.1.1.1-0113076 | C16: Lapostető hő- és hangszigetelése; Egyenes rétegrendű nem járható lapostetőn vagy extenzív zöldtetőn, vízszintes és függőleges felületen(rögzítés külön tételben), egy rétegben, expandált polisztirolhab hőszigetelő lemezzel, AUSTROTHERM AT-N150 expandált polisztirolhab hőszigetelő lemez, 1000x500x150 mm | D16: 161.96 | E16: m2 | F16: 0 | G16: 0 | H16: =ROUND(F16*D16,0) -> 0 | I16: =ROUND(G16*D16,0) -> 0 | K16: 480074304881 | L16: ÖN | M16: 48
A17: 14 | B17: 48-005-1.41.1.1-0095798 | C17: Csapadékvíz elleni szigetelés; Alátét, elválasztó, tűzvédelmi és sérülésellenőrző rétegek lefektetése, védőlemez-, műanyagfátyol-, fólia vagy műanyagfilc egy rétegben, átlapolással, rögzítés nélkül, vízszintes felületen, BAUDERGREEN PE 02 elválasztó PE fólia, bitumen és polisztirolálló, regranulált PE, 0,2 mm vtg., felülettömeg 190 g/m2, Cikksz.: 7444 0000 | D17: 161.96 | E17: m2 | F17: 0 | G17: 0 | H17: =ROUND(F17*D17,0) -> 0 | I17: =ROUND(G17*D17,0) -> 0 | K17: 480054578691 | L17: ÖN | M17: 48
A18: 15 | B18: 48-005-1.41.1.1-0095785 | C18: Csapadékvíz elleni szigetelés; Alátét, elválasztó, tűzvédelmi és sérülésellenőrző rétegek lefektetése, védőlemez-, műanyagfátyol-, fólia vagy műanyagfilc egy rétegben, átlapolással, rögzítés nélkül, vízszintes felületen, BAUDER WB 300 fúrható poliészterfátyol elválasztó- és védőréteg, 2 mm, 300 g/m2, 120 N/50 mm, nyúlás 30 %, kalanderezett, fehér, E osztály, Csz.: 6900 1310 | D18: 161.96 | E18: m2 | F18: 0 | G18: 0 | H18: =ROUND(F18*D18,0) -> 0 | I18: =ROUND(G18*D18,0) -> 0 | K18: 480054082934 | L18: ÖN | M18: 48
A19: 16 | B19: 48-005-1.41.1.2-0095785 | C19: Csapadékvíz elleni szigetelés; Alátét, elválasztó, tűzvédelmi és sérülésellenőrző rétegek lefektetése, védőlemez-, műanyagfátyol-, fólia vagy műanyagfilc egy rétegben, átlapolással, rögzítés nélkül, függőleges felületen, BAUDER WB 300 fúrható poliészterfátyol elválasztó- és védőréteg, 2 mm, 300 g/m2, 120 N/50 mm, nyúlás 30 %, kalanderezett, fehér, E osztály, Csz.: 6900 1310 | D19: 8.67 | E19: m2 | F19: 0 | G19: 0 | H19: =ROUND(F19*D19,0) -> 0 | I19: =ROUND(G19*D19,0) -> 0 | K19: 480054082946 | L19: ÖN | M19: 48
A20: 17 | B20: 48-005-1.3.2.1.1-0095872 | C20: Csapadékvíz elleni szigetelés; Egyenes rétegrendű csapadékvíz elleni szigetelés páratechnikai rétegei, párafékező réteg, vízszintes felületen, egy rétegben, minimum 0,15 mm vastag polietilén (PE) fóliával, két oldalon öntapadó ragasztószalaggal felületfolytonosítva és az aljzatra ragasztás nélkül fektetve, FATRAPAR 0,2 mm vastag polietilén párazáró fólia | D20: 161.96 | E20: m2 | F20: 0 | G20: 0 | H20: =ROUND(F20*D20,0) -> 0 | I20: =ROUND(G20*D20,0) -> 0 | K20: 480052295761 | L20: ÖN | M20: 48
A21: 18 | B21: 48-005-1.4.1.1-0095811 | C21: Csapadékvíz elleni szigetelés (a tétel tartalmazza a rögzítést is); Vízszintes felületen (lapostetőn), egy rétegben, minimum 1,0 mm vastag, lágy PVC vagy PIB lemezzel, átlapolások forrólevegős hegesztésével, FATRAFOL 810/V 1,5 mm vtg, szöveterősítéses lágy PVC-P vízszigetelő lemez, RAL 7035 világos szürke színben, 1,5/1,6/2,05 m tsz. | D21: 161.96 | E21: m² | F21: 0 | G21: 0 | H21: =ROUND(F21*D21,0) -> 0 | I21: =ROUND(G21*D21,0) -> 0 | K21: 480052295870 | L21: ÖN | M21: 48
A22: 19 | B22: 48-005-1.5.1.1-0095811 | C22: Csapadékvíz elleni szigetelés; Függőleges felületen (épületlábazaton vagy attikafalon), egy rétegben, minimum 1,0 mm vastag, lágy PVC lemezzel, átlapolások forrólevegős hegesztésével, FATRAFOL 810/V 1,5 mm vtg, szöveterősítéses lágy PVC-P vízszigetelő lemez, RAL 7035 világos szürke színben, 1,5/1,6/2,05 m tsz. | D22: 8.67 | E22: m² | F22: 0 | G22: 0 | H22: =ROUND(F22*D22,0) -> 0 | I22: =ROUND(G22*D22,0) -> 0 | K22: 480052296061 | L22: ÖN | M22: 48
A23: 20 | B23: 48-005-1.23.1-0426219-K | C23: Csapadékvíz elleni szigetelés; Ablakszigetelés készítése EPDM lemezzel | D23: 428.18 | E23: fm | F23: 0 | G23: 0 | H23: =ROUND(F23*D23,0) -> 0 | I23: =ROUND(G23*D23,0) -> 0 | M23: 48
A24: 21 | B24: 48-031-1.6.2 | C24: Utólagos talajnedvesség elleni vízszintes falszigetelés készítése, tégla vagy kő-tégla falszerkezetben, furatinjektálásos módszerrel, kétsorú injektálási furatsor elkészítése, tisztítása sűrített levegő befúvásával, injektáló pakkerek elhelyezésével | D24: 70.54 | E24: kerm.m² | F24: 0 | G24: 0 | H24: =ROUND(F24*D24,0) -> 0 | I24: =ROUND(G24*D24,0) -> 0 | K24: 480310588984 | L24: ÖN | M24: 48
A25: 22 | B25: 48-031-1.6.6.2-0313050 | C25: Utólagos talajnedvesség elleni vízszintes falszigetelés készítése, tégla vagy kő-tégla falszerkezetben, furatinjektálásos módszerrel, alacsony- vagy közepes nyomású injektálás, egy- vagy kétsorú furatkiosztás esetén szilikon emulzióval, MAPEI Mapestop szilikon mikro-emulzióból álló injektálószer, Csz: 7340010 | D25: 70.54 | E25: kerm.m² | F25: 0 | G25: 0 | H25: =ROUND(F25*D25,0) -> 0 | I25: =ROUND(G25*D25,0) -> 0 | K25: 480312824616 | L25: ÖN | M25: 48
A26: 23 | B26: 48-007-1.1.2-0154407 | C26: Magastető hő- és hangszigetelése; Szarufák közötti szigetelés fa vagy fém fedélszék esetén, kőzetgyapot hőszigetelő lemezzel, KNAUF INSULATION MPN általános kőzetgyapot szigetelőlap, 1000x600x100 mm, a tétel tartalmazza a rögzítést is | D26: 17 | E26: m² | F26: 0 | G26: 0 | H26: =ROUND(F26*D26,0) -> 0 | I26: =ROUND(G26*D26,0) -> 0 | J26: Kazánház tetőszerkezetében | K26: 480070542425 | L26: ÖN | M26: 48
A27: 24 | B27: 48-010-1.6.2.1-0425212 | C27: Homlokzati hőszigetelés tűzvédelmi sávként homlokzaton, üvegszövetháló-erősítéssel,(mechanikai rögzítés, felületi zárás valamint kiegészítő profilok külön tételben szerepelnek), normál homlokzati kőzetgyapot hőszigetelő lapokkal, ragasztóporból képzett ragasztóba, Knauf FKD S Thermal kőzetgyapot hőszigetelő lemez, 1000x600x100 mm, λ↓D = 0,035 W/mK + hőszigetelő rendszer ragasztó | D27: 13.65 | E27: m² | F27: 0 | G27: 0 | H27: =ROUND(F27*D27,0) -> 0 | I27: =ROUND(G27*D27,0) -> 0 | M27: 48
A28: 25 | B28: 48-007-1.1.2-0154412 | C28: Magastető hő- és hangszigetelése; Szarufák közötti szigetelés fa vagy fém fedélszék esetén, kőzetgyapot hőszigetelő lemezzel, KNAUF INSULATION MPN általános kőzetgyapot szigetelőlap, 1000x600x150 mm, a tétel tartalmazza a rögzítést is | D28: 17 | E28: m² | F28: 0 | G28: 0 | H28: =ROUND(F28*D28,0) -> 0 | I28: =ROUND(G28*D28,0) -> 0 | J28: Kazánház tetőszerkezetében | K28: 480070542454 | L28: ÖN | M28: 48
A29: 26 | B29: 48-007-41.3.1.1-0427208 | C29: Födém; Mennyezet alulról hűlő födém hőszigetelése, utólag elhelyezve, vízszintes felületen (rögzítés külön tételben), szálas szigetelő anyaggal (üveggyapot, kőzetgyapot), FibranGeo BP 50-L 2000x1200x120 táblás kőzetgyapot hőszigetelő anyag, lépcsős élképzéssel, 50 kPa nyomószilárdsággal, λ↓D=0,037 (W/mK) | D29: 75.57 | E29: m² | F29: 0 | G29: 0 | H29: =ROUND(F29*D29,0) -> 0 | I29: =ROUND(G29*D29,0) -> 0 | K29: 480074752715 | L29: ÖN | M29: 48
C30: Munkanem összesen (HUF) | H30: =ROUND(SUM(H2:H29),0) -> 0 | I30: =ROUND(SUM(I2:I29),0) -> 0

Sheet 2-15
A1: Ssz. | B1: Tételszám | C1: Tétel szövege | D1: Menny. | E1: Egység | F1: Anyag egységár | G1: Díj egységre | H1: Anyag összesen | I1: Díj összesen | J1: Megjegyzés | K1: ÉNGY kód | L1: K. jelző | M1: Munkanem
A2: 1 | B2: 15-012-37 | C2: Kéményfalazó állvány készítése ferde tetőn, pallóterítéssel, korláttal, lábdeszkával, 5 m²/db munkaszint felületig | D2: 6 | E2: db | F2: 0 | G2: 0 | H2: =ROUND(F2*D2,0) -> 0 | I2: =ROUND(G2*D2,0) -> 0 | J2: Kémények visszabontásához | K2: 150120012602 | L2: ÖN | M2: 15
C3: Munkanem összesen (HUF) | H3: =ROUND(SUM(H2:H2),0) -> 0 | I3: =ROUND(SUM(I2:I2),0) -> 0

Sheet 2-21
A1: Ssz. | B1: Tételszám | C1: Tétel szövege | D1: Menny. | E1: Egység | F1: Anyag egységár | G1: Díj egységre | H1: Anyag összesen | I1: Díj összesen | J1: Megjegyzés | K1: ÉNGY kód | L1: K. jelző | M1: Munkanem
A2: 1 | B2: 21-003-5.1.1.1 | C2: Munkaárok földkiemelése közművesített területen, kézi erővel, bármely konzisztenciájú talajban, dúcolás nélkül, 2,0 m² szelvényig, I-II. talajosztály | D2: 39.6 | E2: m3 | F2: 0 | G2: 0 | H2: =ROUND(F2*D2,0) -> 0 | I2: =ROUND(G2*D2,0) -> 0 | J2: Kulékavics tiszt.sáv és szegélykő alap részére | K2: 210030014705
C3: Munkanem összesen (HUF) | H3: =ROUND(SUM(H2:H2),0) -> 0 | I3: =ROUND(SUM(I2:I2),0) -> 0

Sheet 2-22
A1: Ssz. | B1: Tételszám | C1: Tétel szövege | D1: Menny. | E1: Egység | F1: Anyag egységár | G1: Díj egységre | H1: Anyag összesen | I1: Díj összesen | J1: Megjegyzés | K1: ÉNGY kód | L1: K. jelző | M1: Munkanem
A2: 1 | B2: 22-003-6.1-0120002 | C2: Épület körüli tisztasági sáv készítése d=16-32 mm átmérőjű osztályozott kavicsból | D2: 10.36 | E2: m3 | F2: 0 | G2: 0 | H2: =ROUND(F2*D2,0) -> 0 | I2: =ROUND(G2*D2,0) -> 0 | M2: 22
C3: Munkanem összesen (HUF) | H3: =ROUND(SUM(H2:H2),0) -> 0 | I3: =ROUND(SUM(I2:I2),0) -> 0

Sheet 2-37
A1: Ssz. | B1: Tételszám | C1: Tétel szövege | D1: Menny. | E1: Egység | F1: Anyag egységár | G1: Díj egységre | H1: Anyag összesen | I1: Díj összesen | J1: Megjegyzés | K1: ÉNGY kód | L1: K. jelző | M1: Munkanem
A2: 1 | B2: 37-000-1.1 | C2: Kémények bontása födémig | D2: 15.14 | E2: m³ | F2: 0 | G2: 0 | H2: =ROUND(F2*D2,0) -> 0 | I2: =ROUND(G2*D2,0) -> 0 | M2: 37
C3: Munkanem összesen (HUF) | H3: =ROUND(SUM(H2:H2),0) -> 0 | I3: =ROUND(SUM(I2:I2),0) -> 0

Sheet 2-39
A1: Ssz. | B1: Tételszám | C1: Tétel szövege | D1: Menny. | E1: Egység | F1: Anyag egységár | G1: Díj egységre | H1: Anyag összesen | I1: Díj összesen | J1: Megjegyzés | K1: ÉNGY kód | L1: K. jelző | M1: Munkanem
A2: 1 | B2: M-39-002-1.1.1.1-0120065 | C2: Homlokzati nyílászárók felső toktoldójának eltakarása CW profilvázra szerelt 15 mm vastag gipszkarton lemezzel, alumínium élvédővel, 50 mm vastag kőzetgyapot kitöltéssel, csavarfejek és illesztések glettelve (Q2) | D2: 55.79 | E2: m2 | F2: 0 | G2: 0 | H2: =ROUND(D2*F2,0) -> 0 | I2: =ROUND(D2*G2,0) -> 0
H3: =SUM(H2) -> 0 | I3: =SUM(I2) -> 0

Sheet 2-45
A1: Ssz. | B1: Tételszám | C1: Tétel szövege | D1: Menny. | E1: Egység | F1: Anyag egységár | G1: Díj egységre | H1: Anyag összesen | I1: Díj összesen | J1: Megjegyzés | K1: ÉNGY kód | L1: K. jelző | M1: Munkanem
A2: 1 | B2: 45-005-2.2-0180361 | C2: Egyéb épületlakatos szerkezetek elhelyezése, acél létra, Acél létra, hátvédő korláttal, 400 mm-széles, szögacél oldallal, 18 mm átmérőjű gömbvas fokokkal, konszignáció szerint, zárható kivitelben | D2: 6 | E2: m | F2: 0 | G2: 0 | H2: =ROUND(F2*D2,0) -> 0 | I2: =ROUND(G2*D2,0) -> 0 | J2: LK-03 konszignáció szerint | K2: 450050403000 | L2: ÖN | M2: 45
C3: Munkanem összesen (HUF) | H3: =ROUND(SUM(H2:H2),0) -> 0 | I3: =ROUND(SUM(I2:I2),0) -> 0

Sheet 2-47
A1: Ssz. | B1: Tételszám | C1: Tétel szövege | D1: Menny. | E1: Egység | F1: Anyag egységár | G1: Díj egységre | H1: Anyag összesen | I1: Díj összesen | J1: Megjegyzés | K1: ÉNGY kód | L1: K. jelző | M1: Munkanem
A2: 1 | B2: 47-011-3.1.1.1.2-0148280 | C2: Szilikátfestések, kálivízüveg kötőanyagú, nagy vízgőzáteresztő képességű, fehér vagy színes szilikát falfestés, új vagy régi lekapart ásványi előkészített alapfelületen, vakolaton, két rétegben, tagolt sima felületen, Baumit KlimaColor - páraáteresztő beltéri szilikátfesték, fehér, Cikkszám: 9251450L | D2: 47.35 | E2: m² | F2: 0 | G2: 0 | H2: =ROUND(F2*D2,0) -> 0 | I2: =ROUND(G2*D2,0) -> 0 | K2: 470111251296 | L2: ÖN | M2: 47
A3: 2 | B3: 47-011-15.1.1.1-0148287 | C3: Diszperziós festés (két rétegben) műanyag bázisú vizes-diszperziós fehér vagy gyárilag színezett festékkel, új vagy régi lekapart, előkészített alapfelületen, vakolaton, két rétegben, tagolatlan sima felületen, Baumit Divina Classic - fehér színű diszperziós beltéri falfesték, Cikkszám: 956130 | D3: 89.36 | E3: m2 | F3: 0 | G3: 0 | H3: =ROUND(F3*D3,0) -> 0 | I3: =ROUND(G3*D3,0) -> 0 | J3: Nyílászáró cserék után javított felületeken
A4: 3 | B4: 47-000-1.99.1.2.1.2-0415924 | C4: Belső festéseknél felület előkészítése, részmunkák; felület glettelése zsákos kiszerelésű anyagból (alapozóval, sarokvédelemmel), bármilyen padozatú helyiségben, vakolt felületen, 1,5 mm vastagságban tagolt felületen, Baumit KlímaGlatte Klíma glett, Cikkszám: 951708 | D4: 47.35 | E4: m² | F4: 0 | G4: 0 | H4: =ROUND(F4*D4,0) -> 0 | I4: =ROUND(G4*D4,0) -> 0 | K4: 470003626466 | L4: ÖN | M4: 47
A5: 4 | B5: 47-000-1.21.2.1.1.1-0320611 | C5: Belső festéseknél felület előkészítése, részmunkák; glettelés műanyag kötőanyagú glettel (simítótapasszal), vakolt felületen, bármilyen padozatú helyiségben, tagolatlan felületen, JUBOLIN Classic felhasználásra kész, beltéri diszperziós glett (0-3 mm), fehér, Cikkszám: JKT25 | D5: 89.36 | E5: m2 | F5: 0 | G5: 0 | H5: =ROUND(F5*D5,0) -> 0 | I5: =ROUND(G5*D5,0) -> 0 | J5: Nyílászáró cserék után javított felületeken
A6: 5 | B6: 47-000-1.21.7.3.1-0218154 | C6: Belső festéseknél felület előkészítése, részmunkák; glettelés gipszes glettel, gipszkarton felületen, tagolatlan felületen, Rigips ProMix Finish készre kevert kézi/gépi simító glett | D6: 55.79 | E6: m2 | F6: 0 | G6: 0 | H6: =ROUND(F6*D6,0) -> 0 | I6: =ROUND(G6*D6,0) -> 0 | J6: Homlokzati nyílászárók felső dobozolásán
A7: 6 | B7: 47-011-15.1.1.1-0148287 | C7: Diszperziós festés (két rétegben) műanyag bázisú vizes-diszperziós fehér vagy gyárilag színezett festékkel, új vagy régi lekapart, előkészített alapfelületen, vakolaton, két rétegben, tagolatlan sima felületen, Baumit Divina Classic - fehér színű diszperziós beltéri falfesték, Cikkszám: 956130 | D7: 55.79 | E7: m2 | F7: 0 | G7: 0 | H7: =ROUND(F7*D7,0) -> 0 | I7: =ROUND(G7*D7,0) -> 0 | J7: Homlokzati nyílászárók felső dobozolásán
A8: 7 | B8: 47-011-15.1.1.1-0160011 | C8: Diszperziós festés (két rétegben) műanyag bázisú vizes-diszperziós fehér vagy gyárilag színezett festékkel, új vagy régi lekapart, előkészített alapfelületen, vakolaton, két rétegben, tagolatlan sima felületen, POLI-FARBE Inntaler diszperziós beltéri, fehér falfesték | D8: 75.57 | E8: m² | F8: 0 | G8: 0 | H8: =ROUND(F8*D8,0) -> 0 | I8: =ROUND(G8*D8,0) -> 0 | J8: Pince mennyezeten | K8: 470113626744 | L8: ÖN | M8: 47
A9: 8 | B9: 47-031-3.12.2.1-0418751 | C9: Külső fafelületek lazúrozása, gyalult felületen, oldószeres lazúrral,két rétegben, tagolatlan felületen, REVCO Wood-Line falazúr, natúr | D9: 16.96 | E9: m2 | F9: 0 | G9: 0 | H9: =ROUND(F9*D9,0) -> 0 | I9: =ROUND(G9*D9,0) -> 0 | J9: oromdeszkázat | K9: 470310505722 | L9: ÖN | M9: 47
C10: Munkanem összesen (HUF) | H10: =ROUND(SUM(H2:H9),0) -> 0 | I10: =ROUND(SUM(I2:I9),0) -> 0

Sheet 2-61
A1: Ssz. | B1: Tételszám | C1: Tétel szövege | D1: Menny. | E1: Egység | F1: Anyag egységár | G1: Díj egységre | H1: Anyag összesen | I1: Díj összesen | J1: Megjegyzés | K1: ÉNGY kód | L1: K. jelző | M1: Munkanem
A2: 1 | B2: 61-011-3-0235360 | C2: Védő és elválasztó réteg készítése, VIACON WG35 erősítő szőtt geotextília, PP-ből, 160 g/m² szakító szilárdság: 35/35 kN/m, tekercsméret: 5,3 x 100 m | D2: 120.84 | E2: m² | F2: 0 | G2: 0 | H2: =ROUND(F2*D2,0) -> 0 | I2: =ROUND(G2*D2,0) -> 0 | J2: Kulékavics tisztasági sáv alatt | K2: 610114616890 | L2: ÖN | M2: 61
C3: Munkanem összesen (HUF) | H3: =ROUND(SUM(H2:H2),0) -> 0 | I3: =ROUND(SUM(I2:I2),0) -> 0

Sheet 2-62
A1: Ssz. | B1: Tételszám | C1: Tétel szövege | D1: Menny. | E1: Egység | F1: Anyag egységár | G1: Díj egységre | H1: Anyag összesen | I1: Díj összesen | J1: Megjegyzés | K1: ÉNGY kód | L1: K. jelző | M1: Munkanem
A2: 1 | B2: 62-002-21.3-0613950 | C2: Egyéb használatos szegélykövek, út és körforgalom szegélyek készítése, alapárok kiemelése nélkül, betonhézagolással, 100 cm hosszú elemekből, LEIER Quartz kerti szegélykő, szürke, 100x5x20 cm , Cikkszám: HUTJS2765 | D2: 176 | E2: m | F2: 0 | G2: 0 | H2: =ROUND(F2*D2,0) -> 0 | I2: =ROUND(G2*D2,0) -> 0 | J2: Kulékavics tisztasági sáv szegélye | K2: 620020678023 | L2: ÖN | M2: 62
A3: 2 | B3: 62-003-6-0110765 | C3: Térburkolathoz fagyálló, teherhordó alap készítése, 20 cm vastagságban, Zúzottkő, Z 35/55 Mészkő és Dolomit, Polgárdi | D3: 0.5 | E3: m3 | F3: 0 | G3: 0 | H3: =ROUND(F3*D3,0) -> 0 | I3: =ROUND(G3*D3,0) -> 0 | K3: 620034111700 | L3: ÖN | M3: 62
