Workbook

Sheet Főösszesítő
A1: Móri Radnóti M. Ált. Iskola Magyaralmási Tagiskolájának tetőhéjazat cseréje és homlokzati felújítása, építőmesteri és szakipari munkák - Magyaralmás, Iskola utca 9.
A5: Költségvetés főösszesítő
A6: Megnevezés | C6: Anyagköltség | D6: Díjköltség
A7: 1 Építmény közvetlen költségei | C7: =+'Fejezet összesítő'!C5+'Fejezet összesítő'!C8+'Fejezet összesítő'!C11 -> 0 | D7: =+'Fejezet összesítő'!D5+'Fejezet összesítő'!D8+'Fejezet összesítő'!D11 -> 0
A8: 2.1 ÁFA vetítési alap | C8: =ROUND(C7+D7,0) -> 0
A9: 2.2 ÁFA | B9: 0.27 | C9: =ROUND(C8*B9,0) -> 0
A10: 3 A munka ára (HUF) | C10: =ROUND(C9+C8,0) -> 0
C17: Aláírás

Sheet Fejezet összesítő
A1: Ssz. | B1: Fejezet megnevezés | C1: Anyagköltség | D1: Díjköltség
A2: Építész
A3: 1 | B3: I. Elszámolható költségek | C3: ='Építész munkanem összesítő'!C20 -> 0 | D3: =+'Építész munkanem összesítő'!D20 -> 0
A4: 2 | B4: II. Kapcsolódó költségek | C4: ='Építész munkanem összesítő'!C31 -> 0 | D4: ='Építész munkanem összesítő'!D31 -> 0
B5: Összes fejezet (HUF) | C5: =ROUND(SUM(C3:C4),0) -> 0 | D5: =ROUND(SUM(D3:D4),0) -> 0
A6: Gépész
A7: 1 | B7: I. Elszámolható költségek | C7: =+'Gépész munkanem összesítő'!C8 -> 0 | D7: =+'Gépész munkanem összesítő'!D8 -> 0
B8: Összes fejezet (HUF) | C8: =ROUND(SUM(C7:C7),0) -> 0 | D8: =ROUND(SUM(D7:D7),0) -> 0
A9: Elektromos
A10: 1 | B10: I. Elszámolható költségek | C10: =+'Elektromos munkanem összesítő'!C9 -> 0 | D10: =+'Elektromos munkanem összesítő'!D9 -> 0
B11: Összes fejezet (HUF) | C11: =ROUND(SUM(C10:C10),0) -> 0 | D11: =ROUND(SUM(D10:D10),0) -> 0

Sheet Építész munkanem összesítő
A1: Ssz. | B1: Megnevezés | C1: Anyagköltség | D1: Díjköltség
A2: I. Elszámolható költségek
A3: 2 | B3: Bontás, építőanyagok újrahasznosítása | C3: ='1-2'!H4 -> 0 | D3: ='1-2'!I4 -> 0
A4: 9 | B4: Akadálymentesítés | C4: =+'1-9'!H6 -> 0 | D4: =+'1-9'!I6 -> 0
A5: 12 | B5: Felvonulási létesítmények | C5: ='1-12'!H7 -> 0 | D5: ='1-12'!I7 -> 0
A6: 15 | B6: Zsaluzás és állványozás | C6: ='1-15'!H3 -> 0 | D6: ='1-15'!I3 -> 0
A7: 21 | B7: Irtás, föld- és sziklamunka | C7: =+'1-21'!H5 -> 0 | D7: ='1-21'!I5 -> 0
A8: 23 | B8: Síkalapozás | C8: =SUM('1-23'!H3) -> 0 | D8: =SUM('1-23'!I3) -> 0
A9: 31 | B9: Helyszíni beton és vasbeton munkák | C9: ='1-31'!H5 -> 0 | D9: ='1-31'!I5 -> 0
A10: 32 | B10: Előregyártott épületszerkezeti elem elhelyezése és szerelése | C10: ='1-32'!H3 -> 0 | D10: ='1-32'!I3 -> 0
A11: 33 | B11: Falazás és egyéb kőműves munkák | C11: ='1-33'!H4 -> 0 | D11: ='1-33'!I4 -> 0
A12: 34 | B12: Fém- és könnyű épületszerkezetek szerelése | C12: ='1-34'!H3 -> 0 | D12: ='1-34'!I3 -> 0
A13: 35 | B13: Ácsmunka | C13: ='1-35'!H13 -> 0 | D13: ='1-35'!I13 -> 0
A14: 36 | B14: Vakolás és rabicolás | C14: ='1-36'!H18 -> 0 | D14: ='1-36'!I18 -> 0
A15: 39 | B15: Szárazépítés | C15: ='1-39'!H3 -> 0 | D15: ='1-39'!I3 -> 0
A16: 41 | B16: Tetőfedés | C16: ='1-41'!H13 -> 0 | D16: ='1-41'!I13 -> 0
A17: 43 | B17: Bádogozás | C17: ='1-43'!H13 -> 0 | D17: ='1-43'!I13 -> 0
A18: 44 | B18: Fa- és műanyag szerkezet elhelyezése | C18: ='1-44'!H16 -> 0 | D18: ='1-44'!I16 -> 0
A19: 48 | B19: Szigetelés | C19: ='1-48'!H30 -> 0 | D19: ='1-48'!I30 -> 0
B20: I. Fejezet munkanemei összesen (HUF) | C20: =ROUND(SUM(C3:C19),0) -> 0 | D20: =ROUND(SUM(D3:D19),0) -> 0
A21: II. Kapcsolódó költségek
A22: 15 | B22: Zsaluzás és állványozás | C22: =SUM('2-15'!H3) -> 0 | D22: =SUM('2-15'!I3) -> 0
A23: 21 | B23: Irtás, föld- és sziklamunka | C23: =SUM('2-21'!H3) -> 0 | D23: =SUM('2-21'!I3) -> 0
A24: 22 | B24: Szivárgó építés, alagcsövezés | C24: ='2-22'!H3 -> 0 | D24: ='2-22'!I3 -> 0
A25: 37 | B25: Égéstermék-elvezető berendezések | C25: ='2-37'!H3 -> 0 | D25: ='2-37'!I3 -> 0
A26: 39 | B26: Szárazépítés | C26: =SUM('2-39'!H3) -> 0 | D26: =SUM('2-39'!I3) -> 0
A27: 45 | B27: Fém nyílászáró és épületlakatos szerkezet elhelyezése | C27: ='2-45'!H3 -> 0 | D27: ='2-45'!I3 -> 0
A28: 47 | B28: Felületképzés | C28: ='2-47'!H10 -> 0 | D28: ='2-47'!I10 -> 0
A29: 61 | B29: Útburkolat alap és makadámburkolat készítése | C29: ='2-61'!H3 -> 0 | D29: ='2-61'!I3 -> 0
A30: 62 | B30: Kőburkolat készítése | C30: ='2-62'!H6 -> 0 | D30: ='2-62'!I6 -> 0
B31: II. Fejezet munkanemei összesen (HUF) | C31: =SUM(C22:C30) -> 0 | D31: =SUM(D22:D30) -> 0

Sheet 1-2
A1: Ssz. | B1: Tételszám | C1: Tétel szövege | D1: Menny. | E1: Egység | F1: Anyag egységár | G1: Díj egységre | H1: Anyag összesen | I1: Díj összesen | J1: Megjegyzés | K1: ÉNGY kód | L1: K. jelző | M1: Munkanem
A2: 1 | B2: 02-030-9.1-0134522 | C2: Bontott veszélyes hulladék elszállítása, tetőfedő anyagok, veszélyes hulladék (síkpala) elszállítása jóváhagyott hulladéklerakó telepre, ártalmatlanítási díjjal | D2: 6001.87 | E2: kg | F2: 0 | G2: 0 | H2: =ROUND(F2*D2,0) -> 0 | I2: =ROUND(G2*D2,0) -> 0 | M2: 2
A3: 2 | B3: 02-030-8.1 | C3: Bontott veszélyes hulladék berakása minősített konténerbe, gépi erővel, kiegészítő kézi munkával | D3: 38.41 | E3: m3 | F3: 0 | G3: 0 | H3: =ROUND(F3*D3,0) -> 0 | I3: =ROUND(G3*D3,0) -> 0 | M3: 2
C4: Munkanem összesen (HUF) | H4: =ROUND(SUM(H2:H3),0) -> 0 | I4: =ROUND(SUM(I2:I3),0) -> 0

Sheet 1-9
A1: Ssz. | B1: Tételszám | C1: Tétel szövege | D1: Menny. | E1: Egység | F1: Anyag egységár | G1: Díj egységre | H1: Anyag összesen | I1: Díj összesen | J1: Megjegyzés | K1: ÉNGY kód | L1: K. jelző | M1: Munkanem
A2: 1 | B2: 45-000-2.2 | C2: Rácsok, korlátok, kerítések bontása, csőkorlát | D2: 6.7 | E2: m | F2: 0 | G2: 0 | H2: =ROUND(F2*D2,0) -> 0 | I2: =ROUND(D2*G2,0) -> 0
A3: 2 | B3: 45-051-11.1.4.2 | C3: Festett, horganyzott acél korlát és fogódzó elhelyezése akadálymentes műleírás szerinti kialakításban, 4,45 + 3,75 m hosszban, 0,95 m magasságban | D3: 1 | E3: db | F3: 0 | G3: 0 | H3: =ROUND(F3*D3,0) -> 0 | I3: =ROUND(D3*G3,0) -> 0 | J3: Konszign.jel: LK-01 és LK-02 | M3: 9
A4: 3 | B4: 42-070-1.2.1.4.1-0414271 | C4: Akadálymentes burkolati figyelmeztető jelzések elhelyezése kültérben, taktilis vezetősávok, soronként négy vezetősáv esetén, ragasztható kivitelben, Induct Trade taktilis vezetősáv kül- és beltérre vakok és gyengénlátók számára, ragasztható kivitelben, poliuretán, méret: 35x500 mm, fekete, szürke, piros, sárga, kávé, narancs, kék színben, Cikkszám: IT PP1-F | D4: 17.5 | E4: m | F4: 0 | G4: 0 | H4: =ROUND(F4*D4,0) -> 0 | I4: =ROUND(D4*G4,0) -> 0
A5: 4 | B5: 42-070--1.2.6.1-0414291 | C5: Akadálymentes burkolati figyelmeztető jelzések elhelyezése kültérben, figyelmeztető jelzőkorongok, ragasztható kivitelben, Induct Trade taktilis figyelmeztető jelzés kül- és beltérre vakok és gyengénlátók számára, ragasztható kivitelben, 35 mm átmérőjű, mintázott felületű, csúszásmentes korong, 3 mm magas kivitelben, poliuretán, 7 cm-es tengelytávolsággal diagonálisan padlóburkolatba elhelyezve, fekete, szürke, piros, sárga, kávé, narancs, kék színben, Cikkszám: IT PU1 | D5: 0.18 | E5: m2 | F5: 0 | G5: 0 | H5: =ROUND(F5*D5,0) -> 0 | I5: =ROUND(D5*G5,0) -> 0
C6: Munkanem összesen (HUF) | H6: =ROUND(SUM(H2:H5),0) -> 0 | I6: =ROUND(SUM(I2:I5),0) -> 0

Sheet 1-12
A1: Ssz. | B1: Tételszám | C1: Tétel szövege | D1: Menny. | E1: Egység | F1: Anyag egységár | G1: Díj egységre | H1: Anyag összesen | I1: Díj összesen | J1: Megjegyzés | K1: ÉNGY kód | L1: K. jelző | M1: Munkanem
A2: 1 | B2: 12-011-1.1-0025031 | C2: Mobil WC bérleti díj elszámolása, szállítással, heti tisztítással, karbantartással, Mobil WC kézmosós, bérleti díj/hó | D2: 12 | E2: db | F2: 0 | G2: 0 | H2: =ROUND(F2*D2,0) -> 0 | I2: =ROUND(G2*D2,0) -> 0 | K2: 120115062316 | L2: ÖN | M2: 12
A3: 2 | B3: 12-012-1.2.2-0025006 | C3: Konténer bérleti díj elszámolása, iroda konténer 10,01-20,00 m² alapterület között, Iroda konténer, 10,01 - 20,00 m² között, bérleti díj/hó | D3: 12 | E3: db | F3: 0 | G3: 0 | H3: =ROUND(F3*D3,0) -> 0 | I3: =ROUND(G3*D3,0) -> 0
A4: 3 | B4: 12-004-4.1-0220233 | C4: Vízellátás szövetbetétes gumitömlővel 1/2-3/4" méretig, Szövetbetétes víztömlő, 1 MPa 18 mm | D4: 50 | E4: m | F4: 0 | G4: 0 | H4: =ROUND(F4*D4,0) -> 0 | I4: =ROUND(G4*D4,0) -> 0
A5: 4 | B5: 12-005-8.1 | C5: Felvonulási csatlakozóhely főkapcsolóval világítási és erőátviteli mérőhely részére | D5: 1 | E5: db | F5: 0 | G5: 0 | H5: =ROUND(F5*D5,0) -> 0 | I5: =ROUND(G5*D5,0) -> 0
A6: 5 | B6: 12-021-1.1-0137471 | C6: Ideiglenes kerítés, mobil kerítés elhelyezése DIRICKX M 300 mobilkerítés elem rögzítő bilinccsel, egyéb tartozékokkal, szemméret: 100 x 250 mm, szélesség: 3500 mm, magasság: 2000 mm | D6: 188.8 | E6: m | F6: 0 | G6: 0 | H6: =ROUND(F6*D6,0) -> 0 | I6: =ROUND(G6*D6,0) -> 0 | K6: 120212051585 | L6: ÖN | M6: 12
C7: Munkanem összesen (HUF) | H7: =ROUND(SUM(H2:H6),0) -> 0 | I7: =ROUND(SUM(I2:I6),0) -> 0

Sheet 1-15
A1: Ssz. | B1: Tételszám | C1: Tétel szövege | D1: Menny. | E1: Egység | F1: Anyag egységár | G1: Díj egységre | H1: Anyag összesen | I1: Díj összesen | J1: Megjegyzés | K1: ÉNGY kód | L1: K. jelző | M1: Munkanem
A2: 1 | B2: 15-012-21.1-0023003 | C2: Homlokzati keretállványok, fém keretvázból, szintenkénti pallóterítéssel, korláttal, lábdeszkával, 0,75-1,20 m padlószélességgel, munkapadló távolság 2,50 m, 2,00 kN/m² terhelhetőséggel, állványépítés MSZ és alkalmazástechnikai kézikönyv szerint, 6,00 m munkapadló magasságig, KRAUSE Stabilo homlokzati keretállvány 0,75 m padlószélességgel, 6,00 m munkapadló magasságig | D2: 514.83 | E2: m2 | F2: 0 | G2: 0 | H2: =ROUND(F2*D2,0) -> 0 | I2: =ROUND(G2*D2,0) -> 0 | K2: 150120012602 | L2: ÖN | M2: 15
C3: Munkanem összesen (HUF) | H3: =ROUND(SUM(H2:H2),0) -> 0 | I3: =ROUND(SUM(I2:I2),0) -> 0

Sheet 1-21
A1: Ssz. | B1: Tételszám | C1: Tétel szövege | D1: Menny. | E1: Egység | F1: Anyag egységár | G1: Díj egységre | H1: Anyag összesen | I1: Díj összesen | J1: Megjegyzés | K1: ÉNGY kód | L1: K. jelző | M1: Munkanem
A2: 1 | B2: 21-011-12 | C2: Munkahelyi depóniából építési törmelék konténerbe rakása, kézi erővel, önálló munka esetén elszámolva, konténer szállítás nélkül | D2: 42 | E2: m3 | F2: 0 | G2: 0 | H2: =ROUND(F2*D2,0) -> 0 | I2: =ROUND(G2*D2,0) -> 0 | K2: 210110016825 | L2: ÖN | M2: 21
A3: 2 | B3: 21-011-11.5 | C3: Építési törmelék konténeres elszállítása, lerakása, lerakóhelyi díjjal, 7,0 m³-es konténerbe | D3: 11 | E3: db | F3: 0 | G3: 0 | H3: =ROUND(F3*D3,0) -> 0 | I3: =ROUND(G3*D3,0) -> 0 | K3: 210110016786 | L3: ÖN | M3: 21
A4: 3 | B4: 21-003-5.1.1.1 | C4: Munkaárok földkiemelése közművesített területen, kézi erővel, bármely konzisztenciájú talajban, dúcolás nélkül, 2,0 m² szelvényig, I-II. talajosztály | D4: 1.16 | E4: m3 | F4: 0 | G4: 0 | H4: =ROUND(F4*D4,0) -> 0 | I4: =ROUND(G4*D4,0) -> 0 | J4: Kazánház falazat alap | K4: 210030014705
C5: Munkanem összesen (HUF) | H5: =ROUND(SUM(H2:H4),0) -> 0 | I5: =ROUND(SUM(I2:I4),0) -> 0

Sheet 1-23
A1: Ssz. | B1: Tételszám | C1: Tétel szövege | D1: Menny. | E1: Egység | F1: Anyag egységár | G1: Díj egységre | H1: Anyag összesen | I1: Díj összesen | J1: Megjegyzés | K1: ÉNGY kód | L1: K. jelző | M1: Munkanem
A2: 1 | B2: 23-003-3-0222210 | C2: Vasbeton sáv-, talp-, lemez- vagy gerendaalap készítése helyszínen kevert .....minőségű betonból, C16/20 - X0v(H) - 16 - F3 - CEM 32,5, m = 6,6 finomsági modulussal | D2: 1.16 | E2: m3 | F2: 0 | G2: 0 | H2: =ROUND(F2*D2,0) -> 0 | I2: =ROUND(G2*D2,0) -> 0 | J2: Kazánház falazat alapozása | M2: 22
C3: Munkanem összesen (HUF) | H3: =ROUND(SUM(H2:H2),0) -> 0 | I3: =ROUND(SUM(I2:I2),0) -> 0

Sheet 1-31
A1: Ssz. | B1: Tételszám | C1: Tétel szövege | D1: Menny. | E1: Egység | F1: Anyag egységár | G1: Díj egységre | H1: Anyag összesen | I1: Díj összesen | J1: Megjegyzés | K1: ÉNGY kód | L1: K. jelző | M1: Munkanem
A2: 1 | B2: 31-000-14.1 | C2: Beton aljzatok, járdák bontása 10 cm vastagság felett, könnyűbetonból, salakbetonból | D2: 12.15 | E2: m3 | F2: 0 | G2: 0 | H2: =ROUND(F2*D2,0) -> 0 | I2: =ROUND(G2*D2,0) -> 0 | J2: Lapostető lejtésképző beton | K2: 310000034863 | L2: ÖN | M2: 31
A3: 2 | B3: 31-000-14.2 | C3: Beton járdák bontása épület lábazatnál, kavicságyazattal együtt | D3: 30.47 | E3: m3 | F3: 0 | G3: 0 | H3: =ROUND(F3*D3,0) -> 0 | I3: =ROUND(G3*D3,0) -> 0 | M3: 31
A4: 3 | B4: 31-051-6.2.1-0121110 | C4: Leier finombeton lábzati kúpos fedlap elhelyezése AJ-02 bejáratnál lévő mellvédfalak tetején, 49x35x4 cm elemekkel, ágyazóhabarcsba fektetve | D4: 1.75 | E4: m² | F4: 0 | G4: 0 | H4: =ROUND(F4*D4,0) -> 0 | I4: =ROUND(G4*D4,0) -> 0 | M4: 31
C5: Munkanem összesen (HUF) | H5: =ROUND(SUM(H2:H4),0) -> 0 | I5: =ROUND(SUM(I2:I4),0) -> 0

Sheet 1-32
A1: Ssz. | B1: Tételszám | C1: Tétel szövege | D1: Menny. | E1: Egység | F1: Anyag egységár | G1: Díj egységre | H1: Anyag összesen | I1: Díj összesen | J1: Megjegyzés | K1: ÉNGY kód | L1: K. jelző | M1: Munkanem
A2: 1 | B2: 32-002-2.1.1-0120003 | C2: Előregyártott nyomottöv nélküli nyílásáthidaló elhelyezése, tartószerkezetre, csomóponti kötés nélkül,falazat szélességű áthidaló elemekből vagy több elem egymás mellé sorolásával, a teherhordó falváll előkészítésével, az áthidaló elemek ideiglenes alátámasztásával, kiegészítő hőszigetelés elhelyezése nélkül, 0,07 t/db tömegig, égetett agyag-kerámia köpenyes nyílásáthidaló gerenda, POROTHERM A-12 kerámia burkolatú nyílásáthidaló, 1,50 m | D2: 2 | E2: db | F2: 0 | G2: 0 | H2: =ROUND(F2*D2,0) -> 0 | I2: =ROUND(G2*D2,0) -> 0 | K2: 320020072271 | L2: ÖN | M2: 9
C3: Munkanem összesen (HUF) | H3: =ROUND(SUM(H2:H2),0) -> 0 | I3: =ROUND(SUM(I2:I2),0) -> 0

Sheet 1-33
A1: Ssz. | B1: Tételszám | C1: Tétel szövege | D1: Menny. | E1: Egység | F1: Anyag egységár | G1: Díj egységre | H1: Anyag összesen | I1: Díj összesen | J1: Megjegyzés | K1: ÉNGY kód | L1: K. jelző | M1: Munkanem
A2: 1 | B2: 33-001-1.1.2.3.1.2.1-0127465 | C2: Teherhordó és kitöltő falazat készítése, égetett agyag-kerámia termékekből, nútféderes elemekből, 300 mm falvastagságban, 300x250x238-240 mm-es méretű kézi falazóblokkból, falazó, cementes mészhabarcsba falazva, POROTHERM 30 N+F Neo nútféderes kézi falazóblokk, 300x250x238 mm, M 1 (Hf10-mc) falazó, cementes mészhabarcs | D2: 7.18 | E2: m² | F2: 0 | G2: 0 | H2: =ROUND(F2*D2,0) -> 0 | I2: =ROUND(G2*D2,0) -> 0 | K2: 330013683550 | L2: ÖN | M2: 33
A3: 2 | B3: 33-K | C3: LEIER zsaluzóelem ZS 30, 30/50/23 cm, Bordás betonacél, szálban, B 60.50 10 mm C16/20 - X0v(H) - 16 - F2 - CEM 32,5, m = 6,6 finomsági modulussal; kitüskézve, kiegyenlítő betonnal; zsaluzattal és porszórt alumínium attikalefedéssel | D3: 2.18 | E3: m² | F3: 0 | G3: 0 | H3: =ROUND(F3*D3,0) -> 0 | I3: =ROUND(G3*D3,0) -> 0 | J3: Lapostetőn 1,45 m2, kazánháznál 0,73 m2 | K3: 330010089873 | L3: ÖN | M3: 9
C4: Munkanem összesen (HUF) | H4: =ROUND(SUM(H2:H3),0) -> 0 | I4: =ROUND(SUM(I2:I3),0) -> 0

Sheet 1-34
A1: Ssz. | B1: Tételszám | C1: Tétel szövege | D1: Menny. | E1: Egység | F1: Anyag egységár | G1: Díj egységre | H1: Anyag összesen | I1: Díj összesen | J1: Megjegyzés | K1: ÉNGY kód | L1: K. jelző | M1: Munkanem
A2: 1 | B2: 34-001-8.1 | C2: Első osztályú előtető alumínium vízelvezető profillal, erős tömör műanyag konzollal, áttetsző bronz színű polikarbonát fedéssel, 1 db 240x120 cm-es, illetve 2 db 240x120 cm-es, egymás mellé sorolt elem felhasználásával - a tétel tartalmazza a régi előtetők leszerelését. | D2: 8.64 | E2: m² | F2: 0 | G2: 0 | H2: =ROUND(F2*D2,0) -> 0 | I2: =ROUND(G2*D2,0) -> 0 | M2: 34
C3: Munkanem összesen (HUF) | H3: =ROUND(SUM(H2:H2),0) -> 0 | I3: =ROUND(SUM(I2:I2),0) -> 0

Sheet 1-35
A1: Ssz. | B1: Tételszám | C1: Tétel szövege | D1: Menny. | E1: Egység | F1: Anyag egységár | G1: Díj egységre | H1: Anyag összesen | I1: Díj összesen | J1: Megjegyzés | K1: ÉNGY kód | L1: K. jelző | M1: Munkanem
A2: 1 | B2: 35-000-2.1 | C2: Tetőlécezés bontása bármely egyszeres hornyolt cserépfedés alatt | D2: 960.3 | E2: m2 | F2: 0 | G2: 0 | H2: =ROUND(F2*D2,0) -> 0 | I2: =ROUND(G2*D2,0) -> 0 | K2: 350000108132 | L2: ÖN | M2: 35
A3: 2 | B3: 35-005-1.1.2-0211005 | C3: Ereszburkolat készítés 5x5 stafni vázzal, 15 mm vtg OSB lemezzel, vágott (nútolatlan) kivitelben, függőleges és vízszintes felületen | D3: 52.5 | E3: m2 | F3: 0 | G3: 0 | H3: =ROUND(F3*D3,0) -> 0 | I3: =ROUND(G3*D3,0) -> 0 | M3: 35
A4: 3 | B4: 35-002-4.3-0996263 | C4: Páraáteresztő, szabadon fekvő, szélzáró, vízzáró, vízhatlan alátétfólia, alátétfedés vagy alátétszigetelés terítése 15 cm-es átfedéssel (ellenléc külön tételben számolandó) öntapadó szegéllyel folytonosítva, Gerard Extreme alátéthéjazat 75 m2 (50x1,50 m tekercs) | D4: 960.3 | E4: m2 | F4: 0 | G4: 0 | H4: =ROUND(F4*D4,0) -> 0 | I4: =ROUND(G4*D4,0) -> 0 | K4: 350021673823 | L4: ÖN | M4: 35
A5: 4 | B5: 35-003-1.6 | C5: Tetőlécezés tetőfelület ellenlécezésének elkészítése | D5: 1392.43 | E5: m | F5: 0 | G5: 0 | H5: =ROUND(F5*D5,0) -> 0 | I5: =ROUND(G5*D5,0) -> 0 | K5: 350030108830 | L5: ÖN | M5: 35
A6: 5 | B6: 35-003-1.5-0410051 | C6: Tetőlécezés betoncserép alá, 5/4-es lécből, BRAMAC tetőléc 2-6,5 m hosszú 30/32x48/50 mm | D6: 960.3 | E6: m2 | F6: 0 | G6: 0 | H6: =ROUND(F6*D6,0) -> 0 | I6: =ROUND(G6*D6,0) -> 0 | K6: 350030108801 | L6: ÖN | M6: 35
A7: 6 | B7: 35-080-5.1 | C7: Deszkázás cseréje, ereszdeszkázás gyalult, hornyolt kivitelben | D7: 10.18 | E7: m2 | F7: 0 | G7: 0 | H7: =ROUND(F7*D7,0) -> 0 | I7: =ROUND(G7*D7,0) -> 0 | K7: 350800110014 | L7: ÖN | M7: 35
A8: 7 | B8: 35-080-5.3 | C8: Deszkázás cseréje, oromdeszka | D8: 33.92 | E8: m | F8: 0 | G8: 0 | H8: =ROUND(F8*D8,0) -> 0 | I8: =ROUND(G8*D8,0) -> 0 | K8: 350800110031 | L8: ÖN | M8: 35
A9: 8 | B9: 35-002-9-0113024 | C9: Belső oldali páratechnikai rendszer készítése, 15 cm-es átfedéssel, MASTERPLAST Isoflex Alu-LP PE belső oldali párafékező, párazáró, metalizált hővisszaverő felülettel, W1, Cikkszám: 0211-01000060 | D9: 17 | E9: m² | F9: 0 | G9: 0 | H9: =ROUND(F9*D9,0) -> 0 | I9: =ROUND(G9*D9,0) -> 0 | K9: 350024288280 | L9: ÖN | M9: 35
A10: 9 | B10: 35-005-1.1.2-0211007 | C10: Mérsékelten vízálló, műgyantával stabilizált OSB lap elhelyezése vágott (nútolatlan) kivitelben, függőleges vagy vízszintes felületen, Mérsékelten vízálló OSB-3 lap, 2500x1250x22 mm méretű | D10: 20.17 | E10: m2 | F10: 0 | G10: 0 | H10: =ROUND(F10*D10,0) -> 0 | I10: =ROUND(G10*D10,0) -> 0 | J10: Attika fedés aljzata
A11: 10 | B11: 35-005-1.1.2-0211008 | C11: Mérsékelten vízálló, műgyantával stabilizált OSB lap elhelyezése vágott (nútolatlan) kivitelben, függőleges vagy vízszintes felületen, Mérsékelten vízálló OSB-3 lap, 2500x1250x25 mm méretű | D11: 8.38 | E11: m² | F11: 0 | G11: 0 | H11: =ROUND(F11*D11,0) -> 0 | I11: =ROUND(G11*D11,0) -> 0 | J11: Padlás járófelület | K11: 350050109143 | L11: ÖN | M11: 35
A12: 11 | B12: 35-005-1.1.2-0211007 | C12: Kétirányú 5/15 cm k.metszetű fa palló váz | D12: 8.38 | E12: m2 | F12: 0 | G12: 0 | H12: =ROUND(F12*D12,0) -> 0 | I12: =ROUND(G12*D12,0) -> 0 | J12: Padlás járófelület | M12: 35
C13: Munkanem összesen (HUF) | H13: =ROUND(SUM(H2:H12),0) -> 0 | I13: =ROUND(SUM(I2:I12),0) -> 0

Sheet 1-36
A1: Ssz. | B1: Tételszám | C1: Tétel szövege | D1: Menny. | E1: Egység | F1: Anyag egységár | G1: Díj egységre | H1: Anyag összesen | I1: Díj összesen | J1: Megjegyzés | K1: ÉNGY kód | L1: K. jelző | M1: Munkanem
A2: 1 | B2: 36-090-1.2.2-0550090 | C2: Vakolatjavítás homlokzaton, a meglazult, sérült vakolat előzetes leverésével, durva, sima kivitelben, hiánypótlás 5-25% között, CS I-W1 (Hvh10-mc) kültéri, vakoló cementes mészhabarcs mészpéppel | D2: 104.38 | E2: m2 | F2: 0 | G2: 0 | H2: =ROUND(F2*D2,0) -> 0 | I2: =ROUND(G2*D2,0) -> 0 | K2: 360900130042 | L2: ÖN | M2: 36
A3: 2 | B3: 36-90-2.1.3 | C3: Vakolatok pótlása, keskenyvakolatok pótlása oldalfalon, 21-40 cm szélesség között | D3: 293 | E3: m | F3: 0 | G3: 0 | H3: =ROUND(F3*D3,0) -> 0 | I3: =ROUND(G3*D3,0) -> 0 | J3: Nyílászáró cserék utáni vakolatjavítások
A4: 3 | B4: 36-051-6.11-0149065 | C4: Kültéri vakolóprofilok elhelyezése, horganyzott acélból, alumíniumból, rozsdamentes acélból, PVC-ből, 6 - 23 mm vakolatvastagsághoz, pozitív sarkokra, MASTERPLAST Thermomaster PVC élvédő 10+15 cm üvegszövet hálóval, Cikkszám: 0107-10150000 | D4: 315.79 | E4: m | F4: 0 | G4: 0 | H4: =ROUND(F4*D4,0) -> 0 | I4: =ROUND(G4*D4,0) -> 0 | K4: 360512395885 | L4: ÖN | M4: 36
A5: 4 | B5: 36-011-6-0391213 | C5: Üvegszövet háló elhelyezése, függőleges, vízszintes, ferde vagy íves felületen, Baumit felirat nélküli üvegszövet, Cikkszám: 956191 | D5: 544.64 | E5: m2 | F5: 0 | G5: 0 | H5: =ROUND(F5*D5,0) -> 0 | I5: =ROUND(G5*D5,0) -> 0 | K5: 360110124646 | L5: ÖN | M5: 36
A6: 5 | B6: 36-011-7-0415946 | C6: Üvegszövet háló beágyazása, függőleges, vízszintes, ferde vagy íves felületen, Baumit DuoContact - ragasztótapasz EPS lemezekhez, Cikkszám: 156107 | D6: 544.64 | E6: m2 | F6: 0 | G6: 0 | H6: =ROUND(F6*D6,0) -> 0 | I6: =ROUND(G6*D6,0) -> 0 | K6: 360114029841 | L6: ÖN | M6: 36
A7: 6 | B7: 36-002-4-0415917 | C7: Vékonyvakolat alapozók felhordása, kézi erővel, Baumit UniPrimer - univerzális vékonyvakolat alapozó, Cikkszám: 255400, vakolt felületre | D7: 544.64 | E7: m2 | F7: 0 | G7: 0 | H7: =ROUND(F7*D7,0) -> 0 | I7: =ROUND(G7*D7,0) -> 0 | K7: 360020112194 | L7: ÖN | M7: 36
A8: 7 | B8: 36-007-9.2-0415421 | C8: Lábazati vakolatok; díszítő és lábazati műgyanta kötőanyagú vakolatréteg felhordása,kézi erővel, vödrös kiszerelésű anyagból, Baumit MosaikTop (Baumit Mozaik) vakolat 2 mm-es szemcseméret, akadálymentességi leírás szerinti színben, Cikkszám: 255201 | D8: 62.21 | E8: m2 | F8: 0 | G8: 0 | H8: =ROUND(F8*D8,0) -> 0 | I8: =ROUND(G8*D8,0) -> 0 | J8: Épület lábazaton 54,21 m2, előlépcső mellvédein 8 m2 | K8: 360070123293 | L8: ÖN | M8: 36
A9: 8 | B9: 36-005-21.2.2.2-0415310 | C9: Vékonyvakolatok, színvakolatok felhordása alapozott, előkészített felületre, vödrös kiszerelésű anyagból, vizes bázisú, műgyanta kötőanyagú vékonyvakolat készítése, egy rétegben, 1,5-2,5 mm-es szemcsemérettel, Baumit GranoporTop (Baumit Granopor) vakolat, kapart 1,5 mm, fehér színcsoport (0018, 0019), Cikkszám: 255103 | D9: 490.43 | E9: m2 | F9: 0 | G9: 0 | H9: =ROUND(F9*D9,0) -> 0 | I9: =ROUND(G9*D9,0) -> 0 | K9: 360050118725 | L9: ÖN | M9: 36
A10: 9 | B10: 36-000-1.1.1 | C10: Vakolat leverése oldalfalról vagy mennyezetről 1,5 cm vastagságig falazó, cementes mészhabarcs | D10: 101.56 | E10: m² | F10: 0 | G10: 0 | H10: =ROUND(F10*D10,0) -> 0 | I10: =ROUND(G10*D10,0) -> 0 | J10: Külső főfalak belső és homlokzati felületén, padlótól mért 60 cm magasságig | K10: 360000110595 | L10: ÖN | M10: 36
A11: 10 | B11: 36-012-2.2.1.1-0414901 | C11: Szellőző, falszárító felújító vakolat készítése, erős (magas) só és nedvességtartalom esetén WTA rendszerben, kézi felhordással, szárazhabarcsból, felületelőkészítéssel (alapozó, előfröcskölő, gúz), alsó, felső vakolatréteggel, összesen 3 cm vastagságban, Cemix WTA EUROSAN OP/WTA Eurosan felújító felsővakolat, kézi,Cikkszám: K00551401 + Cemix WTA EUROSAN UP/WTA Eurosan felújító alsóvakolat, kézi, Csz: K00551301 + Cemix EUROSAN VS/WTA Eurosan gúzolóanyag kézi és gépi, Csz: K00551101 | D11: 101.56 | E11: m² | F11: 0 | G11: 0 | H11: =ROUND(F11*D11,0) -> 0 | I11: =ROUND(G11*D11,0) -> 0 | J11: Külső főfalak belső és homlokzati felületén, padlótól mért 60 cm magasságig | K11: 360120125350 | L11: ÖN | M11: 36
A12: 11 | B12: 36-003-1.1.1.1.1-0414710 | C12: Oldalfalvakolat készítése, kézi felhordással, zsákos kiszerelésű szárazhabarcsból, sima, normál mész-cement vakolat, 1 cm vastagságban, Cemix PRÉMIUM kézi alapvakolat, Cikkszám: K00215011 | D12: 7.18 | E12: m² | F12: 0 | G12: 0 | H12: =ROUND(F12*D12,0) -> 0 | I12: =ROUND(G12*D12,0) -> 0 | K12: 360030112472 | L12: ÖN | M12: 36
A13: 12 | B13: 36-011-6-0391213 | C13: Üvegszövet háló elhelyezése, függőleges, vízszintes, ferde vagy íves felületen, Baumit felirat nélküli üvegszövet, Cikkszám: 956191 | D13: 75.57 | E13: m2 | F13: 0 | G13: 0 | H13: =ROUND(F13*D13,0) -> 0 | I13: =ROUND(G13*D13,0) -> 0 | J13: Pince mennyezet hőszigetelésen | K13: 360110124646 | L13: ÖN | M13: 36
A14: 13 | B14: 36-011-7-0415946 | C14: Üvegszövet háló beágyazása, függőleges, vízszintes, ferde vagy íves felületen, Baumit DuoContact - ragasztótapasz EPS lemezekhez, Cikkszám: 156107 | D14: 75.57 | E14: m2 | F14: 0 | G14: 0 | H14: =ROUND(F14*D14,0) -> 0 | I14: =ROUND(G14*D14,0) -> 0 | J14: Pince mennyezet hőszigetelésen | K14: 360114029841 | L14: ÖN | M14: 36
A15: 14 | B15: 36-000-1.3 | C15: Vakolat leverése homlokzatról 2,5 cm vastagságig | D15: 8 | E15: m² | F15: 0 | G15: 0 | H15: =ROUND(F15*D15,0) -> 0 | I15: =ROUND(G15*D15,0) -> 0 | J15: AJ-02 bejárat előlépcső mellvéd | K15: 360000110610 | L15: ÖN | M15: 36
A16: 15 | B16: 36-002-11.1-0414764 | C16: Tapadóhíd képzése gyári zsákos gúzanyaggal, kézi erővel, Cemix KONTAKT VS PLUS (Kontakt VS Squash) gúzoló, Csz: K00225211 | D16: 8 | E16: m² | F16: 0 | G16: 0 | H16: =ROUND(F16*D16,0) -> 0 | I16: =ROUND(G16*D16,0) -> 0 | J16: AJ-02 bejárat előlépcső mellvéd | K16: 360020112291 | L16: ÖN | M16: 36
A17: 16 | B17: 36-007-9.1.1-0414722 | C17: Lábazati vakolatok; lábazati alapvakolat felhordása kézi erővel, 2 cm vastagságban, Cemix SOCKELPUTZ/Lábazati alapvakolat, fagyálló, Cikkszám: K00212111 | D17: 8 | E17: m² | F17: 0 | G17: 0 | H17: =ROUND(F17*D17,0) -> 0 | I17: =ROUND(G17*D17,0) -> 0 | K17: 360070123126 | L17: ÖN | M17: 36
C18: Munkanem összesen (HUF) | H18: =ROUND(SUM(H2:H17),0) -> 0 | I18: =ROUND(SUM(I2:I17),0) -> 0

Sheet 1-39
A1: Ssz. | B1: Tételszám | C1: Tétel szövege | D1: Menny. | E1: Egység | F1: Anyag egységár | G1: Díj egységre | H1: Anyag összesen | I1: Díj összesen | J1: Megjegyzés | K1: ÉNGY kód | L1: K. jelző | M1: Munkanem
A2: 1 | B2: 39-003-6.1.7.2-0210202 | C2: Tetőtéri borítás készítése, ferde vagy vízszintes kivitelben, szigetelés nélkül, csavarfejek és illesztések alapglettelve (Q2 minőségben), szarufákhoz rögzítve, fa lécvázra, 2 rtg. tűzgátló 12,5 mm vtg. gipszkarton lemezből, KNAUF F 13 tűzgátló építőlemez, 12,5 mm HRAK 1250/2000, Cikkszám: 00491484_0110 | D2: 17 | E2: m² | F2: 0 | G2: 0 | H2: =ROUND(F2*D2,0) -> 0 | I2: =ROUND(G2*D2,0) -> 0 | K2: 390034166176 | L2: ÖN | M2: 39
C3: Munkanem összesen (HUF) | H3: =ROUND(SUM(H2:H2),0) -> 0 | I3: =ROUND(SUM(I2:I2),0) -> 0

Sheet 1-41
A1: Ssz. | B1: Tételszám | C1: Tétel szövege | D1: Menny. | E1: Egység | F1: Anyag egységár | G1: Díj egységre | H1: Anyag összesen | I1: Díj összesen | J1: Megjegyzés | K1: ÉNGY kód | L1: K. jelző | M1: Munkanem
A2: 1 | B2: 41-000-1 | C2: Síkpala fedés bontása (bármely rendszerű) | D2: 960.3 | E2: m2 | F2: 0 | G2: 0 | H2: =ROUND(F2*D2,0) -> 0 | I2: =ROUND(G2*D2,0) -> 0
A3: 2 | B3: 41-006-51.1.2-0996021 | C3: Sajtolt cserép mintázatú acéllemez-fedések, színes kő granulátum bevonatú horganyzott acél cserepeslemez fedés készítése, 15 - 90° tetőhajlásszög között, tagolt és sátortetőnél, Gerard Klasszikus tetőcserép, hasznos hossz: 1265 mm, hasznos lejtés irányú méret: 369 mm, standard színben | D3: 960.3 | E3: m2 | F3: 0 | G3: 0 | H3: =ROUND(F3*D3,0) -> 0 | I3: =ROUND(G3*D3,0) -> 0 | M3: 41
A4: 3 | B4: 41-006-59.1.1-0996041 | C4: Sajtolt cserép mintázatú acéllemezfedésnél, gerincfedés készítése, egytagos íves kúpcseréppel, Gerard íves kúpcserép, hasznos hossz: 405 mm, standard színben | D4: 130.18 | E4: m | F4: 0 | G4: 0 | H4: =ROUND(F4*D4,0) -> 0 | I4: =ROUND(G4*D4,0) -> 0 | K4: 410024405032 | L4: ÖN | M4: 41
A5: 4 | B5: 41-006-59.1.5-0996051 | C5: Sajtolt cserép mintázatú acéllemezfedésnél, gerincfedés készítése, kezdő kúpcserép elhelyezése, Gerard formázott végelem íves kúpcseréphez, hasznos hossz: 400 mm, standard színben | D5: 8 | E5: db | F5: 0 | G5: 0 | H5: =ROUND(F5*D5,0) -> 0 | I5: =ROUND(G5*D5,0) -> 0
A6: 5 | B6: 41-006-59.1.2-0996061 | C6: Sajtolt cserép mintázatú acéllemezfedésnél, gerincfedés készítése, háromtagos kúpcseréppel, Gerard kontyelem íves kúpcseréphez 30-45°, standard színben | D6: 6 | E6: db | F6: 0 | G6: 0 | H6: =ROUND(F6*D6,0) -> 0 | I6: =ROUND(G6*D6,0) -> 0
A7: 6 | B7: 41-006-59.9-0966091 | C7: Sajtolt cserép mintázatú acéllemezfedésnél, ereszszegély elhelyezése, Gerard ereszszegély, hasznos hossz: 1900 mm, standard színben | D7: 148.35 | E7: m | F7: 0 | G7: 0 | H7: =ROUND(F7*D7,0) -> 0 | I7: =ROUND(G7*D7,0) -> 0
A8: 7 | B8: 41-006-59.5-0996077 | C8: Sajtolt cserép mintázatú acéllemezfedésnél, oromzati lezárás kialakítása, oromszegély elemmel vagy oromszegély lappal (jobbos-balos), Gerard univerzális fogazott oromszegély (bal/jobb), hasznos hossz: 1100 mm, standard színben | D8: 34.56 | E8: m | F8: 0 | G8: 0 | H8: =ROUND(F8*D8,0) -> 0 | I8: =ROUND(G8*D8,0) -> 0
A9: 8 | B9: 41-006-59.17 | C9: Sajtolt cserép mintázatú acéllemezfedésnél, fém hóvágó elhelyezése | D9: 1105 | E9: db | F9: 0 | G9: 0 | H9: =ROUND(F9*D9,0) -> 0 | I9: =ROUND(G9*D9,0) -> 0
A10: 9 | B10: 41-006-59.19-0991127 | C10: Sajtolt cserép mintázatú acéllemezfedésnél, tetőkibúvó ablak elhelyezése, LINDAB LTK tetőkibúvó 65x65 cm | D10: 1 | E10: db | F10: 0 | G10: 0 | H10: =ROUND(F10*D10,0) -> 0 | I10: =ROUND(G10*D10,0) -> 0
A11: 10 | B11: 41-011-3.1.1-0996253 | C11: Tetőjárda elhelyezése gerinccel párhuzamos szerelési iránynál, trapéz-, cserepes-, sinushullám mintázatú acéllemezfedésnél, Gerard kéményseprő járda elhelyezése, 800 mm hosszú | D11: 1.6 | E11: m | F11: 0 | G11: 0 | H11: =ROUND(F11*D11,0) -> 0 | I11: =ROUND(G11*D11,0) -> 0
A12: 11 | B12: 41-003-29.22-0350006 | C12: Ki-, beszellőztetés, szellőző szalag elhelyezése, MASTERPLAST Roofbond AC perforált szellőző szalag, UV álló PVC (10 cm x 5 m), eresz dobozolásban elhelyezve | D12: 148.35 | E12: m | F12: 0 | G12: 0 | H12: =ROUND(F12*D12,0) -> 0 | I12: =ROUND(G12*D12,0) -> 0 | M12: 41
C13: Munkanem összesen (HUF) | H13: =ROUND(SUM(H2:H12),0) -> 0 | I13: =ROUND(SUM(I2:I12),0) -> 0

Sheet 1-43
A1: Ssz. | B1: Tételszám | C1: Tétel szövege | D1: Menny. | E1: Egység | F1: Anyag egységár | G1: Díj egységre | H1: Anyag összesen | I1: Díj összesen | J1: Megjegyzés | K1: ÉNGY kód | L1: K. jelző | M1: Munkanem
A2: 1 | B2: 43-000-1 | C2: Függőereszcsatorna bontása, 50 cm kiterített szélességig | D2: 148.35 | E2: m | F2: 0 | G2: 0 | H2: =ROUND(F2*D2,0) -> 0 | I2: =ROUND(G2*D2,0) -> 0 | K2: 430000330732 | L2: ÖN | M2: 43
A3: 2 | B3: 43-000-5 | C3: Lefolyó csatorna bontása 50 cm kiterített szélességig | D3: 36.55 | E3: m | F3: 0 | G3: 0 | H3: =ROUND(F3*D3,0) -> 0 | I3: =ROUND(G3*D3,0) -> 0 | K3: 430000330773 | L3: ÖN | M3: 43
A4: 3 | B4: 43-000-7 | C4: Szegélyek, párkány könyöklő bontása, 100 cm kiterített szélességig | D4: 32.68 | E4: m | F4: 0 | G4: 0 | H4: =ROUND(F4*D4,0) -> 0 | I4: =ROUND(G4*D4,0) -> 0 | J4: Lapostetőnél | K4: 430000330790 | L4: ÖN | M4: 43
A5: 4 | B5: 43-002-1.5-0149455 | C5: Függőereszcsatorna szerelése, félkörszelvényű, bármilyen kiterített szélességben, alumínium lemezből vagy porfestett alumínium lemezből, PREFA függő ereszcsatorna 33-as bevonatos alumínium antracit színben, 0,7mm/6m | D5: 148.35 | E5: m | F5: 0 | G5: 0 | H5: =ROUND(F5*D5,0) -> 0 | I5: =ROUND(G5*D5,0) -> 0
A6: 5 | B6: 43-002-11.5-0149467 | C6: Lefolyócső szerelése kör keresztmetszettel, bármilyen kiterített szélességgel, alumínium lemezből, PREFA lefolyócső Ø100 körszelvényű, bevonatos alumínium 0,7/3000, antracit színekben | D6: 44.05 | E6: m | F6: 0 | G6: 0 | H6: =ROUND(F6*D6,0) -> 0 | I6: =ROUND(G6*D6,0) -> 0
A7: 6 | B7: 43-003-7.1.3.1-0993010 | C7: Hajlatbádogozás korcolt kivitelben, kiselemes vagy táblás tetőfedő rendszerhez, egyenes kivitelben, horganyzott acéllemezből, 50-65 cm kiterített szélességgel, LINDAB Seamline FOP szegély tűzihorganyzott acél + Z 275 bevonat, 0,5 mm vtg., kiterített szélesség: 451-500 mm | D7: 25.77 | E7: m | F7: 0 | G7: 0 | H7: =ROUND(F7*D7,0) -> 0 | I7: =ROUND(G7*D7,0) -> 0 | K7: 430030344423 | L7: ÖN | M7: 43
A8: 7 | B8: 43-004-1.1-0113810 | C8: Tetőkibúvó szerelése keményhéjalású tetőn, Tetőkibúvó alumínium lemezből, kombinált | D8: 2 | E8: db | F8: 0 | G8: 0 | H8: =ROUND(F8*D8,0) -> 0 | I8: =ROUND(G8*D8,0) -> 0 | K8: 430042627631 | L8: ÖN | M8: 43
A9: 8 | B9: 43-003-10.1.3.2-0149673 | C9: Kétvízorros falfedés, egyenesvonalú kivitelben, bevonatos alumínium lemezből, 51-100 cm kiterített szélességig, PREFA kétoldali poliészter bevonatos alumínium lemezből szegély 0,7 mm vtg., kiterített szélesség: 100, standard színekben | D9: 34.77 | E9: m | F9: 0 | G9: 0 | H9: =ROUND(F9*D9,0) -> 0 | I9: =ROUND(G9*D9,0) -> 0 | J9: Attika fedés | K9: 430034573804 | L9: ÖN | M9: 43
A10: 9 | B10: 43-002-2.11-0994018 | C10: Függőereszcsatorna kiegészítő szerelvények elhelyezése, félkörszelvényű, bármilyen kiterített szélességben, levélrács vagy cseppentő lemez elhelyezése félkör alakú csatornákhoz, alumínium vagy horganyzott acéllemezből, TERRÁN cseppentőlemez (acél), natúr/horganyzott | D10: 32.68 | E10: m | F10: 0 | G10: 0 | H10: =ROUND(F10*D10,0) -> 0 | I10: =ROUND(G10*D10,0) -> 0 | K10: 430025098682 | L10: ÖN | M10: 43
A11: 10 | B11: 43-002-12.2.4-0149423 | C11: Lefolyócső kiegészítő szerelvények elhelyezése, kör keresztmetszettel, bármilyen kiterített szélességgel, vízgyűjtő tölcsér, vízgyűjtő üst, vízlopó stb. alumínium lemezből, PREFA vízgyűjtő üst Ø100 standard színekben | D11: 4 | E11: db | F11: 0 | G11: 0 | H11: =ROUND(F11*D11,0) -> 0 | I11: =ROUND(G11*D11,0) -> 0
A12: 11 | B12: 43-003-8.3.1-0149665 | C12: Ablak- vagy szemöldökpárkány bevonatos alumínium lemezből, 50 cm kiterített szélességig, PREFA kétoldali poliészter bevonatos alumínium lemezből szegély 0,7 mm vtg., kiterített szélesség: 33, standard színekben | D12: 65.22 | E12: m | F12: 0 | G12: 0 | H12: =ROUND(F12*D12,0) -> 0 | I12: =ROUND(G12*D12,0) -> 0 | K12: 430034067951 | L12: ÖN | M12: 43
C13: Munkanem összesen (HUF) | H13: =ROUND(SUM(H2:H12),0) -> 0 | I13: =ROUND(SUM(I2:I12),0) -> 0

Sheet 1-44
A1: Ssz. | B1: Tételszám | C1: Tétel szövege | D1: Menny. | E1: Egység | F1: Anyag egységár | G1: Díj egységre | H1: Anyag összesen | I1: Díj összesen | J1: Megjegyzés | K1: ÉNGY kód | L1: K. jelző | M1: Munkanem
A2: 1 | B2: 44-000-1.1 | C2: Fa vagy műanyag nyílászáró szerkezetek bontása, ajtó, ablak vagy kapu, 2,00 m²-ig | D2: 6.3 | E2: m² | F2: 0 | G2: 0 | H2: =ROUND(F2*D2,0) -> 0 | I2: =ROUND(G2*D2,0) -> 0 | K2: 440000355513 | L2: ÖN | M2: 44
A3: 2 | B3: 44-000-1.2 | C3: Fa vagy műanyag nyílászáró szerkezetek bontása, ajtó, ablak vagy kapu, 2,01-4,00 m² között | D3: 84.39 | E3: m² | F3: 0 | G3: 0 | H3: =ROUND(F3*D3,0) -> 0 | I3: =ROUND(G3*D3,0) -> 0 | K3: 440000355525 | L3: ÖN | M3: 44
A4: 3 | B4: 44-000-1.3 | C4: Fa vagy műanyag nyílászáró szerkezetek bontása, ajtó, ablak vagy kapu, 4,01-6,00 m² között | D4: 49.4 | E4: m² | F4: 0 | G4: 0 | H4: =ROUND(F4*D4,0) -> 0 | I4: =ROUND(G4*D4,0) -> 0 | K4: 440000355530 | L4: ÖN | M4: 44
A5: 4 | B5: 44-011-1.1.1-0168401 | C5: 3 rétegű, hőszigetelő üvegezésű (low E+gáz u=1,0 W/m2K), 6-7 kamrás műanyag nyílászáró elhelyezése fehér színben: 100x210 cm bejárati ajtó, konszignáció szerinti kialakítással. | D5: 1 | E5: db | F5: 0 | G5: 0 | H5: =ROUND(F5*D5,0) -> 0 | I5: =ROUND(G5*D5,0) -> 0 | J5: Konszig.jel: AJ-03 | M5: 44
A6: 5 | B6: 44-011-1.1.2-0168518 | C6: 3 rétegű, hőszigetelő üvegezésű (low E+gáz u=1,0 W/m2K), 6-7 kamrás műanyag nyílászáró elhelyezése fehér színben: 140x295 cm bejárati ajtó, konszignáció szerinti kialakítással. | D6: 1 | E6: db | F6: 0 | G6: 0 | H6: =ROUND(F6*D6,0) -> 0 | I6: =ROUND(G6*D6,0) -> 0 | J6: Konszig.jel: AJ-02 | M6: 44
A7: 6 | B7: 44-011-1.1.2-0168519 | C7: 3 rétegű, hőszigetelő üvegezésű (low E+gáz u=1,0 W/m2K), 6-7 kamrás műanyag nyílászáró elhelyezése fehér színben: 470x260 cm bejárati ajtó, konszignáció szerinti kialakítással. | D7: 1 | E7: db | F7: 0 | G7: 0 | H7: =ROUND(F7*D7,0) -> 0 | I7: =ROUND(G7*D7,0) -> 0 | J7: Konszig.jel: AJ-01 | M7: 44
A8: 7 | B8: 44-012-1.1.1.3.2-0168054 | C8: 3 rétegű, hőszigetelő üvegezésű (low E+gáz u=1,0 W/m2K), 6-7 kamrás műanyag nyílászáró elhelyezése fehér színben: 110x50 cm ablak, konszignáció szerinti kialakítással. | D8: 7 | E8: db | F8: 0 | G8: 0 | H8: =ROUND(F8*D8,0) -> 0 | I8: =ROUND(G8*D8,0) -> 0 | J8: Konszig.jel: AB-06 | M8: 44
A9: 8 | B9: 44-012-1.1.2.6.2-0168164 | C9: 3 rétegű, hőszigetelő üvegezésű (low E+gáz u=1,0 W/m2K), 6-7 kamrás műanyag nyílászáró elhelyezése fehér színben: 105x200 cm ablak, konszignáció szerinti kialakítással | D9: 19 | E9: db | F9: 0 | G9: 0 | H9: =ROUND(F9*D9,0) -> 0 | I9: =ROUND(G9*D9,0) -> 0 | J9: Konszig.jel: AB-02 | M9: 44
A10: 9 | B10: 44-012-1.1.2.6.2-0168166 | C10: 3 rétegű, hőszigetelő üvegezésű (low E+gáz u=1,0 W/m2K), 6-7 kamrás műanyag nyílászáró elhelyezése fehér színben: 165x130 cm ablak, konszignáció szerinti kialakítással | D10: 2 | E10: db | F10: 0 | G10: 0 | H10: =ROUND(F10*D10,0) -> 0 | I10: =ROUND(G10*D10,0) -> 0 | J10: Konszig.jel: AB-04 | M10: 44
A11: 10 | B11: 44-012-1.1.2.6.6-0168162 | C11: 3 rétegű, hőszigetelő üvegezésű (low E+gáz u=1,0 W/m2K), 6-7 kamrás műanyag nyílászáró elhelyezése fehér színben: 165x165 cm ablak, konszignáció szerinti kialakítással | D11: 9 | E11: db | F11: 0 | G11: 0 | H11: =ROUND(F11*D11,0) -> 0 | I11: =ROUND(G11*D11,0) -> 0 | J11: Konszig.jel: AB-05 | M11: 44
A12: 11 | B12: 44-012-1.1.2.6.2-0168170 | C12: 3 rétegű, hőszigetelő üvegezésű (low E+gáz u=1,0 W/m2K), 6-7 kamrás műanyag nyílászáró elhelyezése fehér színben: 250x165 cm ablak, konszignáció szerinti kialakítással | D12: 8 | E12: db | F12: 0 | G12: 0 | H12: =ROUND(F12*D12,0) -> 0 | I12: =ROUND(G12*D12,0) -> 0 | J12: Konszig.jel: AB-01 | M12: 44
A13: 12 | B13: 44-012-1.1.2.6.2-0168164 | C13: 3 rétegű, hőszigetelő üvegezésű (low E+gáz u=1,0 W/m2K), 6-7 kamrás műanyag nyílászáró elhelyezése fehér színben: 95x200 cm ablak, konszignáció szerinti kialakítással | D13: 1 | E13: db | F13: 0 | G13: 0 | H13: =ROUND(F13*D13,0) -> 0 | I13: =ROUND(G13*D13,0) -> 0 | J13: Konszig.jel: AB-03 | M13: 44
A14: 13 | B14: 44-012-1.1.2.6.2-0168164 | C14: 3 rétegű, hőszigetelő üvegezésű (low E+gáz u=1,0 W/m2K), 6-7 kamrás műanyag nyílászáró elhelyezése fehér színben: 50x200 cm ablak, konszignáció szerinti kialakítással | D14: 1 | E14: db | F14: 0 | G14: 0 | H14: =ROUND(F14*D14,0) -> 0 | I14: =ROUND(G14*D14,0) -> 0 | J14: Konszig.jel: AB-07 | M14: 44
A15: 14 | B15: 44-012-1.1.2.6.6-0168164 | C15: 3 rétegű, hőszigetelő üvegezésű (low E+gáz u=1,0 W/m2K), 6-7 kamrás műanyag nyílászáró elhelyezése fehér színben: 260x50 cm ablak, konszignáció szerinti kialakítással | D15: 1 | E15: db | F15: 0 | G15: 0 | H15: =ROUND(F15*D15,0) -> 0 | I15: =ROUND(G15*D15,0) -> 0 | J15: Konszig.jel: AB-08 | M15: 44
C16: Munkanem összesen (HUF) | H16: =ROUND(SUM(H2:H15),0) -> 0 | I16: =ROUND(SUM(I2:I15),0) -> 0

Sheet 1-48
A1: Ssz. | B1: Tételszám | C1: Tétel szövege | D1: Menny. | E1: Egység | F1: Anyag egységár | G1: Díj egységre | H1: Anyag összesen | I1: Díj összesen | J1: Megjegyzés | K1: ÉNGY kód | L1: K. jelző | M1: Munkanem
A2: 0 | B2: 48-002-1.1.1.2.1-0313069 | C2: Talajnedvesség elleni szigetelés; Bitumenes lemez szigetelés aljzatának kellősítése, egy rétegben, függőleges felületen, oldószeres hideg bitumenmázzal (száraz felületen), MAPEI Polyprimer oldószeres bitumenes kellősítő, Csz: 7261220 | D2: 157.26 | E2: m2 | F2: 0 | G2: 0 | H2: =ROUND(F2*D2,0) -> 0 | I2: =ROUND(G2*D2,0) -> 0 | M2: 48
A3: 2 | B3: 48-002-1.4.1.2-0313062 | C3: Talajnedvesség elleni szigetelés; Lábazatszigetelés terepcsatlakozás felett 30 cm magasságig felvezetve, egy rétegben, minimum 3,5 mm vastag elasztomerbitumenes (SBS modifikált) lemezzel, az aljzathoz teljes felületű lángolvasztásos ragasztással, az átlapolásoknál teljes felületű hegesztéssel fektetve (rögzítés külön tételben), MAPEI Antiradice Flex P 4 mm, FLL minősített gyökérálló, poliészterbetétes, SBS modifikált bitumen alapú elasztomer vízszig.lemez, Csz:76302040001 | D3: 157.26 | E3: m2 | F3: 0 | G3: 0 | H3: =ROUND(F3*D3,0) -> 0 | I3: =ROUND(G3*D3,0) -> 0 | M3: 48
A4: 1 | B4: 48-007-51.3.2.1-0094630 | C4: Hőhidak hőszigetelése; hőhídmentes csatlakozások kialakítása homlokzati nyílászáróknál, 50 mm vtg XPS lemezzel | D4: 77.44 | E4: m2 | F4: 0 | G4: 0 | H4: =ROUND(F4*D4,0) -> 0 | I4: =ROUND(G4*D4,0) -> 0 | M4: 48
A5: 2 | B5: 48-007-21.21.1-0113284 | C5: Külső fal; Hőszigetelések épületlábazaton vagy koszorún, ragasztva (rögzítés külön tételben), extrudált polisztirolhab lemezzel, AUSTROTHERM XPS TOP P extrudált polisztirolhab hőszigetelő lemez, 600x1250x120 mm | D5: 71.96 | E5: m2 | F5: 0 | G5: 0 | H5: =ROUND(F5*D5,0) -> 0 | I5: =ROUND(G5*D5,0) -> 0 | J5: pozitív lábazaton | K5: 480072304092 | L5: ÖN | M5: 48
A6: 3 | B6: 48-007-21.21.1-0113286 | C6: Külső fal; Hőszigetelések épületlábazaton vagy koszorún, ragasztva (rögzítés külön tételben), extrudált polisztirolhab lemezzel, AUSTROTHERM XPS TOP P extrudált polisztirolhab hőszigetelő lemez, 600x1250x160 mm | D6: 160.66 | E6: m2 | F6: 0 | G6: 0 | H6: =ROUND(F6*D6,0) -> 0 | I6: =ROUND(G6*D6,0) -> 0 | J6: lábazaton | K6: 480072304114 | L6: ÖN | M6: 48
A7: 4 | B7: 48-007-21.21.1-0113283 | C7: Külső fal; Hőszigetelések épületlábazaton vagy koszorún, ragasztva (rögzítés külön tételben), extrudált polisztirolhab lemezzel, AUSTROTHERM XPS TOP P extrudált polisztirolhab hőszigetelő lemez, 600x1250x100 mm | D7: 16.77 | E7: m2 | F7: 0 | G7: 0 | H7: =ROUND(F7*D7,0) -> 0 | I7: =ROUND(G7*D7,0) -> 0 | K7: 480072304080 | L7: ÖN | M7: 48
A8: 5 | B8: 48-010-1.1.2.1-0113313 | C8: Homlokzati hőszigetelés, üvegszövetháló-erősítéssel,(mechanikai rögzítés, felületi zárás valamint kiegészítő profilok külön tételben szerepelnek), egyenes vagy lépcsős élképzésű, normál homlokzati EPS hőszigetelő lapokkal, ragasztóporból képzett ragasztóba, tagolatlan, sík, függőleges falon, AUSTROTHERM AT H80 homlokzati hőszigetelő lemez,1000x500x160 mm | D8: 490.43 | E8: m2 | F8: 0 | G8: 0 | H8: =ROUND(F8*D8,0) -> 0 | I8: =ROUND(G8*D8,0) -> 0 | K8: 480102309504 | L8: ÖN | M8: 48
A9: 6 | B9: 48-007-41.1.2.1-0092009 | C9: Födém; Padló hő-, hangszigetelő anyag elhelyezése, vízszintes felületen, párnafák vagy álpadló tartószerkezet közé, szálas szigetelő anyaggal (üveggyapot, kőzetgyapot), ROCKWOOL Multirock Super többcélú kőzetgyapot lemez, 1000x610x150 mm | D9: 805.59 | E9: m2 | F9: 0 | G9: 0 | H9: =ROUND(F9*D9,0) -> 0 | I9: =ROUND(G9*D9,0) -> 0 | J9: Zárófödémen | L9: ÖN | M9: 48
A10: 7 | B10: 48-007-41.1.2.1-0092025 | C10: Födém; Padló hő-, hangszigetelő anyag elhelyezése, vízszintes felületen, párnafák vagy álpadló tartószerkezet közé, szálas szigetelő anyaggal (üveggyapot, kőzetgyapot), ROCKWOOL Multirock Super többcélú kőzetgyapot lemez, 1000x610x100 mm | D10: 692.47 | E10: m2 | F10: 0 | G10: 0 | H10: =ROUND(F10*D10,0) -> 0 | I10: =ROUND(G10*D10,0) -> 0 | J10: Zárófödémen | L10: ÖN | M10: 48
A11: 8 | B11: 48-021-1.51.2.2.1-0500125 | C11: Szigetelések rögzítése; Hőszigetelő táblák pontszerű mechanikai rögzítése, homlokzaton, beton aljzatszerkezethez, műanyag vagy fém beütőszeges/csavaros műanyag beütődübelekkel, EJOT H4 eco 215 mm univerzális, acél feszítő-, műanyag beütőelemes dübel optimalizált feszítőzónával, Cikkszám: 8748215460 | D11: 3410 | E11: db | F11: 0 | G11: 0 | H11: =ROUND(F11*D11,0) -> 0 | I11: =ROUND(G11*D11,0) -> 0 | J11: Homlokzaton 2950 db, pince mennyezeten 460 db | K11: 480214810634 | L11: ÖN | M11: 48
A12: 9 | B12: 48-000-2.1 | C12: Teljes felületen hegesztett, olvasztott vagy ragasztott bitumenes lemez szigetelés bontása, kettő vagy több réteg lemez esetén, vízszintes felületről | D12: 161.96 | E12: m2 | F12: 0 | G12: 0 | H12: =ROUND(F12*D12,0) -> 0 | I12: =ROUND(G12*D12,0) -> 0 | K12: 480000514951 | L12: ÖN | M12: 48
A13: 10 | B13: 48-000-26 | C13: Leterheléssel rögzített vagy rögzítés nélküli hőszigetelő lemezek bontása, vízszintes felületről | D13: 161.96 | E13: m2 | F13: 0 | G13: 0 | H13: =ROUND(F13*D13,0) -> 0 | I13: =ROUND(G13*D13,0) -> 0 | K13: 480000515275 | L13: ÖN | M13: 48
A14: 11 | B14: 48-007-11.12.7-0113782 | C14: Lapostető hő- és hangszigetelése; Egyenes rétegrendű lapostetők lejtésképzése (rögzítés külön tételben), expandált polisztirol keményhab lejtésképző elemmel, AUSTROTHERM Lejtésképzés AT-N150 LK | D14: 8.1 | E14: m3 | F14: 0 | G14: 0 | H14: =ROUND(F14*D14,0) -> 0 | I14: =ROUND(G14*D14,0) -> 0 | K14: 480074408973 | L14: ÖN | M14: 48
A15: 12 | B15: 48-007-11.1.1.1-0113070 | C15: Lapostető hő- és hangszigetelése; Egyenes rétegrendű nem járható lapostetőn vagy extenzív zöldtetőn, vízszintes és függőleges felületen (rögzítés külön tételben), egy rétegben, expandált polisztirolhab hőszigetelő lemezzel, AUSTROTHERM AT-N150 expandált polisztirolhab hőszigetelő lemez, 1000x500x100 mm | D15: 161.96 | E15: m2 | F15: 0 | G15: 0 | H15: =ROUND(F15*D15,0) -> 0 | I15: =ROUND(G15*D15,0) -> 0 | K15: 480074304881 | L15: ÖN | M15: 48
A16: 13 | B16: 48-007-11.1.1.1-0113076 | C16: Lapostető hő- és hangszigetelése; Egyenes rétegrendű nem járható lapostetőn vagy extenzív zöldtetőn, vízszintes és függőleges felületen(rögzítés külön tételben), egy rétegben, expandált polisztirolhab hőszigetelő lemezzel, AUSTROTHERM AT-N150 expandált polisztirolhab hőszigetelő lemez, 1000x500x150 mm | D16: 161.96 | E16: m2 | F16: 0 | G16: 0 | H16: =ROUND(F16*D16,0) -> 0 | I16: =ROUND(G16*D16,0) -> 0 | K16: 480074304881 | L16: ÖN | M16: 48
A17: 14 | B17: 48-005-1.41.1.1-0095798 | C17: Csapadékvíz elleni szigetelés; Alátét, elválasztó, tűzvédelmi és sérülésellenőrző rétegek lefektetése, védőlemez-, műanyagfátyol-, fólia vagy műanyagfilc egy rétegben, átlapolással, rögzítés nélkül, vízszintes felületen, BAUDERGREEN PE 02 elválasztó PE fólia, bitumen és polisztirolálló, regranulált PE, 0,2 mm vtg., felülettömeg 190 g/m2, Cikksz.: 7444 0000 | D17: 161.96 | E17: m2 | F17: 0 | G17: 0 | H17: =ROUND(F17*D17,0) -> 0 | I17: =ROUND(G17*D17,0) -> 0 | K17: 480054578691 | L17: ÖN | M17: 48
A18: 15 | B18: 48-005-1.41.1.1-0095785 | C18: Csapadékvíz elleni szigetelés; Alátét, elválasztó, tűzvédelmi és sérülésellenőrző rétegek lefektetése, védőlemez-, műanyagfátyol-, fólia vagy műanyagfilc egy rétegben, átlapolással, rögzítés nélkül, vízszintes felületen, BAUDER WB 300 fúrható poliészterfátyol elválasztó- és védőréteg, 2 mm, 300 g/m2, 120 N/50 mm, nyúlás 30 %, kalanderezett, fehér, E osztály, Csz.: 6900 1310 | D18: 161.96 | E18: m2 | F18: 0 | G18: 0 | H18: =ROUND(F18*D18,0) -> 0 | I18: =ROUND(G18*D18,0) -> 0 | K18: 480054082934 | L18: ÖN | M18: 48
A19: 16 | B19: 48-005-1.41.1.2-0095785 | C19: Csapadékvíz elleni szigetelés; Alátét, elválasztó, tűzvédelmi és sérülésellenőrző rétegek lefektetése, védőlemez-, műanyagfátyol-, fólia vagy műanyagfilc egy rétegben, átlapolással, rögzítés nélkül, függőleges felületen, BAUDER WB 300 fúrható poliészterfátyol elválasztó- és védőréteg, 2 mm, 300 g/m2, 120 N/50 mm, nyúlás 30 %, kalanderezett, fehér, E osztály, Csz.: 6900 1310 | D19: 8.67 | E19: m2 | F19: 0 | G19: 0 | H19: =ROUND(F19*D19,0) -> 0 | I19: =ROUND(G19*D19,0) -> 0 | K19: 480054082946 | L19: ÖN | M19: 48
A20: 17 | B20: 48-005-1.3.2.1.1-0095872 | C20: Csapadékvíz elleni szigetelés; Egyenes rétegrendű csapadékvíz elleni szigetelés páratechnikai rétegei, párafékező réteg, vízszintes felületen, egy rétegben, minimum 0,15 mm vastag polietilén (PE) fóliával, két oldalon öntapadó ragasztószalaggal felületfolytonosítva és az aljzatra ragasztás nélkül fektetve, FATRAPAR 0,2 mm vastag polietilén párazáró fólia | D20: 161.96 | E20: m2 | F20: 0 | G20: 0 | H20: =ROUND(F20*D20,0) -> 0 | I20: =ROUND(G20*D20,0) -> 0 | K20: 480052295761 | L20: ÖN | M20: 48
A21: 18 | B21: 48-005-1.4.1.1-0095811 | C21: Csapadékvíz elleni szigetelés (a tétel tartalmazza a rögzítést is); Vízszintes felületen (lapostetőn), egy rétegben, minimum 1,0 mm vastag, lágy PVC vagy PIB lemezzel, átlapolások forrólevegős hegesztésével, FATRAFOL 810/V 1,5 mm vtg, szöveterősítéses lágy PVC-P vízszigetelő lemez, RAL 7035 világos szürke színben, 1,5/1,6/2,05 m tsz. | D21: 161.96 | E21: m² | F21: 0 | G21: 0 | H21: =ROUND(F21*D21,0) -> 0 | I21: =ROUND(G21*D21,0) -> 0 | K21: 480052295870 | L21: ÖN | M21: 48
A22: 19 | B22: 48-005-1.5.1.1-0095811 | C22: Csapadékvíz elleni szigetelés; Függőleges felületen (épületlábazaton vagy attikafalon), egy rétegben, minimum 1,0 mm vastag, lágy PVC lemezzel, átlapolások forrólevegős hegesztésével, FATRAFOL 810/V 1,5 mm vtg, szöveterősítéses lágy PVC-P vízszigetelő lemez, RAL 7035 világos szürke színben, 1,5/1,6/2,05 m tsz. | D22: 8.67 | E22: m² | F22: 0 | G22: 0 | H22: =ROUND(F22*D22,0) -> 0 | I22: =ROUND(G22*D22,0) -> 0 | K22: 480052296061 | L22: ÖN | M22: 48
A23: 20 | B23: 48-005-1.23.1-0426219-K | C23: Csapadékvíz elleni szigetelés; Ablakszigetelés készítése EPDM lemezzel | D23: 428.18 | E23: fm | F23: 0 | G23: 0 | H23: =ROUND(F23*D23,0) -> 0 | I23: =ROUND(G23*D23,0) -> 0 | M23: 48
A24: 21 | B24: 48-031-1.6.2 | C24: Utólagos talajnedvesség elleni vízszintes falszigetelés készítése, tégla vagy kő-tégla falszerkezetben, furatinjektálásos módszerrel, kétsorú injektálási furatsor elkészítése, tisztítása sűrített levegő befúvásával, injektáló pakkerek elhelyezésével | D24: 70.54 | E24: kerm.m² | F24: 0 | G24: 0 | H24: =ROUND(F24*D24,0) -> 0 | I24: =ROUND(G24*D24,0) -> 0 | K24: 480310588984 | L24: ÖN | M24: 48
A25: 22 | B25: 48-031-1.6.6.2-0313050 | C25: Utólagos talajnedvesség elleni vízszintes falszigetelés készítése, tégla vagy kő-tégla falszerkezetben, furatinjektálásos módszerrel, alacsony- vagy közepes nyomású injektálás, egy- vagy kétsorú furatkiosztás esetén szilikon emulzióval, MAPEI Mapestop szilikon mikro-emulzióból álló injektálószer, Csz: 7340010 | D25: 70.54 | E25: kerm.m² | F25: 0 | G25: 0 | H25: =ROUND(F25*D25,0) -> 0 | I25: =ROUND(G25*D25,0) -> 0 | K25: 480312824616 | L25: ÖN | M25: 48
A26: 23 | B26: 48-007-1.1.2-0154407 | C26: Magastető hő- és hangszigetelése; Szarufák közötti szigetelés fa vagy fém fedélszék esetén, kőzetgyapot hőszigetelő lemezzel, KNAUF INSULATION MPN általános kőzetgyapot szigetelőlap, 1000x600x100 mm, a tétel tartalmazza a rögzítést is | D26: 17 | E26: m² | F26: 0 | G26: 0 | H26: =ROUND(F26*D26,0) -> 0 | I26: =ROUND(G26*D26,0) -> 0 | J26: Kazánház tetőszerkezetében | K26: 480070542425 | L26: ÖN | M26: 48
A27: 24 | B27: 48-010-1.6.2.1-0425212 | C27: Homlokzati hőszigetelés tűzvédelmi sávként homlokzaton, üvegszövetháló-erősítéssel,(mechanikai rögzítés, felületi zárás valamint kiegészítő profilok külön tételben szerepelnek), normál homlokzati kőzetgyapot hőszigetelő lapokkal, ragasztóporból képzett ragasztóba, Knauf FKD S Thermal kőzetgyapot hőszigetelő lemez, 1000x600x100 mm, λ↓D = 0,035 W/mK + hőszigetelő rendszer ragasztó | D27: 13.65 | E27: m² | F27: 0 | G27: 0 | H27: =ROUND(F27*D27,0) -> 0 | I27: =ROUND(G27*D27,0) -> 0 | M27: 48
A28: 25 | B28: 48-007-1.1.2-0154412 | C28: Magastető hő- és hangszigetelése; Szarufák közötti szigetelés fa vagy fém fedélszék esetén, kőzetgyapot hőszigetelő lemezzel, KNAUF INSULATION MPN általános kőzetgyapot szigetelőlap, 1000x600x150 mm, a tétel tartalmazza a rögzítést is | D28: 17 | E28: m² | F28: 0 | G28: 0 | H28: =ROUND(F28*D28,0) -> 0 | I28: =ROUND(G28*D28,0) -> 0 | J28: Kazánház tetőszerkezetében | K28: 480070542454 | L28: ÖN | M28: 48
A29: 26 | B29: 48-007-41.3.1.1-0427208 | C29: Födém; Mennyezet alulról hűlő födém hőszigetelése, utólag elhelyezve, vízszintes felületen (rögzítés külön tételben), szálas szigetelő anyaggal (üveggyapot, kőzetgyapot), FibranGeo BP 50-L 2000x1200x120 táblás kőzetgyapot hőszigetelő anyag, lépcsős élképzéssel, 50 kPa nyomószilárdsággal, λ↓D=0,037 (W/mK) | D29: 75.57 | E29: m² | F29: 0 | G29: 0 | H29: =ROUND(F29*D29,0) -> 0 | I29: =ROUND(G29*D29,0) -> 0 | K29: 480074752715 | L29: ÖN | M29: 48
C30: Munkanem összesen (HUF) | H30: =ROUND(SUM(H2:H29),0) -> 0 | I30: =ROUND(SUM(I2:I29),0) -> 0

Sheet 2-15
A1: Ssz. | B1: Tételszám | C1: Tétel szövege | D1: Menny. | E1: Egység | F1: Anyag egységár | G1: Díj egységre | H1: Anyag összesen | I1: Díj összesen | J1: Megjegyzés | K1: ÉNGY kód | L1: K. jelző | M1: Munkanem
A2: 1 | B2: 15-012-37 | C2: Kéményfalazó állvány készítése ferde tetőn, pallóterítéssel, korláttal, lábdeszkával, 5 m²/db munkaszint felületig | D2: 6 | E2: db | F2: 0 | G2: 0 | H2: =ROUND(F2*D2,0) -> 0 | I2: =ROUND(G2*D2,0) -> 0 | J2: Kémények visszabontásához | K2: 150120012602 | L2: ÖN | M2: 15
C3: Munkanem összesen (HUF) | H3: =ROUND(SUM(H2:H2),0) -> 0 | I3: =ROUND(SUM(I2:I2),0) -> 0

Sheet 2-21
A1: Ssz. | B1: Tételszám | C1: Tétel szövege | D1: Menny. | E1: Egység | F1: Anyag egységár | G1: Díj egységre | H1: Anyag összesen | I1: Díj összesen | J1: Megjegyzés | K1: ÉNGY kód | L1: K. jelző | M1: Munkanem
A2: 1 | B2: 21-003-5.1.1.1 | C2: Munkaárok földkiemelése közművesített területen, kézi erővel, bármely konzisztenciájú talajban, dúcolás nélkül, 2,0 m² szelvényig, I-II. talajosztály | D2: 39.6 | E2: m3 | F2: 0 | G2: 0 | H2: =ROUND(F2*D2,0) -> 0 | I2: =ROUND(G2*D2,0) -> 0 | J2: Kulékavics tiszt.sáv és szegélykő alap részére | K2: 210030014705
C3: Munkanem összesen (HUF) | H3: =ROUND(SUM(H2:H2),0) -> 0 | I3: =ROUND(SUM(I2:I2),0) -> 0

Sheet 2-22
A1: Ssz. | B1: Tételszám | C1: Tétel szövege | D1: Menny. | E1: Egység | F1: Anyag egységár | G1: Díj egységre | H1: Anyag összesen | I1: Díj összesen | J1: Megjegyzés | K1: ÉNGY kód | L1: K. jelző | M1: Munkanem
A2: 1 | B2: 22-003-6.1-0120002 | C2: Épület körüli tisztasági sáv készítése d=16-32 mm átmérőjű osztályozott kavicsból | D2: 10.36 | E2: m3 | F2: 0 | G2: 0 | H2: =ROUND(F2*D2,0) -> 0 | I2: =ROUND(G2*D2,0) -> 0 | M2: 22
C3: Munkanem összesen (HUF) | H3: =ROUND(SUM(H2:H2),0) -> 0 | I3: =ROUND(SUM(I2:I2),0) -> 0

Sheet 2-37
A1: Ssz. | B1: Tételszám | C1: Tétel szövege | D1: Menny. | E1: Egység | F1: Anyag egységár | G1: Díj egységre | H1: Anyag összesen | I1: Díj összesen | J1: Megjegyzés | K1: ÉNGY kód | L1: K. jelző | M1: Munkanem
A2: 1 | B2: 37-000-1.1 | C2: Kémények bontása födémig | D2: 15.14 | E2: m³ | F2: 0 | G2: 0 | H2: =ROUND(F2*D2,0) -> 0 | I2: =ROUND(G2*D2,0) -> 0 | M2: 37
C3: Munkanem összesen (HUF) | H3: =ROUND(SUM(H2:H2),0) -> 0 | I3: =ROUND(SUM(I2:I2),0) -> 0

Sheet 2-39
A1: Ssz. | B1: Tételszám | C1: Tétel szövege | D1: Menny. | E1: Egység | F1: Anyag egységár | G1: Díj egységre | H1: Anyag összesen | I1: Díj összesen | J1: Megjegyzés | K1: ÉNGY kód | L1: K. jelző | M1: Munkanem
A2: 1 | B2: M-39-002-1.1.1.1-0120065 | C2: Homlokzati nyílászárók felső toktoldójának eltakarása CW profilvázra szerelt 15 mm vastag gipszkarton lemezzel, alumínium élvédővel, 50 mm vastag kőzetgyapot kitöltéssel, csavarfejek és illesztések glettelve (Q2) | D2: 55.79 | E2: m2 | F2: 0 | G2: 0 | H2: =ROUND(D2*F2,0) -> 0 | I2: =ROUND(D2*G2,0) -> 0
H3: =SUM(H2) -> 0 | I3: =SUM(I2) -> 0

Sheet 2-45
A1: Ssz. | B1: Tételszám | C1: Tétel szövege | D1: Menny. | E1: Egység | F1: Anyag egységár | G1: Díj egységre | H1: Anyag összesen | I1: Díj összesen | J1: Megjegyzés | K1: ÉNGY kód | L1: K. jelző | M1: Munkanem
A2: 1 | B2: 45-005-2.2-0180361 | C2: Egyéb épületlakatos szerkezetek elhelyezése, acél létra, Acél létra, hátvédő korláttal, 400 mm-széles, szögacél oldallal, 18 mm átmérőjű gömbvas fokokkal, konszignáció szerint, zárható kivitelben | D2: 6 | E2: m | F2: 0 | G2: 0 | H2: =ROUND(F2*D2,0) -> 0 | I2: =ROUND(G2*D2,0) -> 0 | J2: LK-03 konszignáció szerint | K2: 450050403000 | L2: ÖN | M2: 45
C3: Munkanem összesen (HUF) | H3: =ROUND(SUM(H2:H2),0) -> 0 | I3: =ROUND(SUM(I2:I2),0) -> 0

Sheet 2-47
A1: Ssz. | B1: Tételszám | C1: Tétel szövege | D1: Menny. | E1: Egység | F1: Anyag egységár | G1: Díj egységre | H1: Anyag összesen | I1: Díj összesen | J1: Megjegyzés | K1: ÉNGY kód | L1: K. jelző | M1: Munkanem
A2: 1 | B2: 47-011-3.1.1.1.2-0148280 | C2: Szilikátfestések, kálivízüveg kötőanyagú, nagy vízgőzáteresztő képességű, fehér vagy színes szilikát falfestés, új vagy régi lekapart ásványi előkészített alapfelületen, vakolaton, két rétegben, tagolt sima felületen, Baumit KlimaColor - páraáteresztő beltéri szilikátfesték, fehér, Cikkszám: 9251450L | D2: 47.35 | E2: m² | F2: 0 | G2: 0 | H2: =ROUND(F2*D2,0) -> 0 | I2: =ROUND(G2*D2,0) -> 0 | K2: 470111251296 | L2: ÖN | M2: 47
A3: 2 | B3: 47-011-15.1.1.1-0148287 | C3: Diszperziós festés (két rétegben) műanyag bázisú vizes-diszperziós fehér vagy gyárilag színezett festékkel, új vagy régi lekapart, előkészített alapfelületen, vakolaton, két rétegben, tagolatlan sima felületen, Baumit Divina Classic - fehér színű diszperziós beltéri falfesték, Cikkszám: 956130 | D3: 89.36 | E3: m2 | F3: 0 | G3: 0 | H3: =ROUND(F3*D3,0) -> 0 | I3: =ROUND(G3*D3,0) -> 0 | J3: Nyílászáró cserék után javított felületeken
A4: 3 | B4: 47-000-1.99.1.2.1.2-0415924 | C4: Belső festéseknél felület előkészítése, részmunkák; felület glettelése zsákos kiszerelésű anyagból (alapozóval, sarokvédelemmel), bármilyen padozatú helyiségben, vakolt felületen, 1,5 mm vastagságban tagolt felületen, Baumit KlímaGlatte Klíma glett, Cikkszám: 951708 | D4: 47.35 | E4: m² | F4: 0 | G4: 0 | H4: =ROUND(F4*D4,0) -> 0 | I4: =ROUND(G4*D4,0) -> 0 | K4: 470003626466 | L4: ÖN | M4: 47
A5: 4 | B5: 47-000-1.21.2.1.1.1-0320611 | C5: Belső festéseknél felület előkészítése, részmunkák; glettelés műanyag kötőanyagú glettel (simítótapasszal), vakolt felületen, bármilyen padozatú helyiségben, tagolatlan felületen, JUBOLIN Classic felhasználásra kész, beltéri diszperziós glett (0-3 mm), fehér, Cikkszám: JKT25 | D5: 89.36 | E5: m2 | F5: 0 | G5: 0 | H5: =ROUND(F5*D5,0) -> 0 | I5: =ROUND(G5*D5,0) -> 0 | J5: Nyílászáró cserék után javított felületeken
A6: 5 | B6: 47-000-1.21.7.3.1-0218154 | C6: Belső festéseknél felület előkészítése, részmunkák; glettelés gipszes glettel, gipszkarton felületen, tagolatlan felületen, Rigips ProMix Finish készre kevert kézi/gépi simító glett | D6: 55.79 | E6: m2 | F6: 0 | G6: 0 | H6: =ROUND(F6*D6,0) -> 0 | I6: =ROUND(G6*D6,0) -> 0 | J6: Homlokzati nyílászárók felső dobozolásán
A7: 6 | B7: 47-011-15.1.1.1-0148287 | C7: Diszperziós festés (két rétegben) műanyag bázisú vizes-diszperziós fehér vagy gyárilag színezett festékkel, új vagy régi lekapart, előkészített alapfelületen, vakolaton, két rétegben, tagolatlan sima felületen, Baumit Divina Classic - fehér színű diszperziós beltéri falfesték, Cikkszám: 956130 | D7: 55.79 | E7: m2 | F7: 0 | G7: 0 | H7: =ROUND(F7*D7,0) -> 0 | I7: =ROUND(G7*D7,0) -> 0 | J7: Homlokzati nyílászárók felső dobozolásán
A8: 7 | B8: 47-011-15.1.1.1-0160011 | C8: Diszperziós festés (két rétegben) műanyag bázisú vizes-diszperziós fehér vagy gyárilag színezett festékkel, új vagy régi lekapart, előkészített alapfelületen, vakolaton, két rétegben, tagolatlan sima felületen, POLI-FARBE Inntaler diszperziós beltéri, fehér falfesték | D8: 75.57 | E8: m² | F8: 0 | G8: 0 | H8: =ROUND(F8*D8,0) -> 0 | I8: =ROUND(G8*D8,0) -> 0 | J8: Pince mennyezeten | K8: 470113626744 | L8: ÖN | M8: 47
A9: 8 | B9: 47-031-3.12.2.1-0418751 | C9: Külső fafelületek lazúrozása, gyalult felületen, oldószeres lazúrral,két rétegben, tagolatlan felületen, REVCO Wood-Line falazúr, natúr | D9: 16.96 | E9: m2 | F9: 0 | G9: 0 | H9: =ROUND(F9*D9,0) -> 0 | I9: =ROUND(G9*D9,0) -> 0 | J9: oromdeszkázat | K9: 470310505722 | L9: ÖN | M9: 47
C10: Munkanem összesen (HUF) | H10: =ROUND(SUM(H2:H9),0) -> 0 | I10: =ROUND(SUM(I2:I9),0) -> 0

Sheet 2-61
A1: Ssz. | B1: Tételszám | C1: Tétel szövege | D1: Menny. | E1: Egység | F1: Anyag egységár | G1: Díj egységre | H1: Anyag összesen | I1: Díj összesen | J1: Megjegyzés | K1: ÉNGY kód | L1: K. jelző | M1: Munkanem
A2: 1 | B2: 61-011-3-0235360 | C2: Védő és elválasztó réteg készítése, VIACON WG35 erősítő szőtt geotextília, PP-ből, 160 g/m² szakító szilárdság: 35/35 kN/m, tekercsméret: 5,3 x 100 m | D2: 120.84 | E2: m² | F2: 0 | G2: 0 | H2: =ROUND(F2*D2,0) -> 0 | I2: =ROUND(G2*D2,0) -> 0 | J2: Kulékavics tisztasági sáv alatt | K2: 610114616890 | L2: ÖN | M2: 61
C3: Munkanem összesen (HUF) | H3: =ROUND(SUM(H2:H2),0) -> 0 | I3: =ROUND(SUM(I2:I2),0) -> 0

Sheet 2-62
A1: Ssz. | B1: Tételszám | C1: Tétel szövege | D1: Menny. | E1: Egység | F1: Anyag egységár | G1: Díj egységre | H1: Anyag összesen | I1: Díj összesen | J1: Megjegyzés | K1: ÉNGY kód | L1: K. jelző | M1: Munkanem
A2: 1 | B2: 62-002-21.3-0613950 | C2: Egyéb használatos szegélykövek, út és körforgalom szegélyek készítése, alapárok kiemelése nélkül, betonhézagolással, 100 cm hosszú elemekből, LEIER Quartz kerti szegélykő, szürke, 100x5x20 cm , Cikkszám: HUTJS2765 | D2: 176 | E2: m | F2: 0 | G2: 0 | H2: =ROUND(F2*D2,0) -> 0 | I2: =ROUND(G2*D2,0) -> 0 | J2: Kulékavics tisztasági sáv szegélye | K2: 620020678023 | L2: ÖN | M2: 62
A3: 2 | B3: 62-003-6-0110765 | C3: Térburkolathoz fagyálló, teherhordó alap készítése, 20 cm vastagságban, Zúzottkő, Z 35/55 Mészkő és Dolomit, Polgárdi | D3: 0.5 | E3: m3 | F3: 0 | G3: 0 | H3: =ROUND(F3*D3,0) -> 0 | I3: =ROUND(G3*D3,0) -> 0 | K3: 620034111700 | L3: ÖN | M3: 62
A4: 3 | B4: 62-003-6-0120123 | C4: Térburkolathoz fagyálló, teherhordó alap készítése, 4 cm vastagságban, Nemes zúzottkő, NZ 0/4 Colas-Északkő, Szob | D4: 0.1 | E4: m3 | F4: 0 | G4: 0 | H4: =ROUND(F4*D4,0) -> 0 | I4: =ROUND(G4*D4,0) -> 0 | M4: 62
A5: 4 | B5: 62-003-8.1-0613900 | C5: Tér- vagy járdaburkolat készítése, beton burkolókőből hálós, soros, halszálka, parketta vagy kazettás kötésben, zúzalékágyazatra fektetve, 10x20x4, 10x20x5, 10x20x6, 10x20x8 cm-es méretű idomkővel, LEIER Piazza 10x20x6 cm, szürke, N+F , Cikkszám: HUTJH4362 | D5: 2.5 | E5: m2 | F5: 0 | G5: 0 | H5: =ROUND(F5*D5,0) -> 0 | I5: =ROUND(G5*D5,0) -> 0 | K5: 620030678986 | L5: ÖN | M5: 62
C6: Munkanem összesen (HUF) | H6: =ROUND(SUM(H2:H5),0) -> 0 | I6: =ROUND(SUM(I2:I5),0) -> 0

Sheet Gépész munkanem összesítő
A1: Magyaralmás Iskola
A2: Gépészeti munkanem összesítő
A3: Ssz. | B3: Megnevezés | C3: Anyagköltség | D3: Díjköltség | E3: Összesen
B4: Gépészet
A5: 01 | B5: EGYÉB ÉPÜLETGÉPÉSZET | C5: =+'01 EGYÉB ÉPÜLETGÉPÉSZET'!H127 -> 0 | D5: =+'01 EGYÉB ÉPÜLETGÉPÉSZET'!I127 -> 0 | E5: =+C5+D5 -> 0
A6: 02 | B6: HŐSZIVATTYÚ | C6: =+'02 HŐSZIVATTYÚ'!H13 -> 0 | D6: =+'02 HŐSZIVATTYÚ'!I13 -> 0 | E6: =+C6+D6 -> 0
A7: 03 | B7: GÁZELLÁTÁS | C7: =+'03 GÁZELLÁTÁS'!H33 -> 0 | D7: =+'03 GÁZELLÁTÁS'!I33 -> 0 | E7: =+C7+D7 -> 0
B8: Összesen (HUF) | C8: =ROUND(SUM(C4:C7),0) -> 0 | D8: =ROUND(SUM(D4:D7),0) -> 0 | E8: =ROUND(SUM(E4:E7),0) -> 0

Sheet 01 EGYÉB ÉPÜLETGÉPÉSZET
A1: Ssz. | B1: Tételszám | C1: Tétel szövege | D1: Menny. | E1: Egység | F1: Anyag egységár | G1: Díj egységre | H1: Anyag összesen | I1: Díj összesen
A2: 15 Zsaluzás és állványozás
A3: 1 | B3: 15-001-1 | C3: Sávalap egyoldalas zsaluzása fa zsaluzattal, max. 0,8 m magasságig | D3: 3.28 | E3: m2 | F3: 0 | G3: 0 | H3: =ROUND(D3*F3, 0) -> 0 | I3: =ROUND(D3*G3, 0) -> 0
A4: 21 Irtás, föld- és sziklamunka
A5: 2 | B5: 21-003-6.1.1 | C5: Munkaárok földkiemelése közmű nélküli területen, gépi erővel, kiegészítő kézi munkával, bármely konzisztenciájú, I-IV. oszt. talajban, dúcolás nélkül, 3,0 m² szelvényig | D5: 18.4 | E5: m3 | F5: 0 | G5: 0 | H5: =ROUND(D5*F5, 0) -> 0 | I5: =ROUND(D5*G5, 0) -> 0
A6: 3 | B6: 21-003-11.1.1 | C6: Földvisszatöltés munkagödörbe vagy munkaárokba, tömörítés nélkül, réteges elterítéssel, I-IV. osztályú talajban, kézi erővel, az anyag súlypontja karoláson belül, a vezeték (műtárgy) felett és mellett 50 cm vastagságig | D6: 8.4 | E6: m3 | F6: 0 | G6: 0 | H6: =ROUND(D6*F6, 0) -> 0 | I6: =ROUND(D6*G6, 0) -> 0
A7: 4 | B7: 21-004-4.1.4-0110765 | C7: Talajjavító réteg készítése vonalas létesítményeknél, 3,00 m szélességig vagy építményen belül, zúzottkőből Zúzottkő, FZKA 0/56 | D7: 3.96 | E7: m3 | F7: 0 | G7: 0 | H7: =ROUND(D7*F7, 0) -> 0 | I7: =ROUND(D7*G7, 0) -> 0
A8: 5 | B8: 21-004-5.1.1.1 | C8: Tükörkészítés tömörítés nélkül, sík felületen gépi erővel, kiegészítő kézi munkával talajosztály: I-IV. | D8: 13.2 | E8: m2 | F8: 0 | G8: 0 | H8: =ROUND(D8*F8, 0) -> 0 | I8: =ROUND(D8*G8, 0) -> 0
A9: 6 | B9: 21-008-2.1.3 | C9: Tömörítés bármely tömörítési osztályban gépi erővel, nagy felületen, tömörségi fok: 95% zúzottkő ágyazat felső síkján E2min=50MN/m2. | D9: 3.96 | E9: m3 | F9: 0 | G9: 0 | H9: =ROUND(D9*F9, 0) -> 0 | I9: =ROUND(D9*G9, 0) -> 0
A10: 7 | B10: 21-008-2.2.3 | C10: Tömörítés bármely tömörítési osztályban gépi erővel, kis felületen, tömörségi fok: 95%, tükör felső síkján E2min=50MN/m2 | D10: 13.2 | E10: m3 | F10: 0 | G10: 0 | H10: =ROUND(D10*F10, 0) -> 0 | I10: =ROUND(D10*G10, 0) -> 0
A11: 8 | B11: 21-011-1.2.1 | C11: Fejtett föld felrakása szállítóeszközre, géppel, talajosztály I-IV. | D11: 10 | E11: m3 | F11: 0 | G11: 0 | H11: =ROUND(D11*F11, 0) -> 0 | I11: =ROUND(D11*G11, 0) -> 0
A12: 22 Szivárgóépítés, alagcsövezés
A13: 9 | B13: 22-005-11.1-0119014 | C13: Szikkasztó rendszer építése előregyártott prolipropilen műanyag szikkasztó dobozokból, csőidomok nélkül, földmunka, geotextilia terítés és földvisszatöltés nélkül, szikkasztó doboz elhelyezése WAVIN NG AquaCell szikkasztó elem, 1200x600x400, NGACQ010PL | D13: 2 | E13: db | F13: 0 | G13: 0 | H13: =ROUND(D13*F13, 0) -> 0 | I13: =ROUND(D13*G13, 0) -> 0
A14: 10 | B14: 22-005-11.2-0119015 | C14: Szikkasztó rendszer építése előregyártott prolipropilen műanyag szikkasztó dobozokból, csőidomok nélkül, földmunka, geotextilia terítés és földvisszatöltés nélkül, szikkasztó doboz kiegészítőinek elhelyezése WAVIN NG AquaCell alsó szikkasztó elem, NGAC011N | D14: 2 | E14: db | F14: 0 | G14: 0 | H14: =ROUND(D14*F14, 0) -> 0 | I14: =ROUND(D14*G14, 0) -> 0
A15: 11 | B15: 22-005-11.2-0119016 | C15: Szikkasztó rendszer építése előregyártott prolipropilen műanyag szikkasztó dobozokból, csőidomok nélkül, földmunka, geotextilia terítés és földvisszatöltés nélkül, szikkasztó doboz kiegészítőinek elhelyezése WAVIN NG AquaCell oldal elem, 1200x400, NGAC013 | D15: 4 | E15: db | F15: 0 | G15: 0 | H15: =ROUND(D15*F15, 0) -> 0 | I15: =ROUND(D15*G15, 0) -> 0
A16: 12 | B16: 22-005-11.2-0119017 | C16: Szikkasztó rendszer építése előregyártott prolipropilen műanyag szikkasztó dobozokból, csőidomok nélkül, földmunka, geotextilia terítés és földvisszatöltés nélkül, szikkasztó doboz kiegészítőinek elhelyezése WAVIN NG AquaCell csatlakozó elem, DN200/315, NGAC015 | D16: 1 | E16: db | F16: 0 | G16: 0 | H16: =ROUND(D16*F16, 0) -> 0 | I16: =ROUND(D16*G16, 0) -> 0
A17: 23 Síkalapozás
A18: 13 | B18: 23-003-2-0410210 | C18: Vasbeton sáv-, talp- lemezalap készítése szivattyús technológiával, .....minőségű betonból C30/37-XC4-24-F3 | D18: 2.64 | E18: m3 | F18: 0 | G18: 0 | H18: =ROUND(D18*F18, 0) -> 0 | I18: =ROUND(D18*G18, 0) -> 0
A19: 31 Helyszíni beton és vasbeton munka
A20: 14 | B20: 31-001-1.2.2-0221004 | C20: Betonacél helyszíni szerelése függőleges vagy vízszintes tartószerkezetbe, bordás betonacélból, 12-20 mm átmérő között FERALPI bordás betonacél, 6 m-es szálban, B500B 16 mm | D20: 0.188 | E20: t | F20: 0 | G20: 0 | H20: =ROUND(D20*F20, 0) -> 0 | I20: =ROUND(D20*G20, 0) -> 0
A21: 33 Falazás és egyéb kőművesmunka
A22: 15 | B22: 33-062-1.1-1110002 | C22: Áttörés vezetékek részére, helyreállítással, 0,1 m²/db méretig, tégla válaszfalban | D22: 33 | E22: db | F22: 0 | G22: 0 | H22: =ROUND(D22*F22, 0) -> 0 | I22: =ROUND(D22*G22, 0) -> 0
A23: 48 Szigetelés
A24: 16 | B24: 48-005-1.41.1.1-0095883 | C24: Csapadékvíz szikkasztó szigetelés; Alátét, elválasztó, tűzvédelmi és sérülésellenőrző rétegek lefektetése, védőlemez-, műanyagfátyol-, fólia vagy műanyagfilc több rétegben, átlapolással, rögzítés nélkül, Szikkasztó blokk felületen Geotextilia 100 gr/m2 BS8 5x5m fekete, Cikkszám: s6931 | D24: 25 | E24: m2 | F24: 0 | G24: 0 | H24: =ROUND(D24*F24, 0) -> 0 | I24: =ROUND(D24*G24, 0) -> 0
A25: 17 | B25: 48-005-1.73.2-0143193 | C25: Csapadékvíz elleni szigetelés; szorítóperemes vagy szigetelés anyagával összeépíthető szigetelőgalléros tetőösszefolyó, csapadékvíz elleni szigeteléshez vízhatlanul csatlakoztatva, lapostető lefolyó hőszigeteléssel, lombfogó kosárral, DN110 vízszintes csatlakozással, a PVC alapú szigetelőfóliák fogadására alkalmas PVC szigetelő tárcsával. HL64P/1 | D25: 4 | E25: db | F25: 0 | G25: 0 | H25: =ROUND(D25*F25, 0) -> 0 | I25: =ROUND(D25*G25, 0) -> 0
A26: 54 Közműcsővezetékek és -szerelvények szerelése
A27: 18 | B27: 53-001-31.1.1-0133001 | C27: Egyoldalon tokos műanyag csatornacső beépítése földárokba, gumigyűrűs kötéssel, csőidomok nélkül, 1,00 m hosszú csövekből, külső csőátmérő: 110 mm M-WAVIN KG 110 PVC csatornacső, D = 110 mm, DN 110/1 m, CCCM111 | D27: 8 | E27: m | F27: 0 | G27: 0 | H27: =ROUND(D27*F27, 0) -> 0 | I27: =ROUND(D27*G27, 0) -> 0
A28: 19 | B28: 53-001-32.1.1-0236021 | C28: Műanyag, tokos csatornacső idom beépítése földárokba, gumigyűrűs kötéssel, külső csőátmérő: 250 mm-ig, külső csőátmérő: 110 mm WAVIN csatorna ív idom 45°, KGB 110x45°, CCI411 | D28: 3 | E28: db | F28: 0 | G28: 0 | H28: =ROUND(D28*F28, 0) -> 0 | I28: =ROUND(D28*G28, 0) -> 0
A29: 20 | B29: 53-001-32.1.1-0236041 | C29: Műanyag, tokos csatornacső idom beépítése földárokba, gumigyűrűs kötéssel, külső csőátmérő: 250 mm-ig, külső csőátmérő: 110 mm WAVIN csatorna ív idom 87,5°, KGB 110x87°, CCI811 | D29: 2 | E29: db | F29: 0 | G29: 0 | H29: =ROUND(D29*F29, 0) -> 0 | I29: =ROUND(D29*G29, 0) -> 0
A30: 21 | B30: 53-001-32.1.1-0236131 | C30: Műanyag, tokos csatornacső idom beépítése földárokba, gumigyűrűs kötéssel, külső csőátmérő: 250 mm-ig, külső csőátmérő: 110 mm WAVIN csatorna ágidom 90°, KGEA 110/110, CCD1111 | D30: 3 | E30: db | F30: 0 | G30: 0 | H30: =ROUND(D30*F30, 0) -> 0 | I30: =ROUND(D30*G30, 0) -> 0
A31: 22 | B31: 53-001-32.1.1-0236211 | C31: Műanyag, tokos csatornacső idom beépítése földárokba, gumigyűrűs kötéssel, külső csőátmérő: 250 mm-ig, külső csőátmérő: 110 mm WAVIN csatorna tokelzáró idom, KGM 110, CCL11 | D31: 3 | E31: db | F31: 0 | G31: 0 | H31: =ROUND(D31*F31, 0) -> 0 | I31: =ROUND(D31*G31, 0) -> 0
A32: 23 | B32: 53-001-32.1.3-0236202 | C32: Műanyag, tokos csatornacső idom beépítése földárokba, gumigyűrűs kötéssel, külső csőátmérő: 250 mm-ig, külső csőátmérő: 150-160 mm WAVIN csatorna szűkítő idom, KGR 160/110, CCS1611 | D32: 1 | E32: db | F32: 0 | G32: 0 | H32: =ROUND(D32*F32, 0) -> 0 | I32: =ROUND(D32*G32, 0) -> 0
A33: 24 | B33: 53-001-32.1.4-0236064 | C33: Műanyag, tokos csatornacső idom beépítése földárokba, gumigyűrűs kötéssel, külső csőátmérő: 250 mm-ig, külső csőátmérő: 200 mm WAVIN csatorna áttoló karmantyú, KGU 200, CCA20 | D33: 1 | E33: db | F33: 0 | G33: 0 | H33: =ROUND(D33*F33, 0) -> 0 | I33: =ROUND(D33*G33, 0) -> 0
A34: 25 | B34: 53-001-32.1.4-0236204 | C34: Műanyag, tokos csatornacső idom beépítése földárokba, gumigyűrűs kötéssel, külső csőátmérő: 250 mm-ig, külső csőátmérő: 200 mm WAVIN csatorna szűkítő idom, KGR 200/160, CCS2016 | D34: 1 | E34: db | F34: 0 | G34: 0 | H34: =ROUND(D34*F34, 0) -> 0 | I34: =ROUND(D34*G34, 0) -> 0
A35: 26 | B35: 53-101-5.1.1.1-0120221 | C35: Ágyazatok készítése előre elkészített tükörben, vízépítési kőművek alá, osztályozott homokból vagy homokos kavicsból Nyers homokos kavics, NHK 0/125 Q-T, Bugyi | D35: 1.5 | E35: m3 | F35: 0 | G35: 0 | H35: =ROUND(D35*F35, 0) -> 0 | I35: =ROUND(D35*G35, 0) -> 0
A36: 27 | B36: 540160667233 | C36: Fűtési és vízvezeték szakaszos és hálózati nyomáspróbája vízzel, 200 mm külső Ø-ig | D36: 497 | E36: m | F36: 0 | G36: 0 | H36: =ROUND(D36*F36, 0) -> 0 | I36: =ROUND(D36*G36, 0) -> 0
A37: 80 Általános épületgépészeti szigetelés
A38: 28 | B38: 800011415922 | C38: Fűtési, HMV, HHV vezetékek szigetelése (ívek, idomok, szerelvények szigetelése és burkolás nélkül), szintetikus gumi alapú kaucsuk csőhéjjal csupasz kivitelben, ragasztással, öntapadó ragasztó szalag lezárással, NÁ 108 mm csőátmérőig Csőhéj, falvastagság: 13 mm, külső csőátmérő 35 mm | D38: 6 | E38: m | F38: 0 | G38: 0 | H38: =ROUND(D38*F38, 0) -> 0 | I38: =ROUND(D38*G38, 0) -> 0
A39: 29 | B39: 800011415934 | C39: Fűtési, HMV, HHV vezetékek szigetelése (ívek, idomok, szerelvények szigetelése és burkolás nélkül), szintetikus gumi alapú kaucsuk csőhéjjal csupasz kivitelben, ragasztással, öntapadó ragasztó szalag lezárással, NÁ 108 mm csőátmérőig Csőhéj, falvastagság: 13 mm, külső csőátmérő 42 mm | D39: 25 | E39: m | F39: 0 | G39: 0 | H39: =ROUND(D39*F39, 0) -> 0 | I39: =ROUND(D39*G39, 0) -> 0
A40: 30 | B40: 800011415951 | C40: Fűtési, HMV, HHV vezetékek szigetelése (ívek, idomok, szerelvények szigetelése és burkolás nélkül), szintetikus gumi alapú kaucsuk csőhéjjal csupasz kivitelben, ragasztással, öntapadó ragasztó szalag lezárással, NÁ 108 mm csőátmérőig Csőhéj, falvastagság: 13 mm, külső csőátmérő 54 mm | D40: 16 | E40: m | F40: 0 | G40: 0 | H40: =ROUND(D40*F40, 0) -> 0 | I40: =ROUND(D40*G40, 0) -> 0
A41: 81 Épületgépészeti csővezeték szerelése
A42: 31 | B42: 81-000-1.1.1 | C42: Csővezetékek bontása, horganyzott vagy fekete acélcsövek tartószerkezetről, vagy padlócsatornából lángvágással, deponálással, DN 50 méretig | D42: 500 | E42: m | F42: 0 | G42: 0 | H42: =ROUND(D42*F42, 0) -> 0 | I42: =ROUND(D42*G42, 0) -> 0
A43: 32 | B43: 81-001-1.3.3.1.1.2.1-0329477 | C43: Ivóvíz vezeték, Ötrétegű cső szerelése, PE-Xc/Al/PE-HD anyagból, préshüvelyes kötéssel, cső elhelyezése csőidomokkal, szakaszos nyomáspróbával, tartószerkezetre, DN 12 WAVIN Tigris K1 párazáró szigetelt ötrétegű cső tekercsben, 16x2,00 mm / 50 m, FFCSZPZ16 | D43: 20 | E43: m | F43: 0 | G43: 0 | H43: =ROUND(D43*F43, 0) -> 0 | I43: =ROUND(D43*G43, 0) -> 0
A44: 33 | B44: 81-001-1.3.3.1.2.1.1-0329561 | C44: Ivóvíz vezeték, Ötrétegű cső szerelése, PE-Xc/Al/PE-HD anyagból, préshüvelyes kötéssel, csőidomok és szerelvények elhelyezése, egycsatlakozású csőidomok préselt kötéssel, DN 12 WAVIN Tigris K1 falikorong belső menettel, 16x1/2", TTFB16 | D44: 1 | E44: db | F44: 0 | G44: 0 | H44: =ROUND(D44*F44, 0) -> 0 | I44: =ROUND(D44*G44, 0) -> 0
A45: 34 | B45: 81-002-2.1.1.2.1-0134608 | C45: PE polietilén lefolyócső szerelése csőtartókkal, szakaszos tömörségi próbával, szabadon vagy padlócsatornába 80 °C tartós, 95°C rövid ideig tartó hőmérséklet tűrésű, tompahegesztéses kötésekkel, csőátmérő DN 100 méret felett, csőidomokkal, DN 110 WAVIN QUICKSTREAM PE lefolyócső 110 mm, 5 m-es, BICS511 | D45: 1 | E45: db | F45: 0 | G45: 0 | H45: =ROUND(D45*F45, 0) -> 0 | I45: =ROUND(D45*G45, 0) -> 0
A46: 35 | B46: 81-002-3.2.1.1.1-0131002 | C46: PVC lefolyóvezeték szerelése, tokos, gumigyűrűs kötésekkel, cső elhelyezése csőidomokkal, tartószerkezettel, szakaszos tömörségi próbával, szabadon, DN 32 PIPELIFE PVC-U tokos lefolyócső 32x1,8x2000 mm, KAEM032/2M | D46: 10 | E46: m | F46: 0 | G46: 0 | H46: =ROUND(D46*F46, 0) -> 0 | I46: =ROUND(D46*G46, 0) -> 0
A47: 36 | B47: 81-004-1.5.1.1.1.1.2-0400472 | C47: Fűtési vezeték, Horganyzott szénacélcső szerelése, préselt csőkötésekkel, cső elhelyezése csőidomok nélkül, szakaszos nyomáspróbával, szabadon, horonyba vagy padlócsatornába, DN 12 - DN 50, DN 15 KAN-therm steel szénacél kívűl horganyzott cső, 18x1,2, Cikkszám: M6204616 | D47: 231 | E47: m | F47: 0 | G47: 0 | H47: =ROUND(D47*F47, 0) -> 0 | I47: =ROUND(D47*G47, 0) -> 0
A48: 37 | B48: 81-004-1.5.1.1.1.1.3-0400473 | C48: Fűtési vezeték, Horganyzott szénacélcső szerelése, préselt csőkötésekkel, cső elhelyezése csőidomok nélkül, szakaszos nyomáspróbával, szabadon, horonyba vagy padlócsatornába, DN 12 - DN 50, DN 20 KAN-therm steel szénacél kívűl horganyzott cső, 22x1,5, Cikkszám: M6204627 | D48: 50 | E48: m | F48: 0 | G48: 0 | H48: =ROUND(D48*F48, 0) -> 0 | I48: =ROUND(D48*G48, 0) -> 0
A49: 38 | B49: 81-004-1.5.1.1.1.1.4-0400474 | C49: Fűtési vezeték, Horganyzott szénacélcső szerelése, préselt csőkötésekkel, cső elhelyezése csőidomok nélkül, szakaszos nyomáspróbával, szabadon, horonyba vagy padlócsatornába, DN 12 - DN 50, DN 25 KAN-therm steel szénacél kívűl horganyzott cső, 28x1,5, Cikkszám: M6204638 | D49: 150 | E49: m | F49: 0 | G49: 0 | H49: =ROUND(D49*F49, 0) -> 0 | I49: =ROUND(D49*G49, 0) -> 0
A50: 39 | B50: 81-004-1.5.1.1.1.1.5-0400475 | C50: Fűtési vezeték, Horganyzott szénacélcső szerelése, préselt csőkötésekkel, cső elhelyezése csőidomok nélkül, szakaszos nyomáspróbával, szabadon, horonyba vagy padlócsatornába, DN 12 - DN 50, DN 32 KAN-therm steel szénacél kívűl horganyzott cső, 35x1,5, Cikkszám: M6204649 | D50: 100 | E50: m | F50: 0 | G50: 0 | H50: =ROUND(D50*F50, 0) -> 0 | I50: =ROUND(D50*G50, 0) -> 0
A51: 40 | B51: 81-004-1.5.1.1.1.1.6-0400476 | C51: Fűtési vezeték, Horganyzott szénacélcső szerelése, préselt csőkötésekkel, cső elhelyezése csőidomok nélkül, szakaszos nyomáspróbával, szabadon, horonyba vagy padlócsatornába, DN 12 - DN 50, DN 40 KAN-therm steel szénacél kívűl horganyzott cső, 42x1,5, Cikkszám: M6204651 | D51: 30 | E51: m | F51: 0 | G51: 0 | H51: =ROUND(D51*F51, 0) -> 0 | I51: =ROUND(D51*G51, 0) -> 0
A52: 41 | B52: 81-004-1.5.1.1.1.1.7-0400477 | C52: Fűtési vezeték, Horganyzott szénacélcső szerelése, préselt csőkötésekkel, cső elhelyezése csőidomok nélkül, szakaszos nyomáspróbával, szabadon, horonyba vagy padlócsatornába, DN 12 - DN 50, DN 50 KAN-therm steel szénacél kívűl horganyzott cső, 54x1,5, Cikkszám: M6204660 | D52: 16 | E52: m | F52: 0 | G52: 0 | H52: =ROUND(D52*F52, 0) -> 0 | I52: =ROUND(D52*G52, 0) -> 0
A53: 82 Épületgépészeti szerelvények és berendezések szerelése
A54: 42 | B54: 82-000-1.1.1 | C54: Szerelvények leszerelése, karimás szerelvények, DN 100 méretig | D54: 14 | E54: db | F54: 0 | G54: 0 | H54: =ROUND(D54*F54, 0) -> 0 | I54: =ROUND(D54*G54, 0) -> 0
A55: 43 | B55: 82-000-1.2.1 | C55: Szerelvények leszerelése, menetes szerelvények, DN 50 méretig | D55: 15 | E55: db | F55: 0 | G55: 0 | H55: =ROUND(D55*F55, 0) -> 0 | I55: =ROUND(D55*G55, 0) -> 0
A56: 44 | B56: 82-000-1.3.1 | C56: Szerelvények leszerelése, kazánházi szerelvények osztók vagy gyűjtők, idomacél tartószerkezettel | D56: 4 | E56: db | F56: 0 | G56: 0 | H56: =ROUND(D56*F56, 0) -> 0 | I56: =ROUND(D56*G56, 0) -> 0
A57: 45 | B57: 82-000-1.3.2 | C57: Szerelvények leszerelése, kazánházi szerelvények állványcsövek, huzatszabályozók, műszerek, csőkompenzátorok, DN 50 méretig | D57: 4 | E57: db | F57: 0 | G57: 0 | H57: =ROUND(D57*F57, 0) -> 0 | I57: =ROUND(D57*G57, 0) -> 0
A58: 46 | B58: 82-000-1.3.5 | C58: Szerelvények leszerelése, kazánházi szerelvények légedények, keverőedények | D58: 4 | E58: db | F58: 0 | G58: 0 | H58: =ROUND(D58*F58, 0) -> 0 | I58: =ROUND(D58*G58, 0) -> 0
A59: 47 | B59: 82-000-1.3.6 | C59: Szerelvények leszerelése, kazánházi szerelvények füstcsövek, cső és idomacél állványok | D59: 10 | E59: db | F59: 0 | G59: 0 | H59: =ROUND(D59*F59, 0) -> 0 | I59: =ROUND(D59*G59, 0) -> 0
A60: 48 | B60: 82-000-2 | C60: Gáz mérőhelyek szerelvényeinek leszerelése Gázmérő és gáznyomáscsökkentő szerelvény | D60: 3 | E60: db | F60: 0 | G60: 0 | H60: =ROUND(D60*F60, 0) -> 0 | I60: =ROUND(D60*G60, 0) -> 0
A61: 49 | B61: 82-000-4.2.1.2 | C61: Gáz- és fűtésszerelési berendezési tárgyak leszerelése, fűtésszerelési berendezési tárgyak kazánok 61-120 kW között | D61: 4 | E61: db | F61: 0 | G61: 0 | H61: =ROUND(D61*F61, 0) -> 0 | I61: =ROUND(D61*G61, 0) -> 0
A62: 50 | B62: 82-000-4.2.5.5 | C62: Gáz- és fűtésszerelési berendezési tárgyak leszerelése, fűtésszerelési berendezési tárgyak öntöttvas tagos radiátor, 11-20 tag között, szétszerelés nélkül | D62: 46 | E62: db | F62: 0 | G62: 0 | H62: =ROUND(D62*F62, 0) -> 0 | I62: =ROUND(D62*G62, 0) -> 0
A63: 51 | B63: 82-000-4.2.6 | C63: Gáz- és fűtésszerelési berendezési tárgyak leszerelése, fűtésszerelési berendezési tárgyak lapradiátorok | D63: 6 | E63: db | F63: 0 | G63: 0 | H63: =ROUND(D63*F63, 0) -> 0 | I63: =ROUND(D63*G63, 0) -> 0
A64: 52 | B64: 82-000-4.2.8 | C64: Gáz- és fűtésszerelési berendezési tárgyak leszerelése, fűtésszerelési berendezési tárgyak szaniter szivattyúk víz-fűtés | D64: 1 | E64: db | F64: 0 | G64: 0 | H64: =ROUND(D64*F64, 0) -> 0 | I64: =ROUND(D64*G64, 0) -> 0
A65: 53 | B65: 82-001-6.2.8-0110704 | C65: Egyoldalon menetes szerelvény elhelyezése, külső vagy belső menettel, illetve hollandival csatlakoztatva DN 15 légtelenítőszelep, kifolyó- és locsolószelep, töltőszelep MOFÉM kifolyószelep, tömlővéggel 1/2" sárgaréz, krómozott, 10 bar, Csz: 162-0001-00 | D65: 1 | E65: db | F65: 0 | G65: 0 | H65: =ROUND(D65*F65, 0) -> 0 | I65: =ROUND(D65*G65, 0) -> 0
... A115: 103 | B115: 820122373271 | C115: Acéllemez kompakt lapradiátor elhelyezése, széthordással, tartókkal, bekötéssel, 2 soros, 1600 mm felett, 600 mm PURMO C22 6001800, kompakt acéllemez lapradiátor 2 fűtőlappal, 2 konvektorlemezzel, burkolattal, 4 csonkkal, 600x1800 mm, 75/65/20°C, 3076W | D115: 5 | E115: db | F115: 0 | G115: 0 | H115: =ROUND(D115*F115, 0) -> 0 | I115: =ROUND(D115*G115, 0) -> 0
A116: 104 | C116: Acéllemez kompakt lapradiátor elhelyezése, széthordással, tartókkal, bekötéssel, 2 soros, 1600 mm felett, 600 mm PURMO C22 6001400, kompakt acéllemez lapradiátor 2 fűtőlappal, 2 konvektorlemezzel, burkolattal, 4 csonkkal, 600x1400 mm, 75/65/20°C, 2534W | D116: 2 | E116: db | F116: 0 | G116: 0 | H116: =ROUND(D116*F116, 0) -> 0 | I116: =ROUND(D116*G116, 0) -> 0
A117: 105 | B117: 820122373295 | C117: Acéllemez kompakt lapradiátor elhelyezése, széthordással, tartókkal, bekötéssel, 2 soros, 1600 mm felett, 600 mm PURMO C22 6002000, kompakt acéllemez lapradiátor 2 fűtőlappal, 2 konvektorlemezzel, burkolattal, 4 csonkkal, 600x2000 mm, 75/65/20°C, 3931W | D117: 3 | E117: db | F117: 0 | G117: 0 | H117: =ROUND(D117*F117, 0) -> 0 | I117: =ROUND(D117*G117, 0) -> 0
A118: 106 | B118: 820122374213 | C118: Acéllemez kompakt lapradiátor elhelyezése, széthordással, tartókkal, bekötéssel, 3 soros, 1600 mm-ig, 600 mm PURMO C33 600700, kompakt acéllemez lapradiátor 3 fűtőlappal, 3 konvektorlemezzel, burkolattal, 4 csonkkal, 600x700 mm, 75/65/20°C, 1649W | D118: 1 | E118: db | F118: 0 | G118: 0 | H118: =ROUND(D118*F118, 0) -> 0 | I118: =ROUND(D118*G118, 0) -> 0
A119: 107 | B119: 820122374225 | C119: Acéllemez kompakt lapradiátor elhelyezése, széthordással, tartókkal, bekötéssel, 3 soros, 1600 mm-ig, 600 mm PURMO C33 600800, kompakt acéllemez lapradiátor 3 fűtőlappal, 3 konvektorlemezzel, burkolattal, 4 csonkkal, 600x800 mm, 75/65/20°C, 1885W | D119: 18 | E119: db | F119: 0 | G119: 0 | H119: =ROUND(D119*F119, 0) -> 0 | I119: =ROUND(D119*G119, 0) -> 0
A120: 108 | B120: 820122374283 | C120: Acéllemez kompakt lapradiátor elhelyezése, széthordással, tartókkal, bekötéssel, 3 soros, 1600 mm-ig, 600 mm PURMO C33 6001400, kompakt acéllemez lapradiátor 3 fűtőlappal, 3 konvektorlemezzel, burkolattal, 4 csonkkal, 600x1400 mm, 75/65/20°C, 3770W | D120: 2 | E120: db | F120: 0 | G120: 0 | H120: =ROUND(D120*F120, 0) -> 0 | I120: =ROUND(D120*G120, 0) -> 0
A121: 109 | B121: 820122374942 | C121: Acéllemez kompakt lapradiátor elhelyezése, széthordással, tartókkal, bekötéssel, 3 soros, 1600 mm felett, 600 mm PURMO C33 6002300, kompakt acéllemez lapradiátor 3 fűtőlappal, 3 konvektorlemezzel, burkolattal, 4 csonkkal, 600x2300 mm, 75/65/20°C, 5419W | D121: 1 | E121: db | F121: 0 | G121: 0 | H121: =ROUND(D121*F121, 0) -> 0 | I121: =ROUND(D121*G121, 0) -> 0
A122: 110 | B122: 82-013-11.5-0363091 | C122: Elektromos kapcsoló-berendezések elhelyezése, elektromos bekötés nélkül, hőmérséklet kapcsoló (szobatermosztát) ARISTON - CUBE , vezetékes szobatermosztát LCD-kijelzővel, magyar nyelvű menüvel, BusBridge NET-kommunikáció a kazánnal, internetre csatlakoztatható, Cikkszám: 3319477 | D122: 3 | E122: db | F122: 0 | G122: 0 | H122: =ROUND(D122*F122, 0) -> 0 | I122: =ROUND(D122*G122, 0) -> 0
A123: 111 | B123: 82-013-15.1-0363089 | C123: Vízhőmérséklet érzékelő és tartozékai felszerelése, meglévő csonkba, elektromos bekötés nélkül ARISTON HMV/Puffer merülőhüvelyes érzékelő 6 m-es kábellel, Csz:3318962 | D123: 1 | E123: db | F123: 0 | G123: 0 | H123: =ROUND(D123*F123, 0) -> 0 | I123: =ROUND(D123*G123, 0) -> 0
A124: 112 | B124: 820161023144 | C124: Felirati táblák elhelyezése zománcozott egysoros 80x40-100x150 mm Zománc feliratos fémtábla, 1 soros 10x 5 cm | D124: 12 | E124: db | F124: 0 | G124: 0 | H124: =ROUND(D124*F124, 0) -> 0 | I124: =ROUND(D124*G124, 0) -> 0
A125: 113 | B125: 820161025534 | C125: Kazánház, illetve hőközpont beszabályozása, beüzemelése 45.441 - 69.780 W teljesítmény között | D125: 1 | E125: db | F125: 0 | G125: 0 | H125: =ROUND(D125*F125, 0) -> 0 | I125: =ROUND(D125*G125, 0) -> 0
A126: 114 | B126: 820161025580 | C126: Próbafűtés, radiátorok beszabályozása 45.441 - 69.780 W teljesítmény között | D126: 1 | E126: db | F126: 0 | G126: 0 | H126: =ROUND(D126*F126, 0) -> 0 | I126: =ROUND(D126*G126, 0) -> 0
C127: Fejezet összesen: | H127: =ROUND(SUM(H2:H126),0) -> 0 | I127: =ROUND(SUM(I2:I126),0) -> 0

Sheet 02 HŐSZIVATTYÚ
A1: Ssz. | B1: Tételszám | C1: Tétel szövege | D1: Menny. | E1: Egység | F1: Anyag egységár | G1: Díj egységre | H1: Anyag összesen | I1: Díj összesen
A2: 19 Költségtérítések
A3: 1 | B3: 19-010-1.11.3-0000001 | C3: Általános teendők megvalósulás szakaszában, Hőszivattyú primer oldal Fernox Antifreeze Protector Alphi-11 -18 Celsius fokos (35 V/V%) folyadékkel feltöltve | D3: 150 | E3: l | F3: 0 | G3: 0 | H3: =ROUND(D3*F3, 0) -> 0 | I3: =ROUND(D3*G3, 0) -> 0
A4: 23 Síkalapozás
A5: 2 | B5: 23-003-11.1-0112210 | C5: Szerelőbeton készítése, .....minőségű betonból 5 cm vastagságig C12/15-X0(H)-24-F2 minőségű betonból | D5: 0.66 | E5: m3 | F5: 0 | G5: 0 | H5: =ROUND(D5*F5, 0) -> 0 | I5: =ROUND(D5*G5, 0) -> 0
A6: 75 Megújuló energiahasznosító berendezések
A7: 3 | B7: 75-111-1.2.1.3-0270099 | C7: Levegő-víz hőszivattyúk elhelyezése kültérben, 7℃/35℃ hőmérséklet tartománynál, fűtés-hűtés vagy HMV-ellátásra, 10-20 kW teljesítmény között Nimbus pocket 120M-T NET.R32 12kW Monoblokk fűtő levegő-víz hőszivattyú, Qf=12 kW (+7°C-os külső és +35-tól +65°C-os előremenőnél), 1 fázisú, 6kW elektromos fűtés, energiaosztály fűtés: A++ Lightbox modullal | D7: 3 | E7: db | F7: 0 | G7: 0 | H7: =ROUND(D7*F7, 0) -> 0 | I7: =ROUND(D7*G7, 0) -> 0
A8: 4 | B8: 75-111-1.9.3-0345167 | C8: Levegő-víz hőszivattyúk beépítéshez szükséges tartozékok, elektromos tartozékok elhelyezése Kültéri egység beépíthető csepptálca fűtés kondenzátum gyűjtő tálcához 3 méter hosszú kábellel, Csz.: 3319087 | D8: 3 | E8: db | F8: 0 | G8: 0 | H8: =ROUND(D8*F8, 0) -> 0 | I8: =ROUND(D8*G8, 0) -> 0
A9: 5 | B9: 75-111-1.9.7-0270226 | C9: Levegő-víz hőszivattyúk beépítéshez szükséges tartozékok, installáció szerelése hőszivattyú kültéri kiegészítő kellék, kondenzvíz gyűjtő tálca, 3024383 | D9: 3 | E9: db | F9: 0 | G9: 0 | H9: =ROUND(D9*F9, 0) -> 0 | I9: =ROUND(D9*G9, 0) -> 0
A10: 6 | B10: 75-111-1.9.7-0345161 | C10: Levegő-víz hőszivattyúk beépítéshez szükséges tartozékok, installáció szerelése, Tartószerkezet hőszivattyú kültéri egységhez földön álló szereléshez, Tecnogas D12264HSZ-L/5 | D10: 3 | E10: db | F10: 0 | G10: 0 | H10: =ROUND(D10*F10, 0) -> 0 | I10: =ROUND(D10*G10, 0) -> 0
A11: 7 | B11: 75-111-1.9.6-0345186 | C11: Levegő-víz hőszivattyúk beépítéshez szükséges tartozékok, burkolat felhelyezése védő rács hőszivattyú kültéri egységhez | D11: 3 | E11: db | F11: 0 | G11: 0 | H11: =ROUND(D11*F11, 0) -> 0 | I11: =ROUND(D11*G11, 0) -> 0
A12: 8 | B12: 75-111-90 | C12: Hőszivattyús rendszer beszabályozása, beüzemelése | D12: 3 | E12: db | F12: 0 | G12: 0 | H12: =ROUND(D12*F12, 0) -> 0 | I12: =ROUND(D12*G12, 0) -> 0
C13: Fejezet összesen: | H13: =ROUND(SUM(H2:H12),0) -> 0 | I13: =ROUND(SUM(I2:I12),0) -> 0

Sheet 03 GÁZELLÁTÁS
A1: Ssz. | B1: Tételszám | C1: Tétel szövege | D1: Menny. | E1: Egység | F1: Anyag egységár | G1: Díj egységre | H1: Anyag összesen | I1: Díj összesen
A2: 19 Költségtérítések
A3: 1 | B3: 19-010-1.1.2 | C3: Általános teendők, tervezési és előkészítési szakaszban, tervkészítés | D3: 1 | E3: db | F3: 0 | G3: 0 | H3: =ROUND(D3*F3, 0) -> 0 | I3: =ROUND(D3*G3, 0) -> 0
A4: 2 | B4: 19-037-1.1 | C4: Kémények vizsgálata, huzatvizsgálat, tömörségi próba és alkalmassági szakvélemény(Kéményseprő V. számla) | D4: 1 | E4: db | F4: 0 | G4: 0 | H4: =ROUND(D4*F4, 0) -> 0 | I4: =ROUND(D4*G4, 0) -> 0
A5: 3 | B5: 19-081-11.2.1 | C5: Ellenőrző próbák készítése belső gázvezeték hálózatra, hálózat hatósági ellenőrzése és átvétele (Gázmű számla) | D5: 1 | E5: db | F5: 0 | G5: 0 | H5: =ROUND(D5*F5, 0) -> 0 | I5: =ROUND(D5*G5, 0) -> 0
A6: 54 Közműcsővezetékek és -szerelvények szerelése
A7: 4 | B7: 54-016-5.1 | C7: Gázvezeték szakaszos és hálózati tömörségi nyomáspróbája | D7: 24 | E7: m | F7: 0 | G7: 0 | H7: =ROUND(D7*F7, 0) -> 0 | I7: =ROUND(D7*G7, 0) -> 0
A8: 81 Épületgépészeti csővezeték szerelése
A9: 5 | B9: 81-003-1.1.1.1.1.4-0243022 | C9: Gázvezeték, Rézcső szerelése, préselt kötésekkel, cső elhelyezése csőidomokkal, szakaszos nyomáspróbával, szabadon, tartószerkezettel, DN 20 SUPERSAN félkemény vörösrézcső, F25 22 x 1 mm | D9: 6 | E9: m | F9: 0 | G9: 0 | H9: =ROUND(D9*F9, 0) -> 0 | I9: =ROUND(D9*G9, 0) -> 0
A10: 6 | B10: 81-003-1.1.1.1.1.5-0242628 | C10: Gázvezeték, Rézcső szerelése, préselt kötésekkel, cső elhelyezése csőidomokkal, szakaszos nyomáspróbával, szabadon, tartószerkezettel, DN 25 SANCO vörösrézcső, kemény, 28 x 1 mm, 5 m szálban | D10: 18 | E10: m | F10: 0 | G10: 0 | H10: =ROUND(D10*F10, 0) -> 0 | I10: =ROUND(D10*G10, 0) -> 0
A11: 7 | B11: 81-003-1.1.1.2.1.4-0245005 | C11: Gázvezeték, Rézcső szerelése, préselt kötésekkel, csőidomok elhelyezése, egy oldalon préselt kötéssel, DN 20 Viega Profipress G átm. idom km., kettős "V" préssel, SC-Contur-ral (bizt. kontúr), MOP5 - GT/1 köv. megfelelő, vörösöntv., 22x1/2", Csz.: 346164 | D11: 2 | E11: db | F11: 0 | G11: 0 | H11: =ROUND(D11*F11, 0) -> 0 | I11: =ROUND(D11*G11, 0) -> 0
A12: 8 | B12: 81-003-1.1.1.2.1.5-0245001 | C12: Gázvezeték, Rézcső szerelése, préselt kötésekkel, csőidomok elhelyezése, egy oldalon préselt kötéssel, DN 25 Viega Profipress G átm. idom km., kettős "V" préssel, SC-Contur-ral (bizt. kontúr), MOP5 - GT/1 köv. megfelelő, vörösöntv., 28x1", Csz.: 346287 | D12: 3 | E12: db | F12: 0 | G12: 0 | H12: =ROUND(D12*F12, 0) -> 0 | I12: =ROUND(D12*G12, 0) -> 0
A13: 9 | B13: 81-003-1.1.1.2.2.4-0245091 | C13: Gázvezeték, Rézcső szerelése, préselt kötésekkel, csőidomok elhelyezése, két oldalon préselt kötéssel, DN 20 Viega Profipress G ív, 90°, kettős "V" préssel, SC-Contur-ral (bizt. kontúr), MOP5 - GT/1 köv. megfelelő, vörösréz, 22, Csz.: 345488 | D13: 6 | E13: db | F13: 0 | G13: 0 | H13: =ROUND(D13*F13, 0) -> 0 | I13: =ROUND(D13*G13, 0) -> 0
A14: 10 | B14: 81-003-1.1.1.2.2.5-0245074 | C14: Gázvezeték, Rézcső szerelése, préselt kötésekkel, csőidomok elhelyezése, két oldalon préselt kötéssel, DN 25 Viega Profipress G szűkítő idom, kettős "V" préssel, SC-Contur-ral (bizt. kontúr), MOP5 - GT/1 köv. megfelelő, vörösréz, 28x22, Csz.: 346607 | D14: 1 | E14: db | F14: 0 | G14: 0 | H14: =ROUND(D14*F14, 0) -> 0 | I14: =ROUND(D14*G14, 0) -> 0
A15: 11 | B15: 81-003-1.1.1.2.2.5-0245092 | C15: Gázvezeték, Rézcső szerelése, préselt kötésekkel, csőidomok elhelyezése, két oldalon préselt kötéssel, DN 25 Viega Profipress G ív, 90°, kettős "V" préssel, SC-Contur-ral (bizt. kontúr), MOP5 - GT/1 köv. megfelelő, vörösréz, 28, Csz.: 345495 | D15: 10 | E15: db | F15: 0 | G15: 0 | H15: =ROUND(D15*F15, 0) -> 0 | I15: =ROUND(D15*G15, 0) -> 0
A16: 12 | B16: 81-003-1.1.1.2.3.5-0245111 | C16: Gázvezeték, Rézcső szerelése, préselt kötésekkel, csőidomok elhelyezése, három oldalon préselt kötéssel, DN 25 Viega Profipress G T-idom, kettős "V" préssel, SC-Contur-ral (bizt. kontúr), MOP5 - GT/1 köv. megfelelő, vörösréz, 28x22x28, Csz.: 346065 | D16: 1 | E16: db | F16: 0 | G16: 0 | H16: =ROUND(D16*F16, 0) -> 0 | I16: =ROUND(D16*G16, 0) -> 0
A17: 82 Épületgépészeti szerelvények és berendezések szerelése
A18: 13 | B18: 82-001-7.2.2-0116874 | C18: Kétoldalon menetes vagy roppantógyűrűs szerelvény elhelyezése, külső vagy belső menettel, illetve hollandival csatlakoztatva DN 15 gömbcsap, víz- és gázfőcsap EFFEBI VENUS teljesátömlésű golyóscsap, gázra, nikkelezett, PN 4, 60 ℃, fix kb 1/2" típ. Kód: EFFE-1022G264 | D18: 2 | E18: db | F18: 0 | G18: 0 | H18: =ROUND(D18*F18, 0) -> 0 | I18: =ROUND(D18*G18, 0) -> 0
A19: 14 | B19: 82-001-7.4.2-0116865 | C19: Kétoldalon menetes vagy roppantógyűrűs szerelvény elhelyezése, külső vagy belső menettel, illetve hollandival csatlakoztatva DN 25 gömbcsap, víz- és gázfőcsap EFFEBI VENUS teljesátömlésű golyóscsap, gázra, nikkelezett, PN 4, 60 ℃, bb 1" típ. Kód: EFFE-1001G206 | D19: 2 | E19: db | F19: 0 | G19: 0 | H19: =ROUND(D19*F19, 0) -> 0 | I19: =ROUND(D19*G19, 0) -> 0
A20: 15 | B20: 82-001-7.5.1-0341810 | C20: Kétoldalon menetes vagy roppantógyűrűs szerelvény elhelyezése, külső vagy belső menettel, illetve hollandival csatlakoztatva DN 32 szelepek, csappantyúk (szabályzó, fojtó-elzáró, beavatkozó) EKB-10 Egyedi kétfokozatú gáznyomásszabályozó | D20: 1 | E20: db | F20: 0 | G20: 0 | H20: =ROUND(D20*F20, 0) -> 0 | I20: =ROUND(D20*G20, 0) -> 0
A21: 16 | B21: 82-003-1.1.2-0421013 | C21: Gázmérő csatlakozás készítése, alaplemezzel, kétcsonkú mérőhöz DN 25 Fali szabályozó- és mérő szerelősín (védőszekrény nélkül), T21 SZ M kilépő: R1” menet tartozék: szerelősín, fejcsövek | D21: 1 | E21: db | F21: 0 | G21: 0 | H21: =ROUND(D21*F21, 0) -> 0 | I21: =ROUND(D21*G21, 0) -> 0
A22: 17 | B22: 82-011-1.1.2.1.2-0300060 | C22: Készülékek víz- vagy gázoldali bekötése, gázoldali bekötés, DN 15 FixTrend nyújtható bordáscső, gázra, 30-60cm, Lmax=44cm, 1/2”-1/2”KB, Y-G03000600DDMF | D22: 2 | E22: db | F22: 0 | G22: 0 | H22: =ROUND(D22*F22, 0) -> 0 | I22: =ROUND(D22*G22, 0) -> 0
A23: 18 | B23: 82-016-14.1.1-0363337 | C23: Füstgázelvezetés (csövek, idomok) elhelyezése zárt égésterű, fűtési és/vagy használati melegvízkészítő kazánok részére, felszerelve, szerelőkőműves munka nélkül, füstcsövek, 60/60, 60/100 mm ARISTON - elvezetőcső, alu/pps, Ø60/100 mm, 1 m, Cikkszám: 3318077 | D23: 2 | E23: db | F23: 0 | G23: 0 | H23: =ROUND(D23*F23, 0) -> 0 | I23: =ROUND(D23*G23, 0) -> 0
A24: 19 | B24: 82-016-14.1.1-0363338 | C24: Füstgázelvezetés (csövek, idomok) elhelyezése zárt égésterű, fűtési és/vagy használati melegvízkészítő kazánok részére, felszerelve, szerelőkőműves munka nélkül, füstcsövek, 60/60, 60/100 mm ARISTON - elvezetőcső, alu/pps, Ø60/100 mm, 0,5 m, Cikkszám: 3318078 | D24: 2 | E24: db | F24: 0 | G24: 0 | H24: =ROUND(D24*F24, 0) -> 0 | I24: =ROUND(D24*G24, 0) -> 0
A25: 20 | B25: 82-016-14.2.1.1-0363333 | C25: Füstgázelvezetés (csövek, idomok) elhelyezése zárt égésterű, fűtési és/vagy használati melegvízkészítő kazánok részére, felszerelve, szerelőkőműves munka nélkül, füstcsőidomok, kazáncsatlakozó 60/100 mm ARISTON - függőleges indítóidom, alu/pps, Ø60/100 mm, Cikkszám: 3318079 | D25: 2 | E25: db | F25: 0 | G25: 0 | H25: =ROUND(D25*F25, 0) -> 0 | I25: =ROUND(D25*G25, 0) -> 0
A26: 21 | B26: 82-016-14.2.2.1-0363335 | C26: Füstgázelvezetés (csövek, idomok) elhelyezése zárt égésterű, fűtési és/vagy használati melegvízkészítő kazánok részére, felszerelve, szerelőkőműves munka nélkül, füstcsőidomok, könyök vagy T-idom 60/60, 60/100 mm ARISTON - 45°-os könyökidom, alu/pps, Ø60/100 mm, (2 db/csomag), Cikkszám: 3318076 | D26: 2 | E26: db | F26: 0 | G26: 0 | H26: =ROUND(D26*F26, 0) -> 0 | I26: =ROUND(D26*G26, 0) -> 0
A27: 22 | B27: 82-016-14.2.4.1.1-0363336 | C27: Füstgázelvezetés (csövek, idomok) elhelyezése zárt égésterű, fűtési és/vagy használati melegvízkészítő kazánok részére, felszerelve, szerelőkőműves munka nélkül, füstcsőidomok, vizsgálóidomok, csappantyúk, toldók, egyenes idom 50, 60/100 mm ARISTON - egyenes tisztító idom, alu/pps, Ø60/100 mm, Cikkszám: 3318391 | D27: 2 | E27: db | F27: 0 | G27: 0 | H27: =ROUND(D27*F27, 0) -> 0 | I27: =ROUND(D27*G27, 0) -> 0
A28: 23 | B28: 82-016-14.2.5.2.1-0363362 | C28: Füstgázelvezetés (csövek, idomok) elhelyezése zárt égésterű, fűtési és/vagy használati melegvízkészítő kazánok részére, felszerelve, szerelőkőműves munka nélkül, füstcsőidomok, átvezetések, ferdetető 60/100 mm ARISTON - tetőátvezető idom, alu/pp, Ø80/125 mm (Ø60/100 mm szűkítővel), piros, Cikkszám: 3318081 | D28: 2 | E28: db | F28: 0 | G28: 0 | H28: =ROUND(D28*F28, 0) -> 0 | I28: =ROUND(D28*G28, 0) -> 0
A29: 24 | B29: 82-016-14.3.2-0363402 | C29: Füstgázelvezetés (csövek, idomok) elhelyezése zárt égésterű, fűtési és/vagy használati melegvízkészítő kazánok részére, felszerelve, szerelőkőműves munka nélkül, egyéb kiegészítő, tetőgallér ARISTON - tetőgallér ferde tetőre, piros, Cikkszám: 3318010 | D29: 2 | E29: db | F29: 0 | G29: 0 | H29: =ROUND(D29*F29, 0) -> 0 | I29: =ROUND(D29*G29, 0) -> 0
A30: 88 Rögzítések, tömítések
A31: 25 | B31: 88-011-2.1-0490314 | C31: Egyedi csövek oldalfali rögzítése vasbetonfal esetén,egyedi csővezeték közvetlen rögzítése vasbeton oldalfalra, 1/2" - 2" átmérő között MÜPRO DUO DAMMGULAST® zöld, M8/M10, 1/2" (20-25 mm), horganyzott, Cikkszám:142940 + 10 cm menetes szár, M8, 1000 mm, horganyzott, Cikkszám:113639 + acéldübel M8 x 30 mm, horganyzott, Cikkszám:129093 | D31: 4 | E31: db | F31: 0 | G31: 0 | H31: =ROUND(D31*F31, 0) -> 0 | I31: =ROUND(D31*G31, 0) -> 0
A32: 26 | B32: 88-011-2.1-0490316 | C32: Egyedi csövek oldalfali rögzítése vasbetonfal esetén,egyedi csővezeték közvetlen rögzítése vasbeton oldalfalra, 1/2" - 2" átmérő között MÜPRO DUO DAMMGULAST® zöld, M8/M10, 1" (33-37 mm), horganyzott, Cikkszám:142942 + 10 cm menetes szár, M8, 1000 mm, horganyzott, Cikkszám:113639 + acéldübel M8 x 30 mm, horganyzott, Cikkszám:129093 | D32: 12 | E32: db | F32: 0 | G32: 0 | H32: =ROUND(D32*F32, 0) -> 0 | I32: =ROUND(D32*G32, 0) -> 0
C33: Fejezet összesen: | H33: =ROUND(SUM(H2:H32),0) -> 0 | I33: =ROUND(SUM(I2:I32),0) -> 0

Sheet Elektromos munkanem összesítő
A1: Magyaralmás Iskola
A2: Elektromos munkanem összesítő
A3: Ssz. | B3: Megnevezés | C3: Anyagköltség | D3: Díjköltség | E3: Összesen
B4: Elektromos
A5: 01 | B5: Napelem | C5: =+'01 Napelem'!I21 -> 0 | D5: =+'01 Napelem'!J21 -> 0 | E5: =+C5+D5 -> 0
A6: 02 | B6: Betáp elosztó szekrény | C6: =+'02 Betáp elosztó szerkény'!J34 -> 0 | D6: =+'02 Betáp elosztó szerkény'!K34 -> 0 | E6: =+C6+D6 -> 0
A7: 03 | B7: EH0 elosztó szekrény | C7: =+'03 EH0 elosztó szekrény'!J15 -> 0 | D7: =+'03 EH0 elosztó szekrény'!K15 -> 0 | E7: =+C7+D7 -> 0
A8: 04 | B8: Villámvédelem | C8: =+'04 Villámvédelem'!H19 -> 0 | D8: =+'04 Villámvédelem'!I19 -> 0 | E8: =+C8+D8 -> 0
B9: Összesen (HUF) | C9: =SUM(C5:C8) -> 0 | D9: =SUM(D5:D8) -> 0 | E9: =SUM(E5:E8) -> 0

Sheet 01 Napelem
A1: Ssz. | B1: Azonosító | C1: Megnevezés | D1: Típus | E1: Menny. | F1: Egys. | G1: Anyagár | H1: Óradij | I1: xAnyagár | J1: xÓradij
A3: 1 | B3: K72-101-1 | C3: Tartószerkezet tetőszerkezethez rögzítve kompletten rögzítéshez szükséges segédanyagokkal (89 db napelem részére, terv szerinti rögzítéséhez) | E3: 1 | F3: klt | G3: 0 | H3: 0 | I3: =$E3*G3 -> 0 | J3: =$E3*H3 -> 0
A4: 2 | B4: K72-101-2 | C4: Napelem modul | D4: Luxor ECO LINE HALF CELL M132/660W | E4: 89 | F4: db | G4: 0 | H4: 0 | I4: =$E4*G4 -> 0 | J4: =$E4*H4 -> 0
A5: 3 | B5: K72-101-3 | C5: Szolár kábel 32-es UV álló védőcsőben | D5: Solarflex H1Z2Z2-K 6 * 1*6mm2 | E5: 1020 | F5: fm | G5: 0 | H5: 0 | I5: =$E5*G5 -> 0 | J5: =$E5*H5 -> 0
A6: 4 | B6: K72-101-4 | C6: Inverter | D6: HUAWEI SUN2000-50KTL-M3 | E6: 1 | F6: db | G6: 0 | H6: 0 | I6: =$E6*G6 -> 0 | J6: =$E6*H6 -> 0
A7: 5 | B7: K72-101-5 | C7: Szakaszolható olvadóbiztosíték | D7: Schneider Acti 9 STI A9N15651 | E7: 6 | F7: db | G7: 0 | H7: 0 | I7: =$E7*G7 -> 0 | J7: =$E7*H7 -> 0
A8: 6 | B8: K72-101-6 | C8: DC elosztó szekrény | D8: Schneider 13433 2/24 | E8: 1 | F8: db | G8: 0 | H8: 0 | I8: =$E8*G8 -> 0 | J8: =$E8*H8 -> 0
A9: 7 | B9: K72-101-7 | C9: AC oldali csatlakozó szekrény | D9: Schneider EZ9EUC118 | E9: 1 | F9: db | G9: 0 | H9: 0 | I9: =$E9*G9 -> 0 | J9: =$E9*H9 -> 0
A10: 8 | B10: K72-101-8 | C10: AC oldali csatlakozás | D10: H05VV-F 5*25mm2 (MT) | E10: 20 | F10: fm | G10: 0 | H10: 0 | I10: =$E10*G10 -> 0 | J10: =$E10*H10 -> 0
A11: 9 | B11: K72-101-9 | C11: AC oldali túlterhelés- és zárlatvédelem | D11: SCHNEIDER A9N18372 4P C80A | E11: 1 | F11: db | G11: 0 | H11: 0 | I11: =$E11*G11 -> 0 | J11: =$E11*H11 -> 0
A12: 10 | B12: K72-101-10 | C12: AC oldali túlterhelés- és zárlatvédelem | D12: SCHNEIDER A9F04216 2P C16A | E12: 1 | F12: db | G12: 0 | H12: 0 | I12: =$E12*G12 -> 0 | J12: =$E12*H12 -> 0
A13: 11 | B13: K72-101-11 | C13: AC oldali túlfeszültségkorlátozó | D13: SCHNEIDER A9L16482 ACTI9 iPRD1 | E13: 1 | F13: db | G13: 0 | H13: 0 | I13: =$E13*G13 -> 0 | J13: =$E13*H13 -> 0
A14: 12 | B14: K72-101-12 | C14: AC oldali leválasztó kapcsoló | D14: HAGER HAC408 80A | E14: 1 | F14: db | G14: 0 | H14: 0 | I14: =$E14*G14 -> 0 | J14: =$E14*H14 -> 0
A15: 13 | B15: K72-101-13 | C15: Bypass dióda | E15: 3 | F15: db | G15: 0 | H15: 0 | I15: =$E15*G15 -> 0 | J15: =$E15*H15 -> 0
A16: 14 | B16: K72-101-14 | C16: Szolgáltató felé történő ügyintézés | E16: 1 | F16: db | G16: 0 | H16: 0 | I16: =$E16*G16 -> 0 | J16: =$E16*H16 -> 0
A17: 15 | B17: K72-101-15 | C17: Tűzvédelmi főkapcsoló | D17: SANTON DFS-14 | E17: 4 | F17: db | G17: 0 | H17: 0 | I17: =$E17*G17 -> 0 | J17: =$E17*H17 -> 0
A18: 16 | B18: K72-101-16 | C18: Hálózatfejlesztés költségei kompletten (bővítés, csatlakozás) | E18: 1 | F18: db | G18: 0 | H18: 0 | I18: =$E18*G18 -> 0 | J18: =$E18*H18 -> 0
A19: 17 | B19: K72-101-17 | C19: DC oldali szakaszolható olvadóbiztosító aljzat | D19: Schneider A9L20200, 2P, 25A | E19: 6 | F19: db | G19: 0 | H19: 0 | I19: =$E19*G19 -> 0 | J19: =$E19*H19 -> 0
A20: 18 | B20: K72-101-18 | C20: DC oldali túlfeszültség levezető | D20: Schneider A9N15651, 2P | E20: 6 | F20: db | G20: 0 | H20: 0 | I20: =$E20*G20 -> 0 | J20: =$E20*H20 -> 0
C21: Mindösszesen: | I21: =SUM(I3:I20) -> 0 | J21: =SUM(J3:J20) -> 0

Sheet 02 Betáp elosztó szerkény
A1: Ssz. | B1: Azonosító | C1: Tervjel | D1: Megnevezés | E1: Típus | F1: Menny. | G1: Egys. | H1: Anyagár | I1: Óradij | J1: xAnyagár | K1: xÓradij
A2: 1 | B2: K72-102-1 | D2: Megvalósulási tervdokumentáció | F2: 1 | G2: klt | H2: 0 | I2: 0 | J2: =$F2*H2 -> 0 | K2: =$F2*I2 -> 0
A3: 2 | B3: K72-102-2 | C3: X0 | D3: 4-es sorkapocs kék | E3: Weidmüller WDU BL 1020180000 | F3: 1 | G3: db | H3: 0 | I3: 0 | J3: =$F3*H3 -> 0 | K3: =$F3*I3 -> 0
A4: 3 | B4: K72-102-3 | C4: X0 | D4: 4-es sorkapocs beige | E4: Weidmüller WDU 1020100000 | F4: 3 | G4: db | H4: 0 | I4: 0 | J4: =$F4*H4 -> 0 | K4: =$F4*I4 -> 0
A5: 4 | B5: K72-102-4 | C5: X0 | D5: 4-es sorkapocs zöld-sárga | E5: Weidmüller WPE 4 1010100000 | F5: 4 | G5: db | H5: 0 | I5: 0 | J5: =$F5*H5 -> 0 | K5: =$F5*I5 -> 0
A6: 5 | B6: K72-102-5 | C6: X0 | D6: 2,5-es sorkapocs kék | E6: Weidmüller WDU 2,5 BL 1020080000 | F6: 12 | G6: db | H6: 0 | I6: 0 | J6: =$F6*H6 -> 0 | K6: =$F6*I6 -> 0
A7: 6 | B7: K72-102-6 | C7: X0 | D7: 2,5-es sorkapocs beige | E7: Weidmüller WDU 1020000000 | F7: 18 | G7: db | H7: 0 | I7: 0 | J7: =$F7*H7 -> 0 | K7: =$F7*I7 -> 0
A8: 7 | B8: K72-102-7 | C8: U1 | D8: Túlfeszültség védő | E8: Weidmüller, VPU AC II 3+1 300/50 2591080000 | F8: 1 | G8: db | H8: 0 | I8: 0 | J8: =$F8*H8 -> 0 | K8: =$F8*I8 -> 0
A9: 8 | B9: K72-102-8 | C9: HL1-3 | D9: LED-es jelzőlámpa fehér 230V | E9: Schneider XB5-AVM1 | F9: 3 | G9: db | H9: 0 | I9: 0 | J9: =$F9*H9 -> 0 | K9: =$F9*I9 -> 0
A10: 9 | B10: K72-102-9 | C10: FI1 | D10: FI relé | E10: Schneider A9Z21425 25A, 30mA | F10: 3 | G10: db | H10: 0 | I10: 0 | J10: =$F10*H10 -> 0 | K10: =$F10*I10 -> 0
A11: 10 | B11: K72-102-10 | C11: FI2-4 | D11: FI relé | E11: Schneider A9Z21225 25A, 30mA | F11: 9 | G11: db | H11: 0 | I11: 0 | J11: =$F11*H11 -> 0 | K11: =$F11*I11 -> 0
A12: 11 | B12: K72-102-11 | C12: F0 | D12: C25A 3P kismegszakító | E12: Schneider A9F04325 | F12: 1 | G12: db | H12: 0 | I12: 0 | J12: =$F12*H12 -> 0 | K12: =$F12*I12 -> 0
A13: 12 | B13: K72-102-12 | C13: F6-8 | D13: C16A 3P kismegszakító | E13: Schneider A9F04316 | F13: 4 | G13: db | H13: 0 | I13: 0 | J13: =$F13*H13 -> 0 | K13: =$F13*I13 -> 0
A14: 13 | B14: K72-102-13 | C14: F3-4 | D14: C1A 1P kismegszakító | E14: Schneider A9F04101 | F14: 2 | G14: db | H14: 0 | I14: 0 | J14: =$F14*H14 -> 0 | K14: =$F14*I14 -> 0
... A17: 16 | B17: K72-102-16 | C17: F9-11 | D17: C10A 1P kismegszakító | E17: Schneider A9F04110 | F17: 3 | G17: db | H17: 0 | I17: 0 | J17: =$F17*H17 -> 0 | K17: =$F17*I17 -> 0
A18: 17 | B18: K72-102-17 | D18: Szekrény szerelési anyagokkal | E18: Rittal AX1058.000 | F18: 1 | G18: db | H18: 0 | I18: 0 | J18: =$F18*H18 -> 0 | K18: =$F18*I18 -> 0
A19: 18 | B19: K72-102-18 | D19: Kábelcső | F19: 100 | G19: fm | H19: 0 | I19: 0 | J19: =$F19*H19 -> 0 | K19: =$F19*I19 -> 0
A20: 19 | B20: K72-102-19 | D20: Kábelrögzítő | F20: 60 | G20: db | H20: 0 | I20: 0 | J20: =$F20*H20 -> 0 | K20: =$F20*I20 -> 0
A21: 20 | B21: K72-102-20 | C21: WEEH1 | D21: Kábel, PVC szigetelésű réz vezetővel | E21: NYY-J 5x4 | F21: 35 | G21: fm | H21: 0 | I21: 0 | J21: =$F21*H21 -> 0 | K21: =$F21*I21 -> 0
A22: 21 | B22: K72-102-21 | C22: WE6-8 | D22: Kábel, PVC szigetelésű réz vezetővel | E22: NYY-J 5x2,5 | F22: 5 | G22: fm | H22: 0 | I22: 0 | J22: =$F22*H22 -> 0 | K22: =$F22*I22 -> 0
A23: 22 | B23: K72-102-22 | C23: WE6B-8B | D23: Kábel, PVC szigetelésű réz vezetővel | E23: H07RNF 5x2,5 | F23: 6.5 | G23: fm | H23: 0 | I23: 0 | J23: =$F23*H23 -> 0 | K23: =$F23*I23 -> 0
A24: 23 | B24: K72-102-23 | C24: WE1-5, WE9-12 | D24: Kábel, PVC szigetelésű réz vezetővel | E24: NYY-J 3x1,5 | F24: 21.5 | G24: fm | H24: 0 | I24: 0 | J24: =$F24*H24 -> 0 | K24: =$F24*I24 -> 0
A25: 24 | B25: K72-102-24 | C25: WTk, WSzt1-2 | D25: Kábel, PVC szigetelésű réz vezetővel | E25: YSLCY-Oz 4x1 | F25: 45 | G25: fm | H25: 0 | I25: 0 | J25: =$F25*H25 -> 0 | K25: =$F25*I25 -> 0
A26: 25 | B26: K72-102-25 | D26: Tömszelence | E26: PG29 | F26: 1 | G26: db | H26: 0 | I26: 0 | J26: =$F26*H26 -> 0 | K26: =$F26*I26 -> 0
A27: 26 | B27: K72-102-26 | D27: Tömszelence | E27: PG16 | F27: 3 | G27: db | H27: 0 | I27: 0 | J27: =$F27*H27 -> 0 | K27: =$F27*I27 -> 0
A28: 27 | B28: K72-102-27 | D28: Tömszelence | E28: PG11 | F28: 8 | G28: db | H28: 0 | I28: 0 | J28: =$F28*H28 -> 0 | K28: =$F28*I28 -> 0
A29: 28 | B29: K72-102-28 | D29: kalapsín | F29: 20 | G29: fm | H29: 0 | I29: 0 | J29: =$F29*H29 -> 0 | K29: =$F29*I29 -> 0
A30: 29 | B30: K72-102-29 | D30: Réz földelő sín | F30: 1 | G30: fm | H30: 0 | I30: 0 | J30: =$F30*H30 -> 0 | K30: =$F30*I30 -> 0
A31: 30 | B31: K72-102-30 | D31: Mogzásérzékelős kültéri lámpa | E31: Rábalux Varna (8135) | F31: 2 | G31: db | H31: 0 | I31: 0 | J31: =$F31*H31 -> 0 | K31: =$F31*I31 -> 0
A32: 31 | B32: K72-102-31 | D32: Mogzásérzékelős lámpa kábelezés horonymarással, helyreállítással | E32: Kábel, PVC szigetelésű réz vezetővel NYY-J 3x1,5 | F32: 40 | G32: fm | H32: 0 | I32: 0 | J32: =$F32*H32 -> 0 | K32: =$F32*I32 -> 0
A33: 32 | B33: K72-102-32 | D33: Kültéri 4P terheléskapcsoló | E33: APATOR 4G10-92-PK | F33: 3 | G33: db | H33: 0 | I33: 0 | J33: =$F33*H33 -> 0 | K33: =$F33*I33 -> 0
J34: =SUM(J2:J33) -> 0 | K34: =SUM(K2:K33) -> 0

Sheet 03 EH0 elosztó szekrény
A1: Ssz. | B1: Azonosító | C1: Tervjel | D1: Megnevezés | E1: Típus | F1: Menny. | G1: Egys. | H1: Anyagár | I1: Óradij | J1: xAnyagár | K1: xÓradij
A3: 1 | B3: K72-103-1 | C3: U1 | D3: Túlfeszültség védő T1+T2 | E3: Weidmüller, VPU I 4 280V/12,5kA 1352180000 | F3: 1 | G3: db | H3: 0 | I3: 0 | J3: =$F3*H3 -> 0 | K3: =$F3*I3 -> 0
A4: 2 | B4: K72-103-2 | C4: S0 | D4: Tűzvédelmi főkapcsoló | E4: Schneider VCF4 | F4: 1 | G4: db | H4: 0 | I4: 0 | J4: =$F4*H4 -> 0 | K4: =$F4*I4 -> 0
A5: 3 | B5: K72-103-3 | C5: F0 | D5: Szakaszoló 100A | E5: Schneider LV480800 | F5: 1 | G5: db | H5: 0 | I5: 0 | J5: =$F5*H5 -> 0 | K5: =$F5*I5 -> 0
A6: 4 | B6: K72-103-4 | C6: F0 | D6: Biztósító betét | E6: NH000 80A | F6: 3 | G6: db | H6: 0 | I6: 0 | J6: =$F6*H6 -> 0 | K6: =$F6*I6 -> 0
A7: 5 | B7: K72-103-5 | C7: F1, F3 | D7: C25A 3P kismegszakító | E7: Schneider A9F04325 | F7: 2 | G7: db | H7: 0 | I7: 0 | J7: =$F7*H7 -> 0 | K7: =$F7*I7 -> 0
A8: 6 | B8: K72-103-6 | C8: F2 | D8: B80A 3P kismegszakító | E8: Schneider A9N18424 | F8: 1 | G8: db | H8: 0 | I8: 0 | J8: =$F8*H8 -> 0 | K8: =$F8*I8 -> 0
A9: 7 | B9: K72-103-7 | C9: EH0 | D9: Lemez kapcsolószekrény | E9: RITTAL AX 1039.000 | F9: 1 | G9: db | H9: 0 | I9: 0 | J9: =$F9*H9 -> 0 | K9: =$F9*I9 -> 0
A10: 8 | B10: K72-103-8 | D10: Kábelcső falba horonymarással, helyreállítással | F10: 2 | G10: fm | H10: 0 | I10: 0 | J10: =$F10*H10 -> 0 | K10: =$F10*I10 -> 0
A11: 9 | B11: K72-103-9 | C11: WEME | D11: Kábel, PVC szigetelésű réz vezetővel | E11: NYY-J 5x6mm2 | F11: 2 | G11: fm | H11: 0 | I11: 0 | J11: =$F11*H11 -> 0 | K11: =$F11*I11 -> 0
A12: 10 | B12: K72-103-10 | C12: WEEH1 | D12: Kábel, PVC szigetelésű réz vezetővel | E12: NYY-J 5x4mm2 | F12: Betáp elosztó terv tartalmazza
A13: 11 | B13: K72-103-11 | C13: WEPV | D13: Kábel, PVC szigetelésű réz vezetővel | E13: MT H05VVF 5x25mm2 | F13: Napelemes terv tartalmazza
D15: Mindösszesen: | J15: =SUM(J3:J14) -> 0 | K15: =SUM(K3:K14) -> 0

Sheet 04 Villámvédelem
A1: Ssz. | B1: Azonosító | C1: Megnevezés | D1: Menny. | E1: Egys. | F1: Anyagár | G1: Óradij | H1: xAnyagár | I1: xÓradij
A3: 1 | B3: K72-104-1 | C3: Gépi földmunka | D3: 80 | E3: fm | F3: 0 | G3: 0 | H3: =$D3*F3 -> 0 | I3: =$D3*G3 -> 0
A4: 2 | B4: K72-104-2 | C4: 10mm horganyzott köracél földelő összekötő | D4: 80 | E4: fm | F4: 0 | G4: 0 | H4: =$D4*F4 -> 0 | I4: =$D4*G4 -> 0
A5: 3 | B5: K72-104-3 | C5: 10mm horganyzott köracél felfogó összekötő | D5: 25 | E5: fm | F5: 0 | G5: 0 | H5: =$D5*F5 -> 0 | I5: =$D5*G5 -> 0
A6: 4 | B6: K72-104-4 | C6: Levezető köracél | D6: 20 | E6: fm | F6: 0 | G6: 0 | H6: =$D6*F6 -> 0 | I6: =$D6*G6 -> 0
A7: 5 | B7: K72-104-5 | C7: 1m felfogó rúd kúpcserépre tartóval | D7: 5 | E7: db | F7: 0 | G7: 0 | H7: =$D7*F7 -> 0 | I7: =$D7*G7 -> 0
A8: 6 | B8: K72-104-6 | C8: 3m keresztföldelő szonda | D8: 4 | E8: db | F8: 0 | G8: 0 | H8: =$D8*F8 -> 0 | I8: =$D8*G8 -> 0
A9: 7 | B9: K72-104-7 | C9: Levezető mechanikai védelem 2 méteres | D9: 10 | E9: db | F9: 0 | G9: 0 | H9: =$D9*F9 -> 0 | I9: =$D9*G9 -> 0
A10: 8 | B10: K72-104-8 | C10: Levezető tartó kup cserépre | D10: 120 | E10: db | F10: 0 | G10: 0 | H10: =$D10*F10 -> 0 | I10: =$D10*G10 -> 0
A11: 9 | B11: K72-104-9 | C11: Cserép tartó | D11: 45 | E11: db | F11: 0 | G11: 0 | H11: =$D11*F11 -> 0 | I11: =$D11*G11 -> 0
A12: 10 | B12: K72-104-10 | C12: Korozzió védő szallag | D12: 3 | E12: db | F12: 0 | G12: 0 | H12: =$D12*F12 -> 0 | I12: =$D12*G12 -> 0
A13: 11 | B13: K72-104-11 | C13: Mérési jegyzőkönyv | D13: 1 | E13: db | F13: 0 | G13: 0 | H13: =$D13*F13 -> 0 | I13: =$D13*G13 -> 0
A14: 12 | B14: K72-104-12 | C14: Köracél toldó | D14: 20 | E14: db | F14: 0 | G14: 0 | H14: =$D14*F14 -> 0 | I14: =$D14*G14 -> 0
... A18: 16 | B18: K72-104-16 | C18: villámvédelmi összekötő kapocs 8-10 mm JPröpster 2100 | D18: 4 | E18: db | F18: 0 | G18: 0 | H18: =$D18*F18 -> 0 | I18: =$D18*G18 -> 0
C19: Mindösszesen: | H19: =SUM(H3:H18) -> 0 | I19: =SUM(I3:I18) -> 0
